View In:
ArcGIS JavaScript
ArcGIS Online Map Viewer
ArcGIS Earth
Service Description: Lidar/Bare_Earth_2015
Name: Lidar/Bare_Earth_2015
Description:
Single Fused Map Cache: false
Extent:
XMin: 389399.6780000031
YMin: 124199.90379999949
XMax: 408600.24920000357
YMax: 148200.46539999917
Spatial Reference: 26985
(26985)
LatestVCSWkid(0)
Initial Extent:
XMin: 389399.6780000031
YMin: 124199.90379999949
XMax: 408600.24920000357
YMax: 148200.46539999917
Spatial Reference: 26985
(26985)
LatestVCSWkid(0)
Full Extent:
XMin: 389399.6780000031
YMin: 124199.90379999949
XMax: 408600.24920000357
YMax: 148200.46539999917
Spatial Reference: 26985
(26985)
LatestVCSWkid(0)
Pixel Size X: 0.609600000000015
Pixel Size Y: 0.6095999999999919
Band Count: 1
Pixel Type: F32
RasterFunction Infos: {"rasterFunctionInfos": [{
"name": "None",
"description": "",
"help": ""
}]}
Mensuration Capabilities: Basic
Inspection Capabilities:
Has Histograms: true
Has Colormap: false
Has Multi Dimensions : false
Rendering Rule:
Min Scale: 0
Max Scale: 0
Copyright Text:
Service Data Type: esriImageServiceDataTypeGeneric
Min Values: -45.735000610352
Max Values: 131.96499633789
Mean Values: 40.066237818254
Standard Deviation Values: 32.108128149193
Object ID Field:
Fields:
None
Default Mosaic Method: Center
Allowed Mosaic Methods:
SortField:
SortValue: null
Mosaic Operator: First
Default Compression Quality: 75
Default Resampling Method: Bilinear
Max Record Count: null
Max Image Height: 4100
Max Image Width: 15000
Max Download Image Count: null
Max Mosaic Image Count: null
Allow Raster Function: true
Allow Copy: true
Allow Analysis: true
Allow Compute TiePoints: false
Supports Statistics: false
Supports Advanced Queries: false
Use StandardizedQueries: true
Raster Type Infos:
Name: Raster Dataset
Description: Supports all ArcGIS Raster Datasets
Help:
Has Raster Attribute Table: false
Edit Fields Info: null
Ownership Based AccessControl For Rasters: null
Child Resources:
Info
Histograms
Statistics
Key Properties
Legend
Raster Function Infos
Supported Operations:
Export Image
Identify
Measure
Compute Histograms
Compute Statistics Histograms
Get Samples
Compute Class Statistics
Query Boundary
Compute Pixel Location
Compute Angles
Validate
Project