View In:
ArcGIS JavaScript
ArcGIS Online Map Viewer
ArcGIS Earth
Service Description: The dataset is the estimate of a tree’s critical root zone, which can not be impacted beyond certain limits. Buffer distances are calculated for trees on all land types in the District that will be used for tree preservation planning purposes.
Name: UFD/Critical_Root_Zone_2023
Description: The dataset is the estimate of a tree’s critical root zone, which can not be impacted beyond certain limits. Buffer distances are calculated for trees on all land types in the District that will be used for tree preservation planning purposes.
Single Fused Map Cache: false
Extent:
XMin: -8584968.156003112
YMin: 4693494.896592624
XMax: -8547025.156003112
YMax: 4737453.896592624
Spatial Reference: 102100
(3857)
LatestVCSWkid(0)
Initial Extent:
XMin: -8584968.156003112
YMin: 4693494.896592624
XMax: -8547025.156003112
YMax: 4737453.896592624
Spatial Reference: 102100
(3857)
LatestVCSWkid(0)
Full Extent:
XMin: -8584968.156003112
YMin: 4693494.896592624
XMax: -8547025.156003112
YMax: 4737453.896592624
Spatial Reference: 102100
(3857)
LatestVCSWkid(0)
Pixel Size X: 1.0
Pixel Size Y: 1.0
Band Count: 1
Pixel Type: U4
RasterFunction Infos: {"rasterFunctionInfos": [{
"name": "None",
"description": "",
"help": ""
}]}
Mensuration Capabilities: Basic
Inspection Capabilities:
Has Histograms: true
Has Colormap: false
Has Multi Dimensions : false
Rendering Rule:
Min Scale: 0
Max Scale: 0
Copyright Text:
Service Data Type: esriImageServiceDataTypeGeneric
Min Values: 2
Max Values: 2
Mean Values: 2
Standard Deviation Values: 0
Object ID Field:
Fields:
None
Default Mosaic Method: Center
Allowed Mosaic Methods:
SortField:
SortValue: null
Mosaic Operator: First
Default Compression Quality: 75
Default Resampling Method: Bilinear
Max Record Count: null
Max Image Height: 75000
Max Image Width: 75000
Max Download Image Count: null
Max Mosaic Image Count: null
Allow Raster Function: true
Allow Copy: true
Allow Analysis: true
Allow Compute TiePoints: false
Supports Statistics: false
Supports Advanced Queries: false
Use StandardizedQueries: true
Raster Type Infos:
Name: Raster Dataset
Description: Supports all ArcGIS Raster Datasets
Help:
Has Raster Attribute Table: true
Edit Fields Info: null
Ownership Based AccessControl For Rasters: null
Child Resources:
Info
Raster Attribute Table
Histograms
Statistics
Key Properties
Legend
Raster Function Infos
Supported Operations:
Export Image
Identify
Measure
Compute Histograms
Compute Statistics Histograms
Get Samples
Compute Class Statistics
Query Boundary
Compute Pixel Location
Compute Angles
Validate
Project