The dataset is the estimate of a tree\u2019s critical root zone, which can not be impacted beyond certain limits. Buffer distances are calculated for trees on all land types in the District that will be used for tree preservation planning purposes.<\/SPAN><\/P><\/DIV><\/DIV>",
"name": "UFD/Critical_Root_Zone_2023",
"description": "The dataset is the estimate of a tree\u2019s critical root zone, which can not be impacted beyond certain limits. Buffer distances are calculated for trees on all land types in the District that will be used for tree preservation planning purposes.<\/SPAN><\/P><\/DIV><\/DIV>",
"extent": {
"xmin": -8584968.156003112,
"ymin": 4693494.896592624,
"xmax": -8547025.156003112,
"ymax": 4737453.896592624,
"spatialReference": {
"wkid": 102100,
"latestWkid": 3857
}
},
"initialExtent": {
"xmin": -8584968.156003112,
"ymin": 4693494.896592624,
"xmax": -8547025.156003112,
"ymax": 4737453.896592624,
"spatialReference": {
"wkid": 102100,
"latestWkid": 3857
}
},
"fullExtent": {
"xmin": -8584968.156003112,
"ymin": 4693494.896592624,
"xmax": -8547025.156003112,
"ymax": 4737453.896592624,
"spatialReference": {
"wkid": 102100,
"latestWkid": 3857
}
},
"sortableFields": "",
"bandCount": 1,
"pixelType": "U4",
"minValues": [
2
],
"maxValues": [
2
],
"meanValues": [
2
],
"stdvValues": [
0
],
"serviceProperties": "Center<\/MosaicMethod>First<\/MosaicOperator>true<\/SortAscending><\/LockImageID><\/TileOrderField>0<\/TileOrderBase>0.000000<\/AvgImageSpacingX>0.000000<\/AvgImageSpacingY>0.0<\/ViewPointX>0.0<\/ViewPointY>0.0<\/ViewPointDefShiftX>0.0<\/ViewPointDefShiftY>None<\/CompressionMethod>75<\/CompressionQuality>0.010000<\/CompressionTolerance>Bilinear<\/SamplingMethod><\/ImageServiceProperties><\/ImageServer>",
"allowedFields": "",
"hasMultidimensions": false,
"pixelSizeX": 1,
"pixelSizeY": 1,
"meanPixelSize": 1,
"datasetFormat": "FGDBR",
"uncompressedSize": 833968169,
"blockWidth": 128,
"blockHeight": 128,
"compressionType": "LZ77",
"bandNames": [
"Band_1"
],
"allowCopy": true,
"allowAnalysis": true,
"itemAccess": false,
"inspectionCapabilities": "",
"minPixelSize": 0,
"maxPixelSize": 0,
"copyrightText": "",
"serviceDataType": "esriImageServiceDataTypeGeneric",
"serviceSourceType": "esriImageServiceSourceTypeDataset",
"objectIdField": "",
"fields": [],
"capabilities": "Image,Metadata,Mensuration",
"defaultMosaicMethod": "Center",
"allowedMosaicMethods": "",
"sortField": "",
"sortValue": null,
"sortAscending": true,
"mosaicOperator": "First",
"defaultCompressionQuality": 75,
"defaultResamplingMethod": "Bilinear",
"maxImageHeight": 75000,
"maxImageWidth": 75000,
"allowRasterFunction": true,
"rasterFunctionInfos": [
{
"name": "None",
"description": "",
"help": ""
}
],
"rasterTypeInfos": [
{
"name": "Raster Dataset",
"description": "Supports all ArcGIS Raster Datasets",
"help": ""
}
],
"mensurationCapabilities": "Basic",
"hasHistograms": true,
"hasColormap": false,
"hasRasterAttributeTable": true,
"minScale": 0,
"maxScale": 0,
"exportTilesAllowed": false,
"supportsStatistics": false,
"supportsAdvancedQueries": false,
"editFieldsInfo": null,
"ownershipBasedAccessControlForRasters": null,
"allowComputeTiePoints": false,
"useStandardizedQueries": true,
"advancedQueryCapabilities": {
"useStandardizedQueries": true,
"supportsStatistics": false,
"supportsOrderBy": false,
"supportsDistinct": false,
"supportsPagination": false
},
"spatialReference": {
"wkid": 102100,
"latestWkid": 3857
}
}