View In:
ArcGIS JavaScript
ArcGIS Online Map Viewer
ArcGIS Earth
Service Description: UFD/Washington_DC_Pleiades_2020_1m
Name: UFD/Washington_DC_Pleiades_2020_1m
Description:
Single Fused Map Cache: false
Extent:
XMin: 315762.5
YMin: 4294993.5
XMax: 334916.5
YMax: 4318930.5
Spatial Reference: 26918
(26918)
LatestVCSWkid(0)
Initial Extent:
XMin: 315762.5
YMin: 4294993.5
XMax: 334916.5
YMax: 4318930.5
Spatial Reference: 26918
(26918)
LatestVCSWkid(0)
Full Extent:
XMin: 315762.5
YMin: 4294993.5
XMax: 334916.5
YMax: 4318930.5
Spatial Reference: 26918
(26918)
LatestVCSWkid(0)
Pixel Size X: 1.0
Pixel Size Y: 1.0
Band Count: 4
Pixel Type: U8
RasterFunction Infos: {"rasterFunctionInfos": [{
"name": "None",
"description": "",
"help": ""
}]}
Mensuration Capabilities: Basic
Inspection Capabilities:
Has Histograms: true
Has Colormap: false
Has Multi Dimensions : false
Rendering Rule:
Min Scale: 0
Max Scale: 0
Copyright Text:
Service Data Type: esriImageServiceDataTypeGeneric
Min Values: 1, 1, 1, 1
Max Values: 255, 255, 255, 255
Mean Values: 71.775092805632, 77.638736794596, 72.620266660428, 121.36267243758
Standard Deviation Values: 36.133912138776, 34.695256990757, 32.766910702222, 46.861452817575
Object ID Field:
Fields:
None
Default Mosaic Method: Center
Allowed Mosaic Methods:
SortField:
SortValue: null
Mosaic Operator: First
Default Compression Quality: 75
Default Resampling Method: Bilinear
Max Record Count: null
Max Image Height: 4100
Max Image Width: 15000
Max Download Image Count: null
Max Mosaic Image Count: null
Allow Raster Function: true
Allow Copy: true
Allow Analysis: true
Allow Compute TiePoints: false
Supports Statistics: false
Supports Advanced Queries: false
Use StandardizedQueries: true
Raster Type Infos:
Name: Raster Dataset
Description: Supports all ArcGIS Raster Datasets
Help:
Has Raster Attribute Table: false
Edit Fields Info: null
Ownership Based AccessControl For Rasters: null
Child Resources:
Info
Histograms
Statistics
Key Properties
Legend
Raster Function Infos
Supported Operations:
Export Image
Identify
Measure
Compute Histograms
Compute Statistics Histograms
Get Samples
Compute Class Statistics
Query Boundary
Compute Pixel Location
Compute Angles
Validate
Project