View In:
ArcGIS JavaScript
ArcGIS Online Map Viewer
ArcGIS Earth
Service Description: UFD/Urban_Tree_Canopy_2020
Name: UFD/Urban_Tree_Canopy_2020
Description:
Single Fused Map Cache: false
Extent:
XMin: 316168.5
YMin: 4295533.5
XMax: 334523.5
YMax: 4318405.5
Spatial Reference: 26918
(26918)
LatestVCSWkid(0)
Initial Extent:
XMin: 316168.5
YMin: 4295533.5
XMax: 334523.5
YMax: 4318405.5
Spatial Reference: 26918
(26918)
LatestVCSWkid(0)
Full Extent:
XMin: 316168.5
YMin: 4295533.5
XMax: 334523.5
YMax: 4318405.5
Spatial Reference: 26918
(26918)
LatestVCSWkid(0)
Pixel Size X: 1.0
Pixel Size Y: 1.0
Band Count: 1
Pixel Type: U8
RasterFunction Infos: {"rasterFunctionInfos": [{
"name": "None",
"description": "",
"help": ""
}]}
Mensuration Capabilities: Basic
Inspection Capabilities:
Has Histograms: true
Has Colormap: true
Has Multi Dimensions : false
Rendering Rule:
Min Scale: 0
Max Scale: 0
Copyright Text:
Service Data Type: esriImageServiceDataTypeGeneric
Min Values: 101
Max Values: 199
Mean Values: 120.48716733365
Standard Deviation Values: 27.851114793901
Object ID Field:
Fields:
None
Default Mosaic Method: Center
Allowed Mosaic Methods:
SortField:
SortValue: null
Mosaic Operator: First
Default Compression Quality: 75
Default Resampling Method: Bilinear
Max Record Count: null
Max Image Height: 4100
Max Image Width: 15000
Max Download Image Count: null
Max Mosaic Image Count: null
Allow Raster Function: true
Allow Copy: true
Allow Analysis: true
Allow Compute TiePoints: false
Supports Statistics: false
Supports Advanced Queries: false
Use StandardizedQueries: true
Raster Type Infos:
Name: Raster Dataset
Description: Supports all ArcGIS Raster Datasets
Help:
Has Raster Attribute Table: true
Edit Fields Info: null
Ownership Based AccessControl For Rasters: null
Child Resources:
Info
Raster Attribute Table
Histograms
Statistics
Key Properties
Color Map
Legend
Raster Function Infos
Supported Operations:
Export Image
Identify
Measure
Compute Histograms
Compute Statistics Histograms
Get Samples
Compute Class Statistics
Query Boundary
Compute Pixel Location
Compute Angles
Validate
Project