View In:
ArcGIS JavaScript
ArcGIS Online Map Viewer
ArcGIS Earth
Service Description: UFD/Cyclo_Wires_Height
Name: UFD/Cyclo_Wires_Height
Description:
Single Fused Map Cache: false
Extent:
XMin: 390075.87349999696
YMin: 127294.09899999946
XMax: 407833.87349999696
YMax: 147489.09899999946
Spatial Reference: 26985
(26985)
LatestVCSWkid(0)
Initial Extent:
XMin: 390075.87349999696
YMin: 127294.09899999946
XMax: 407833.87349999696
YMax: 147489.09899999946
Spatial Reference: 26985
(26985)
LatestVCSWkid(0)
Full Extent:
XMin: 390075.87349999696
YMin: 127294.09899999946
XMax: 407833.87349999696
YMax: 147489.09899999946
Spatial Reference: 26985
(26985)
LatestVCSWkid(0)
Pixel Size X: 0.5
Pixel Size Y: 0.5
Band Count: 1
Pixel Type: S32
RasterFunction Infos: {"rasterFunctionInfos": [{
"name": "None",
"description": "",
"help": ""
}]}
Mensuration Capabilities: Basic
Inspection Capabilities:
Has Histograms: true
Has Colormap: false
Has Multi Dimensions : false
Rendering Rule:
Min Scale: 0
Max Scale: 0
Copyright Text:
Service Data Type: esriImageServiceDataTypeGeneric
Min Values: 0
Max Values: 19
Mean Values: 8.29712808496252
Standard Deviation Values: 2.9210088813484982
Object ID Field:
Fields:
None
Default Mosaic Method: Center
Allowed Mosaic Methods:
SortField:
SortValue: null
Mosaic Operator: First
Default Compression Quality: 75
Default Resampling Method: Bilinear
Max Record Count: null
Max Image Height: 4100
Max Image Width: 15000
Max Download Image Count: null
Max Mosaic Image Count: null
Allow Raster Function: true
Allow Copy: true
Allow Analysis: true
Allow Compute TiePoints: false
Supports Statistics: false
Supports Advanced Queries: false
Use StandardizedQueries: true
Raster Type Infos:
Name: Raster Dataset
Description: Supports all ArcGIS Raster Datasets
Help:
Has Raster Attribute Table: true
Edit Fields Info: null
Ownership Based AccessControl For Rasters: null
Child Resources:
Info
Raster Attribute Table
Histograms
Statistics
Key Properties
Legend
Raster Function Infos
Supported Operations:
Export Image
Identify
Measure
Compute Histograms
Compute Statistics Histograms
Get Samples
Compute Class Statistics
Query Boundary
Compute Pixel Location
Compute Angles
Validate
Project