View In:
ArcGIS JavaScript
ArcGIS Online Map Viewer
ArcGIS Earth
Service Description: 2025 Orthophoto - 3 inch resolution: This document describes the processes used to create the orthoimagery data produced for the District of Columbia from 2025 digital aerial photography. It was flown on March 27th 2025. The aerial imagery acquisition was flown to support the creation of 4-band digital orthophotography with a 3 inch/0.08 meter pixel resolution over the full project area covering the District of Columbia which is approximately 69 square miles. The contractor received waivers to fly in the Flight Restricted Zone (FRZ) and P-56 areas. The ortho imagery was submitted to DC OCTO in GeoTiff/TFW format tiles following the tile scheme provided by OCTO. MrSID and JPEG2000 compressed mosaics were delivered as well using a 50:1 compression ratio.
Name: Ortho/Ortho_2025
Description: 2025 Orthophoto - 3 inch resolution: This document describes the processes used to create the orthoimagery data produced for the District of Columbia from 2025 digital aerial photography. It was flown on March 27th 2025. The aerial imagery acquisition was flown to support the creation of 4-band digital orthophotography with a 3 inch/0.08 meter pixel resolution over the full project area covering the District of Columbia which is approximately 69 square miles. The contractor received waivers to fly in the Flight Restricted Zone (FRZ) and P-56 areas. The ortho imagery was submitted to DC OCTO in GeoTiff/TFW format tiles following the tile scheme provided by OCTO. MrSID and JPEG2000 compressed mosaics were delivered as well using a 50:1 compression ratio.
Single Fused Map Cache: false
Extent:
XMin: 389400.0
YMin: 124200.0
XMax: 408600.0
YMax: 148200.0
Spatial Reference: 26985
(26985)
LatestVCSWkid(0)
Initial Extent:
XMin: 389400.0
YMin: 124200.0
XMax: 408600.0
YMax: 148200.0
Spatial Reference: 26985
(26985)
LatestVCSWkid(0)
Full Extent:
XMin: 389400.0
YMin: 124200.0
XMax: 408600.0
YMax: 148200.0
Spatial Reference: 26985
(26985)
LatestVCSWkid(0)
Pixel Size X: 0.08
Pixel Size Y: 0.08
Band Count: 4
Pixel Type: U8
RasterFunction Infos: {"rasterFunctionInfos": [{
"name": "None",
"description": "",
"help": ""
}]}
Mensuration Capabilities: Basic
Inspection Capabilities:
Has Histograms: true
Has Colormap: false
Has Multi Dimensions : false
Rendering Rule:
Min Scale: 0
Max Scale: 0
Copyright Text: Office of the Chief Technology Officer
Service Data Type: esriImageServiceDataTypeGeneric
Min Values: 0, 0, 0, 0
Max Values: 255, 255, 255, 255
Mean Values: 90.46100411319259, 97.44987773800955, 94.26174021083376, 160.46571786849694
Standard Deviation Values: 55.24196552173003, 50.26824497400055, 47.27813657402874, 58.73645546428023
Object ID Field: OBJECTID
Fields:
-
OBJECTID
(
type: esriFieldTypeOID, alias: OBJECTID
)
-
Shape
(
type: esriFieldTypeGeometry, alias: Shape
)
-
Name
(
type: esriFieldTypeString, alias: Name, length: 200
)
-
MinPS
(
type: esriFieldTypeDouble, alias: MinPS
)
-
MaxPS
(
type: esriFieldTypeDouble, alias: MaxPS
)
-
LowPS
(
type: esriFieldTypeDouble, alias: LowPS
)
-
HighPS
(
type: esriFieldTypeDouble, alias: HighPS
)
-
Category
(
type: esriFieldTypeInteger, alias: Category
, Coded Values:
[0: Unknown]
, [1: Primary]
, [2: Overview]
, ...6 more...
)
-
Tag
(
type: esriFieldTypeString, alias: Tag, length: 100
)
-
GroupName
(
type: esriFieldTypeString, alias: GroupName, length: 100
)
-
ProductName
(
type: esriFieldTypeString, alias: ProductName, length: 100
)
-
CenterX
(
type: esriFieldTypeDouble, alias: CenterX
)
-
CenterY
(
type: esriFieldTypeDouble, alias: CenterY
)
-
ZOrder
(
type: esriFieldTypeInteger, alias: ZOrder
)
-
Shape_Length
(
type: esriFieldTypeDouble, alias: Shape_Length
)
-
Shape_Area
(
type: esriFieldTypeDouble, alias: Shape_Area
)
Default Mosaic Method: Northwest
Allowed Mosaic Methods: NorthWest,Center,LockRaster,ByAttribute,Nadir,Viewpoint,Seamline,None
SortField:
SortValue: null
Mosaic Operator: First
Default Compression Quality: 75
Default Resampling Method: Bilinear
Max Record Count: 1000
Max Image Height: 4100
Max Image Width: 15000
Max Download Image Count: 20
Max Mosaic Image Count: 20
Allow Raster Function: true
Allow Copy: true
Allow Analysis: true
Allow Compute TiePoints: false
Supports Statistics: true
Supports Advanced Queries: true
Use StandardizedQueries: true
Raster Type Infos:
Name: Raster Dataset
Description: Supports all ArcGIS Raster Datasets
Help:
Has Raster Attribute Table: false
Edit Fields Info: null
Ownership Based AccessControl For Rasters: null
Child Resources:
Info
Histograms
Statistics
Key Properties
Legend
Raster Function Infos
Supported Operations:
Export Image
Query
Identify
Download Rasters
Get Image Url
Compute Histograms
Compute Statistics Histograms
Get Samples
Compute Class Statistics
Query GPS Info
Find Images
Image to Map
Map to Image
Measure from Image
Image to Map Multiray
Query Boundary
Compute Pixel Location
Compute Angles
Validate
Project