View In:
ArcGIS JavaScript
ArcGIS Online Map Viewer
ArcGIS Earth
Service Description: 2009 Aerial Photography (1 foot resolution) - Sector Tiles Pictometry provided as part of the 2009 photo capture were exported to tiff and provided as a raster catalog. An Ortho Sector Tile is typically a 1 foot GSD ortho mosaic tile covering a 1-square mile area that is created by deresolving the best available orthogonal images captured. Images are not radiometrically balanced, may have observable cut lines and could consist of imagery taken over a period of several days. Note - Print at your own risk, the images have seamlines between some tiles and the Pictometry logo is in the southeast corner of every tile. All DC GIS data is stored and exported in Maryland State Plane coordinates NAD 83 meters.
Name: Ortho/Ortho_2009
Description: 2009 Aerial Photography (1 foot resolution) - Sector Tiles Pictometry provided as part of the 2009 photo capture were exported to tiff and provided as a raster catalog. An Ortho Sector Tile is typically a 1 foot GSD ortho mosaic tile covering a 1-square mile area that is created by deresolving the best available orthogonal images captured. Images are not radiometrically balanced, may have observable cut lines and could consist of imagery taken over a period of several days. Note - Print at your own risk, the images have seamlines between some tiles and the Pictometry logo is in the southeast corner of every tile. All DC GIS data is stored and exported in Maryland State Plane coordinates NAD 83 meters.
Single Fused Map Cache: false
Extent:
XMin: 389481.534154585
YMin: 124899.060166535
XMax: 408923.545864045
YMax: 149037.744475485
Spatial Reference: 26985
(26985)
LatestVCSWkid(0)
Initial Extent:
XMin: 389481.534154585
YMin: 124899.060166535
XMax: 408923.545864045
YMax: 149037.744475485
Spatial Reference: 26985
(26985)
LatestVCSWkid(0)
Full Extent:
XMin: 389481.534154585
YMin: 124899.060166535
XMax: 408923.545864045
YMax: 149037.744475485
Spatial Reference: 26985
(26985)
LatestVCSWkid(0)
Pixel Size X: 0.30480060999999997
Pixel Size Y: 0.30480061
Band Count: 3
Pixel Type: U8
RasterFunction Infos: {"rasterFunctionInfos": [{
"name": "None",
"description": "",
"help": ""
}]}
Mensuration Capabilities: Basic
Inspection Capabilities:
Has Histograms: true
Has Colormap: false
Has Multi Dimensions : false
Rendering Rule:
Min Scale: 0
Max Scale: 0
Copyright Text: Office of the Chief of Technology Officer
Service Data Type: esriImageServiceDataTypeRGB
Min Values: 0, 0, 0
Max Values: 255, 255, 255
Mean Values: 58.790189767624376, 62.87930250888818, 52.0077217305259
Standard Deviation Values: 65.97237900461181, 67.41633074944474, 57.139018731641535
Object ID Field: OBJECTID
Fields:
-
OBJECTID
(
type: esriFieldTypeOID, alias: OBJECTID
)
-
Shape
(
type: esriFieldTypeGeometry, alias: Shape
)
-
Name
(
type: esriFieldTypeString, alias: Name, length: 200
)
-
MinPS
(
type: esriFieldTypeDouble, alias: MinPS
)
-
MaxPS
(
type: esriFieldTypeDouble, alias: MaxPS
)
-
LowPS
(
type: esriFieldTypeDouble, alias: LowPS
)
-
HighPS
(
type: esriFieldTypeDouble, alias: HighPS
)
-
Category
(
type: esriFieldTypeInteger, alias: Category
, Coded Values:
[0: Unknown]
, [1: Primary]
, [2: Overview]
, ...6 more...
)
-
Tag
(
type: esriFieldTypeString, alias: Tag, length: 100
)
-
GroupName
(
type: esriFieldTypeString, alias: GroupName, length: 100
)
-
ProductName
(
type: esriFieldTypeString, alias: ProductName, length: 100
)
-
CenterX
(
type: esriFieldTypeDouble, alias: CenterX
)
-
CenterY
(
type: esriFieldTypeDouble, alias: CenterY
)
-
ZOrder
(
type: esriFieldTypeInteger, alias: ZOrder
)
-
Shape_Length
(
type: esriFieldTypeDouble, alias: Shape_Length
)
-
Shape_Area
(
type: esriFieldTypeDouble, alias: Shape_Area
)
Default Mosaic Method: Northwest
Allowed Mosaic Methods: NorthWest,Center,LockRaster,ByAttribute,Nadir,Viewpoint,Seamline,None
SortField:
SortValue: null
Mosaic Operator: First
Default Compression Quality: 75
Default Resampling Method: Bilinear
Max Record Count: 1000
Max Image Height: 4100
Max Image Width: 15000
Max Download Image Count: 20
Max Mosaic Image Count: 20
Allow Raster Function: true
Allow Copy: true
Allow Analysis: true
Allow Compute TiePoints: false
Supports Statistics: true
Supports Advanced Queries: true
Use StandardizedQueries: true
Raster Type Infos:
Name: Raster Dataset
Description: Supports all ArcGIS Raster Datasets
Help:
Has Raster Attribute Table: false
Edit Fields Info: null
Ownership Based AccessControl For Rasters: null
Child Resources:
Info
Histograms
Statistics
Key Properties
Legend
Raster Function Infos
Supported Operations:
Export Image
Query
Identify
Download Rasters
Get Image Url
Compute Histograms
Compute Statistics Histograms
Get Samples
Compute Class Statistics
Query GPS Info
Find Images
Image to Map
Map to Image
Measure from Image
Image to Map Multiray
Query Boundary
Compute Pixel Location
Compute Angles
Validate
Project