View In:
ArcGIS JavaScript
ArcGIS Online Map Viewer
ArcGIS Earth
Service Description: Lidar/First_Return_2004
Name: Lidar/First_Return_2004
Description:
Single Fused Map Cache: false
Extent:
XMin: 388113.707
YMin: 123376.928
XMax: 409381.707
YMax: 149058.928
Spatial Reference: 26985
(26985)
LatestVCSWkid(0)
Initial Extent:
XMin: 388113.707
YMin: 123376.928
XMax: 409381.707
YMax: 149058.928
Spatial Reference: 26985
(26985)
LatestVCSWkid(0)
Full Extent:
XMin: 388113.707
YMin: 123376.928
XMax: 409381.707
YMax: 149058.928
Spatial Reference: 26985
(26985)
LatestVCSWkid(0)
Pixel Size X: 1.0
Pixel Size Y: 1.0000000000000007
Band Count: 1
Pixel Type: F32
RasterFunction Infos: {"rasterFunctionInfos": [{
"name": "None",
"description": "",
"help": ""
}]}
Mensuration Capabilities: Basic
Inspection Capabilities:
Has Histograms: true
Has Colormap: false
Has Multi Dimensions : false
Rendering Rule:
Min Scale: 0
Max Scale: 0
Copyright Text:
Service Data Type: esriImageServiceDataTypeGeneric
Min Values: -12
Max Values: 195.82000732422
Mean Values: 46.68824920949
Standard Deviation Values: 35.123090335982
Object ID Field:
Fields:
None
Default Mosaic Method: Center
Allowed Mosaic Methods:
SortField:
SortValue: null
Mosaic Operator: First
Default Compression Quality: 75
Default Resampling Method: Bilinear
Max Record Count: null
Max Image Height: 4100
Max Image Width: 15000
Max Download Image Count: null
Max Mosaic Image Count: null
Allow Raster Function: true
Allow Copy: true
Allow Analysis: true
Allow Compute TiePoints: false
Supports Statistics: false
Supports Advanced Queries: false
Use StandardizedQueries: true
Raster Type Infos:
Name: Raster Dataset
Description: Supports all ArcGIS Raster Datasets
Help:
Has Raster Attribute Table: false
Edit Fields Info: null
Ownership Based AccessControl For Rasters: null
Child Resources:
Info
Histograms
Statistics
Key Properties
Legend
Raster Function Infos
Supported Operations:
Export Image
Identify
Measure
Compute Histograms
Compute Statistics Histograms
Get Samples
Compute Class Statistics
Query Boundary
Compute Pixel Location
Compute Angles
Validate
Project