{ "currentVersion": 11.5, "serviceDescription": "

The dataset is the estimate of a tree\u2019s critical root zone, which can not be impacted beyond certain limits. Buffer distances are calculated for trees on all land types in the District that will be used for tree preservation planning purposes.<\/SPAN><\/P>
DC 2022 LiDAR was used and processed using the \u201cExtract Trees using Cluster Analysis\u201d script which is included as part of Esri\u2019s 3D Basemap solution. <\/SPAN><\/P>
The extracted tree data set was merged with the UFA tree inventory data, with preference given to the UFA tree inventory data. All LiDAR-derived trees within 2 meters of a UFA tree were removed as being duplicates. <\/SPAN><\/P>
Tree diameter (DBH, in inches) was estimated for the LiDAR-derived trees from calculated tree height (in feet) based on the equation: DBH = 0.4003*height - 1.9557. This equation was derived from a statistical analysis of a detailed park inventory tree data set and has an R^2 = 0.7418.<\/SPAN><\/P>
Extreme outliers were also modified, with any DBH larger than 80 inches being converted to a DBH of 80 inches.<\/SPAN><\/P>
Critical Root Zone (CRZ) was calculated as a buffer of 1.5 feet for every inch of DBH, whereas Structural Root Zone (SRZ) was calculated as a buffer of 0.5 feet for every inch of DBH.<\/SPAN><\/P><\/DIV><\/DIV>", "name": "UFD/Critical_Root_Zone", "description": "

The dataset is the estimate of a tree\u2019s critical root zone, which can not be impacted beyond certain limits. Buffer distances are calculated for trees on all land types in the District that will be used for tree preservation planning purposes.<\/SPAN><\/P>
DC 2022 LiDAR was used and processed using the \u201cExtract Trees using Cluster Analysis\u201d script which is included as part of Esri\u2019s 3D Basemap solution. <\/SPAN><\/P>
The extracted tree data set was merged with the UFA tree inventory data, with preference given to the UFA tree inventory data. All LiDAR-derived trees within 2 meters of a UFA tree were removed as being duplicates. <\/SPAN><\/P>
Tree diameter (DBH, in inches) was estimated for the LiDAR-derived trees from calculated tree height (in feet) based on the equation: DBH = 0.4003*height - 1.9557. This equation was derived from a statistical analysis of a detailed park inventory tree data set and has an R^2 = 0.7418.<\/SPAN><\/P>
Extreme outliers were also modified, with any DBH larger than 80 inches being converted to a DBH of 80 inches.<\/SPAN><\/P>
Critical Root Zone (CRZ) was calculated as a buffer of 1.5 feet for every inch of DBH, whereas Structural Root Zone (SRZ) was calculated as a buffer of 0.5 feet for every inch of DBH.<\/SPAN><\/P><\/DIV><\/DIV>", "extent": { "xmin": -8584903.928862875, "ymin": 4693516.746135288, "xmax": -8561509.928862875, "ymax": 4721062.746135288, "spatialReference": { "wkid": 102100, "latestWkid": 3857 } }, "initialExtent": { "xmin": -8584903.928862875, "ymin": 4693516.746135288, "xmax": -8561509.928862875, "ymax": 4721062.746135288, "spatialReference": { "wkid": 102100, "latestWkid": 3857 } }, "fullExtent": { "xmin": -8584903.928862875, "ymin": 4693516.746135288, "xmax": -8561509.928862875, "ymax": 4721062.746135288, "spatialReference": { "wkid": 102100, "latestWkid": 3857 } }, "sortableFields": "", "bandCount": 1, "pixelType": "U1", "minValues": [ 1 ], "maxValues": [ 1 ], "meanValues": [ 1 ], "stdvValues": [ 0 ], "serviceProperties": "Center<\/MosaicMethod>First<\/MosaicOperator>true<\/SortAscending><\/LockImageID><\/TileOrderField>0<\/TileOrderBase>0.000000<\/AvgImageSpacingX>0.000000<\/AvgImageSpacingY>0.0<\/ViewPointX>0.0<\/ViewPointY>0.0<\/ViewPointDefShiftX>0.0<\/ViewPointDefShiftY>None<\/CompressionMethod>75<\/CompressionQuality>0.010000<\/CompressionTolerance>Bilinear<\/SamplingMethod><\/ImageServiceProperties><\/ImageServer>", "allowedFields": "", "hasMultidimensions": false, "pixelSizeX": 1, "pixelSizeY": 1, "meanPixelSize": 1, "datasetFormat": "FGDBR", "uncompressedSize": 80551391, "blockWidth": 128, "blockHeight": 128, "compressionType": "LZ77", "bandNames": [ "Band_1" ], "allowCopy": true, "allowAnalysis": true, "itemAccess": false, "inspectionCapabilities": "", "minPixelSize": 0, "maxPixelSize": 0, "copyrightText": "DDOT Urban Forestry", "serviceDataType": "esriImageServiceDataTypeGeneric", "serviceSourceType": "esriImageServiceSourceTypeDataset", "objectIdField": "", "fields": [], "capabilities": "Image,Metadata,Mensuration", "defaultMosaicMethod": "Center", "allowedMosaicMethods": "", "sortField": "", "sortValue": null, "sortAscending": true, "mosaicOperator": "First", "defaultCompressionQuality": 75, "defaultResamplingMethod": "Bilinear", "maxImageHeight": 75000, "maxImageWidth": 75000, "allowRasterFunction": true, "rasterFunctionInfos": [ { "name": "None", "description": "", "help": "" } ], "rasterTypeInfos": [ { "name": "Raster Dataset", "description": "Supports all ArcGIS Raster Datasets", "help": "" } ], "mensurationCapabilities": "Basic", "hasHistograms": true, "hasColormap": false, "hasRasterAttributeTable": true, "minScale": 0, "maxScale": 0, "exportTilesAllowed": false, "supportsStatistics": false, "supportsAdvancedQueries": false, "editFieldsInfo": null, "ownershipBasedAccessControlForRasters": null, "allowComputeTiePoints": false, "useStandardizedQueries": true, "advancedQueryCapabilities": { "useStandardizedQueries": true, "supportsStatistics": false, "supportsOrderBy": false, "supportsDistinct": false, "supportsPagination": false }, "spatialReference": { "wkid": 102100, "latestWkid": 3857 } }