<?xml version="1.0" encoding="UTF-8" standalone="no"?>
<metadata xml:lang="en">
<Esri>
<CreaDate>20210826</CreaDate>
<CreaTime>11073500</CreaTime>
<ArcGISFormat>1.0</ArcGISFormat>
<SyncOnce>FALSE</SyncOnce>
<DataProperties>
<lineage>
<Process Date="20210826" Time="110735" ToolSource="c:\program files\arcgis\pro\Resources\ArcToolbox\toolboxes\Data Management Tools.tbx\CreateMosaicDataset">CreateMosaicDataset E:\DCGIS\Projects\Planimetrics2021\Ortho_2021_Review\Ortho_2021_Review.gdb Ortho_2021 PROJCS['NAD_1983_StatePlane_Maryland_FIPS_1900',GEOGCS['GCS_North_American_1983',DATUM['D_North_American_1983',SPHEROID['GRS_1980',6378137.0,298.257222101]],PRIMEM['Greenwich',0.0],UNIT['Degree',0.0174532925199433]],PROJECTION['Lambert_Conformal_Conic'],PARAMETER['False_Easting',400000.0],PARAMETER['False_Northing',0.0],PARAMETER['Central_Meridian',-77.0],PARAMETER['Standard_Parallel_1',38.3],PARAMETER['Standard_Parallel_2',39.45],PARAMETER['Latitude_Of_Origin',37.66666666666666],UNIT['Meter',1.0]] # # None #</Process>
<Process Date="20210826" Time="111305" ToolSource="c:\program files\arcgis\pro\Resources\ArcToolbox\toolboxes\Data Management Tools.tbx\AddRastersToMosaicDataset">AddRastersToMosaicDataset E:\DCGIS\Projects\Planimetrics2021\Ortho_2021_Review\Ortho_2021_Review.gdb\Ortho_2021 "Raster Dataset" E:\DCGIS\Projects\Planimetrics2021\Ortho_2021_Review\GeoTIFF UPDATE_CELL_SIZES UPDATE_BOUNDARY NO_OVERVIEWS # 0 1500 # # SUBFOLDERS "Allow duplicates" NO_PYRAMIDS NO_STATISTICS NO_THUMBNAILS # NO_FORCE_SPATIAL_REFERENCE NO_STATISTICS # NO_PIXEL_CACHE C:\Users\brian.putz\AppData\Local\ESRI\rasterproxies\Ortho_2021</Process>
<Process Date="20210826" Time="130321" ToolSource="c:\program files\arcgis\pro\Resources\ArcToolbox\toolboxes\Data Management Tools.tbx\CalculateStatistics">CalculateStatistics E:\DCGIS\Projects\Planimetrics2021\Ortho_2021_Review\Ortho_2021_Review.gdb\Ortho_2021 1 1 # OVERWRITE "Feature Set"</Process>
<Process Date="20211006" Time="135115" ToolSource="c:\program files\arcgis\pro\Resources\ArcToolbox\toolboxes\Data Management Tools.tbx\AddRastersToMosaicDataset">AddRastersToMosaicDataset E:\DCGIS\Projects\Planimetrics2021\Ortho_2021\Ortho_2021.gdb\Ortho_2021 "Raster Dataset" E:\DCGIS\Projects\Planimetrics2021\Ortho_2021\GeoTIFF UPDATE_CELL_SIZES UPDATE_BOUNDARY NO_OVERVIEWS # 0 1500 # # SUBFOLDERS "Allow duplicates" NO_PYRAMIDS NO_STATISTICS NO_THUMBNAILS # NO_FORCE_SPATIAL_REFERENCE NO_STATISTICS # NO_PIXEL_CACHE C:\Users\brian.putz\AppData\Local\ESRI\rasterproxies\Ortho_2021</Process>
<Process Date="20211006" Time="161239" ToolSource="c:\program files\arcgis\pro\Resources\ArcToolbox\toolboxes\Data Management Tools.tbx\CalculateStatistics">CalculateStatistics E:\DCGIS\Projects\Planimetrics2021\Ortho_2021\Ortho_2021.gdb\Ortho_2021 1 1 # OVERWRITE "Feature Set"</Process>
<Process Date="20211105" Time="152726" ToolSource="c:\program files\arcgis\pro\Resources\ArcToolbox\toolboxes\Data Management Tools.tbx\AddRastersToMosaicDataset">AddRastersToMosaicDataset E:\DCGIS\Projects\Planimetrics2021\Ortho_2021\Ortho_2021.gdb\Ortho_2021 "Raster Dataset" E:\DCGIS\Projects\Planimetrics2021\Ortho_2021\GeoTIFF\3016.tif UPDATE_CELL_SIZES UPDATE_BOUNDARY NO_OVERVIEWS # 0 1500 # # SUBFOLDERS "Allow duplicates" NO_PYRAMIDS NO_STATISTICS NO_THUMBNAILS # NO_FORCE_SPATIAL_REFERENCE NO_STATISTICS # NO_PIXEL_CACHE C:\Users\brian.putz\AppData\Local\ESRI\rasterproxies\Ortho_2021</Process>
<Process Date="20211105" Time="180329" ToolSource="c:\program files\arcgis\pro\Resources\ArcToolbox\toolboxes\Data Management Tools.tbx\CalculateStatistics">CalculateStatistics E:\DCGIS\Projects\Planimetrics2021\Ortho_2021\Ortho_2021.gdb\Ortho_2021 1 1 # OVERWRITE "Feature Set"</Process>
</lineage>
<itemProps>
<itemName Sync="TRUE">Ortho_2021</itemName>
<itemLocation>
<linkage Sync="TRUE">file://\\OCTO-5GS23W2\E$\ProductionFiles\Ortho_2021\Ortho_2021.gdb</linkage>
<protocol Sync="TRUE">Local Area Network</protocol>
</itemLocation>
<nativeExtBox>
<westBL Sync="TRUE">389400.000000</westBL>
<eastBL Sync="TRUE">408600.000000</eastBL>
<southBL Sync="TRUE">124200.000000</southBL>
<northBL Sync="TRUE">148200.000000</northBL>
<exTypeCode Sync="TRUE">1</exTypeCode>
</nativeExtBox>
</itemProps>
<coordRef>
<type Sync="TRUE">Projected</type>
<geogcsn Sync="TRUE">GCS_North_American_1983</geogcsn>
<csUnits Sync="TRUE">Linear Unit: Meter (1.000000)</csUnits>
<projcsn Sync="TRUE">NAD_1983_StatePlane_Maryland_FIPS_1900</projcsn>
<peXml Sync="TRUE">&lt;ProjectedCoordinateSystem xsi:type='typens:ProjectedCoordinateSystem' xmlns:xsi='http://www.w3.org/2001/XMLSchema-instance' xmlns:xs='http://www.w3.org/2001/XMLSchema' xmlns:typens='http://www.esri.com/schemas/ArcGIS/3.0.0'&gt;&lt;WKT&gt;PROJCS[&amp;quot;NAD_1983_StatePlane_Maryland_FIPS_1900&amp;quot;,GEOGCS[&amp;quot;GCS_North_American_1983&amp;quot;,DATUM[&amp;quot;D_North_American_1983&amp;quot;,SPHEROID[&amp;quot;GRS_1980&amp;quot;,6378137.0,298.257222101]],PRIMEM[&amp;quot;Greenwich&amp;quot;,0.0],UNIT[&amp;quot;Degree&amp;quot;,0.0174532925199433]],PROJECTION[&amp;quot;Lambert_Conformal_Conic&amp;quot;],PARAMETER[&amp;quot;False_Easting&amp;quot;,400000.0],PARAMETER[&amp;quot;False_Northing&amp;quot;,0.0],PARAMETER[&amp;quot;Central_Meridian&amp;quot;,-77.0],PARAMETER[&amp;quot;Standard_Parallel_1&amp;quot;,38.3],PARAMETER[&amp;quot;Standard_Parallel_2&amp;quot;,39.45],PARAMETER[&amp;quot;Latitude_Of_Origin&amp;quot;,37.66666666666666],UNIT[&amp;quot;Meter&amp;quot;,1.0],AUTHORITY[&amp;quot;EPSG&amp;quot;,26985]]&lt;/WKT&gt;&lt;XOrigin&gt;-36747100&lt;/XOrigin&gt;&lt;YOrigin&gt;-29091500&lt;/YOrigin&gt;&lt;XYScale&gt;121236910.21292362&lt;/XYScale&gt;&lt;ZOrigin&gt;-100000&lt;/ZOrigin&gt;&lt;ZScale&gt;10000&lt;/ZScale&gt;&lt;MOrigin&gt;-100000&lt;/MOrigin&gt;&lt;MScale&gt;10000&lt;/MScale&gt;&lt;XYTolerance&gt;0.001&lt;/XYTolerance&gt;&lt;ZTolerance&gt;0.001&lt;/ZTolerance&gt;&lt;MTolerance&gt;0.001&lt;/MTolerance&gt;&lt;HighPrecision&gt;true&lt;/HighPrecision&gt;&lt;WKID&gt;26985&lt;/WKID&gt;&lt;LatestWKID&gt;26985&lt;/LatestWKID&gt;&lt;/ProjectedCoordinateSystem&gt;</peXml>
</coordRef>
<RasterProperties>
<General>
<PixelDepth Sync="TRUE">8</PixelDepth>
<HasColormap Sync="TRUE">FALSE</HasColormap>
<CompressionType Sync="TRUE">None</CompressionType>
<NumBands Sync="TRUE">4</NumBands>
<Format Sync="TRUE">AMD</Format>
<HasPyramids Sync="TRUE">TRUE</HasPyramids>
<SourceType Sync="TRUE">continuous</SourceType>
<PixelType Sync="TRUE">unsigned integer</PixelType>
<NoDataValue Sync="TRUE"/>
</General>
<Properties>
<MaxImageHeight Sync="TRUE">4100</MaxImageHeight>
<MaxImageWidth Sync="TRUE">15000</MaxImageWidth>
<MaxRecordCount Sync="TRUE">1000</MaxRecordCount>
<MaxDownloadImageCount Sync="TRUE">20</MaxDownloadImageCount>
<MaxDownloadSizeLimit Sync="TRUE">2048</MaxDownloadSizeLimit>
<MaxMosaicImageCount Sync="TRUE">20</MaxMosaicImageCount>
<DefaultCompressionQuality Sync="TRUE">75</DefaultCompressionQuality>
<DefaultCompressionTolerance Sync="TRUE">0.01</DefaultCompressionTolerance>
<BlendWidth Sync="TRUE">10</BlendWidth>
<ViewpointSpacingX Sync="TRUE">600</ViewpointSpacingX>
<ViewpointSpacingY Sync="TRUE">300</ViewpointSpacingY>
<AllowedItemMetadata Sync="TRUE">Basic</AllowedItemMetadata>
<DefaultResamplingMethod Sync="TRUE">1</DefaultResamplingMethod>
<AllowedMosaicMethods Sync="TRUE">NorthWest,Center,LockRaster,ByAttribute,Nadir,Viewpoint,Seamline,None</AllowedMosaicMethods>
<AllowedCompressions Sync="TRUE">None,JPEG,LZ77,LERC</AllowedCompressions>
<AllowedMensurationCapabilities Sync="TRUE">None</AllowedMensurationCapabilities>
<AvailableMensurationCapabilities Sync="TRUE">None,Basic,Base-Top Height,Top-Top Shadow Height,Base-Top Shadow Height,3D</AvailableMensurationCapabilities>
<ClipToBoundary Sync="TRUE">-1</ClipToBoundary>
<FootprintMayContainNoData Sync="TRUE">-1</FootprintMayContainNoData>
<CellSizeTolerance Sync="TRUE">0.8</CellSizeTolerance>
<MinimumPixelContribution Sync="TRUE">1</MinimumPixelContribution>
<AvailableMosaicMethods Sync="TRUE">NorthWest,Center,LockRaster,ByAttribute,Nadir,Viewpoint,Seamline,None</AvailableMosaicMethods>
<AvailableCompressionMethods Sync="TRUE">None,JPEG,LZ77,LERC</AvailableCompressionMethods>
<AvailableItemMetadataLevels Sync="TRUE">None,Basic,Full</AvailableItemMetadataLevels>
<BandDefinitionKeyword Sync="TRUE">NONE</BandDefinitionKeyword>
<_docversion_ Sync="TRUE">10</_docversion_>
<AllowedFields Sync="TRUE">Name,MinPS,MaxPS,LowPS,HighPS,Tag,GroupName,ProductName,CenterX,CenterY,ZOrder,Shape_Length,Shape_Area</AllowedFields>
<MaxCellSize Sync="TRUE">3888</MaxCellSize>
<LowCellSize Sync="TRUE">0.08</LowCellSize>
<HighCellSize Sync="TRUE">77.7599999999999</HighCellSize>
<PixelCacheLocation Sync="TRUE">C:\Users\brian.putz\AppData\Local\ESRI\rasterproxies\Ortho_2021</PixelCacheLocation>
<TimeStamp.RemoveItems Sync="TRUE">44505.8052349769</TimeStamp.RemoveItems>
<TimeStamp.UpdateExtent Sync="TRUE">44505.8052602431</TimeStamp.UpdateExtent>
</Properties>
<Functions Sync="TRUE">
<Function Description="Performs on-the-fly mosaic on a raster catalog." Name="Mosaic Function"/>
</Functions>
</RasterProperties>
</DataProperties>
<SyncDate>20230928</SyncDate>
<SyncTime>09185600</SyncTime>
<ModDate>20230928</ModDate>
<ModTime>09185600</ModTime>
</Esri>
<mdChar>
<CharSetCd value="004"/>
</mdChar>
<mdHrLv>
<ScopeCd value="005"/>
</mdHrLv>
<mdContact>
<rpIndName>GIS Data Coordinator</rpIndName>
<rpOrgName>D.C. Office of the Chief Technology Officer </rpOrgName>
<rpPosName>GIS Data Coordinator</rpPosName>
<rpCntInfo>
<cntPhone>
<voiceNum>(202) 727-2277</voiceNum>
<faxNum>(202) 727-5660</faxNum>
</cntPhone>
<cntAddress addressType="both">
<delPoint>200 I Street SE, 5th Floor</delPoint>
<city>Washington</city>
<adminArea>DC</adminArea>
<postCode>20003</postCode>
<eMailAdd>dcgis@dc.gov</eMailAdd>
</cntAddress>
<cntHours>8:30 am - 5:00 pm</cntHours>
</rpCntInfo>
<role>
<RoleCd value="007"/>
</role>
</mdContact>
<mdDateSt>20211202</mdDateSt>
<mdStanName>ArcGIS Metadata</mdStanName>
<mdStanVer>1.0</mdStanVer>
<distInfo>
<distributor>
<distorCont>
<rpIndName>GIS Data Coordinator</rpIndName>
<rpOrgName>D.C. Office of the Chief Technology Officer </rpOrgName>
<rpPosName>GIS Data Coordinator</rpPosName>
<rpCntInfo>
<cntPhone>
<voiceNum>(202) 727-2277</voiceNum>
<faxNum>(202) 727-5660</faxNum>
</cntPhone>
<cntAddress addressType="both">
<delPoint>200 I Street SE, 5th Floor</delPoint>
<city>Washington</city>
<adminArea>DC</adminArea>
<postCode>20003</postCode>
<eMailAdd>dcgis@dc.gov</eMailAdd>
</cntAddress>
<cntHours>8:30 am - 5:00 pm</cntHours>
</rpCntInfo>
<role>
<RoleCd value="005"/>
</role>
</distorCont>
<distorOrdPrc>
<ordInstr>DC datasets can be downloaded from "https://opendata.dc.gov".</ordInstr>
</distorOrdPrc>
<distorFormat>
<formatName>Image Service</formatName>
</distorFormat>
</distributor>
</distInfo>
<dataIdInfo>
<idCitation>
<resTitle>Ortho_2021</resTitle>
<date>
<pubDate>2021-11-01</pubDate>
</date>
<citRespParty>
<rpOrgName>GIS Data Coordinator, D.C. Office of the Chief Technology Officer , GIS Data Coordinator</rpOrgName>
<role>
<RoleCd value="006"/>
</role>
</citRespParty>
<presForm>
<PresFormCd value="005"/>
</presForm>
<presForm>
<fgdcGeoform>remote-sensing image</fgdcGeoform>
</presForm>
</idCitation>
<idAbs>2021 Orthophoto - 3 inch resolution: This document describes the processes used to create the orthoimagery data produced for the District of Columbia from 2021 digital aerial photography. It was flown on March 11, 2021. The aerial imagery acquisition was flown to support the creation of 4-band digital orthophotography with a 3 inch/0.08 meter pixel resolution over the full project area covering the District of Columbia which is approximately 69 square miles. The contractor received waivers to fly in the Flight Restricted Zone (FRZ) and P-56 areas. The ortho imagery was submitted to DC OCTO in GeoTiff/TFW format tiles following the tile scheme provided by OCTO. MrSID and JPEG2000 compressed mosaics were delivered as well using a 50:1 compression ratio.</idAbs>
<idPurp>Aerial Photography Image Service (Orthophoto) of Washington, DC at 3 inch resolution. Dated 2021.</idPurp>
<idCredit>https://dcgis.dc.gov</idCredit>
<idStatus>
<ProgCd value="001"/>
</idStatus>
<idPoC>
<rpIndName>GIS Data Coordinator</rpIndName>
<rpOrgName>D.C. Office of the Chief Technology Officer </rpOrgName>
<rpPosName>GIS Data Coordinator</rpPosName>
<rpCntInfo>
<cntPhone>
<voiceNum>(202) 727-2277</voiceNum>
<faxNum>(202) 727-5660</faxNum>
</cntPhone>
<cntAddress addressType="both">
<delPoint>200 I Street SE, 5th Floor</delPoint>
<city>Washington</city>
<adminArea>DC</adminArea>
<postCode>20003</postCode>
<eMailAdd>dcgis@dc.gov</eMailAdd>
</cntAddress>
<cntHours>8:30 am - 5:00 pm</cntHours>
</rpCntInfo>
<role>
<RoleCd value="007"/>
</role>
</idPoC>
<resMaint>
<maintFreq>
<MaintFreqCd value="009"/>
</maintFreq>
</resMaint>
<placeKeys>
<keyword>Washington</keyword>
<keyword>D.C.</keyword>
<keyword>District of Columbia</keyword>
<keyword>United States of America (USA)</keyword>
<thesaName>
<resTitle>Geographic Names Information System</resTitle>
</thesaName>
</placeKeys>
<themeKeys>
<keyword>orthophotography</keyword>
<keyword>planning</keyword>
<keyword>imagery</keyword>
<keyword>orthos</keyword>
<keyword>aerial photography</keyword>
<keyword>imageryBaseMapsEarthCover</keyword>
</themeKeys>
<themeKeys>
<keyword>imageryBaseMapsEarthCover</keyword>
<thesaName>
<resTitle>ISO 19115 Topic Categories</resTitle>
</thesaName>
</themeKeys>
<searchKeys>
<keyword>orthophotography</keyword>
<keyword>planning</keyword>
<keyword>imagery</keyword>
<keyword>orthos</keyword>
<keyword>aerial photography</keyword>
<keyword>imageryBaseMapsEarthCover</keyword>
<keyword>imageryBaseMapsEarthCover</keyword>
<keyword>Washington</keyword>
<keyword>D.C.</keyword>
<keyword>District of Columbia</keyword>
<keyword>United States of America (USA)</keyword>
</searchKeys>
<resConst>
<Consts>
<useLimit>This work is licensed under a Creative Commons Attribution 4.0 International License.</useLimit>
</Consts>
</resConst>
<resConst>
<LegConsts>
<useLimit>See access and use constraints information.</useLimit>
</LegConsts>
</resConst>
<spatRpType>
<SpatRepTypCd value="002"/>
</spatRpType>
<tpCat>
<TopicCatCd value="010"/>
</tpCat>
<tpCat>
<TopicCatCd value="015"/>
</tpCat>
<envirDesc> Version 6.2 (Build 9200) ; Esri ArcGIS 10.8.1.14362</envirDesc>
<dataExt>
<geoEle>
<GeoBndBox>
<exTypeCode>true</exTypeCode>
<westBL>-77.122373</westBL>
<eastBL>-76.900716</eastBL>
<northBL>39.001746</northBL>
<southBL>38.785481</southBL>
</GeoBndBox>
</geoEle>
</dataExt>
<dataLang>
<languageCode Sync="TRUE" value="eng"/>
<countryCode Sync="TRUE" value="USA"/>
</dataLang>
<dataExt>
<geoEle>
<GeoBndBox esriExtentType="search">
<exTypeCode Sync="TRUE">1</exTypeCode>
<westBL Sync="TRUE">-77.122373</westBL>
<eastBL Sync="TRUE">-76.900716</eastBL>
<northBL Sync="TRUE">39.001746</northBL>
<southBL Sync="TRUE">38.785481</southBL>
</GeoBndBox>
</geoEle>
</dataExt>
</dataIdInfo>
<dqInfo>
<dqScope>
<scpLvl>
<ScopeCd value="005"/>
</scpLvl>
</dqScope>
<report type="DQConcConsis">
<measDesc>Quality control procedures were implemented and documented at each step of the project to ensure that all services required by the contract are completed to specification; they include visual (manual) inspections, automated routines, and technical reviews.</measDesc>
</report>
<dataLineage>
<prcStep>
<stepDesc>Acquisition
The aerial imagery acquisition for DC OCTO was flown to support the creation of 4-band digital orthophotography with 8 cm pixel resolution over the full project area covering the District of Columbia. Due to the security requirements in the area, waivers were needed to fly in the Flight Restricted Zone (FRZ) and P-56 areas.
The aerial photographic mission was completed by Keystone Aerial Surveys and was composed of two flight areas: DCM3 Red Area (25 flight lines) and DCM3 Blue Area (114 flight lines) at an average altitude of 4,000 feet above mean sea level. Data was collected on March 11, 2021 in one lift.
All data were collected with censor type DCM III, serial sensor 545. Aerial photography was collected in conjunction with airborne GPS.</stepDesc>
</prcStep>
<prcStep>
<stepDesc>Ground Control and Aerotriangulation
Rice Associates, under contract to Fugro Geospatial, Inc. successfully established ground control for the DC OCTO project area. Ground control for the DC OCTO project area consisted of a total of 25 points: six new ground control points and 19 previously collected ground control points collected by Wiles Mensch Corporation in 2017 and Rice Associates in 2019. GPS was used to establish the control network. The horizontal datum is provided in NAD83/HARN91. The vertical datum was the North American Vertical Datum of 1988 (NAVD88) using GEOID12B.
Catalyst Ortho Engine software was used for downloading and preparing imagery collected with the DCM III Sensor for softcopy photogrammetric use. The data was differentially processed against a base station. After the differential GPS solution was checked and verified, the software computed an integrated GPS/IMU navigation solution. The GPS/IMU trajectory was computed to a full x, y, z, omega, phi, kappa exterior orientation of each scan line.
A fully automatic aerotriangulation process was performed to minimize the residual errors in the GPS/IMU derived exterior orientations. The aerotriangulation also allowed the introduction of ground control and checkpoints to ensure the accuracy specifications were achieved. Stereo imagery (level 1 georeferenced imagery) was created by applying the aerotriangulation solution to the raw imagery. This resampling removes aircraft motion and provides epipolar geometry imagery for stereo viewing. Low resolution images were created to determine the radiometric correction for each lift of imagery. Those settings were then used to create full resolution imagery strips.</stepDesc>
</prcStep>
<prcStep>
<stepDesc>Processing
Ground Orthoimagery
Upon the completion of the Aerotriangulation, a DEM was generated for the rectification of the imagery. The ortho-rectified strips (each flight line) were mosaicked together using proprietary image database and mosaicking software. The database was edited using Photoshop and QA/QC'ed for coverage, seam lines, smears, and other artefacts. The imagery was clipped out of the database into the sheet layout generated based on OCTO requirements. In the clipping stage, the coordinate system and georeferencing was embedded into the header of the files.
True Orthoimagery
GXL is a server-side high volume geospatial image-processing system designed to leverage modern computing technology, and Geomatica is PCI’s visualization and analytical desktop platform. GXL was utilized for generating the DSM Ortho products, and Geomatica was used for Quality Assurance (QA) purposes.
The workflow was executed to produce the final products:
• DSM Extraction
• DSM Orthorectification
• Mosaic Prep/Generation
• Post Mosaic Editing
GXL’s DEM Extraction workflow automatically scans an input directory for all valid stereo pairs, computes the epipolarized images and extracts the Digital Surface Model (DSM) for each stereo pair. Elevation values in a DSM are determined by matching points in a left and right epipolar input image using image correlation. The image disparity for the point pair is computed and this value, combined with the geometric model for each image, is used to compute the scene elevation for the corresponding scene point. After all DSMs in the batch are extracted, the GXL automatically merges them together to create a seamless multiview DSM. Using a “Pattern Suppression” algorithm helps to reduce or eliminate blunders in the output digital surface model (DSM).
Quality Assurance (QA) was performed on the derived DSM using Geomatica’s DEM Editing toolset. Utilizing the Live Ortho Preview capability, users can generate ortho images on the fly to check the quality of the DEM. Blunders and artifacts can be removed/fixed using Geomatica’s DEM editor.
The DSM Orthorectification operation is a straightforward process that orthorectifies the aerial imagery using the derived DSM. Occlusion zones that are created during the ortho process are detected for each ortho image and filled by retrieving optimal visible pixels from the adjacent overlapping ortho images.
The Mosaic Preparation processing module is responsible for automatically normalizing the images, calculating color balancing and generating the seamlines (cutlines). The output is a very lightweight mosaic preview that can be viewed and edited using the GXL’s Mosaic Tool. The Mosaic Preview does not generate an actual mosaic image, but rather it stores all the necessary information for future full resolution mosaics. Fugro used DC OCTO’s collected building footprints as a “cutline mask” forcing the mosaicker to avoid buildings eliminating an extreme majority of known buildings. Mosaic editing was conducted in the Mosaic tool to adjust cutlines and perform color balancing.</stepDesc>
</prcStep>
<prcStep>
<stepDesc>Deliverables
The ortho imagery was submitted to DC OCTO in GeoTiff/TFW format tiles following the tile scheme provided by OCTO. MrSID and JPEG2000 compressed mosaics were delivered as well using a 50:1 compression ratio.</stepDesc>
</prcStep>
</dataLineage>
</dqInfo>
<spatRepInfo>
<Georect>
<numDims>3</numDims>
<axisDimension type="001">
<dimSize>300000</dimSize>
<dimResol>
<value Sync="TRUE" uom="m">0.080000</value>
</dimResol>
</axisDimension>
<axisDimension type="002">
<dimSize>240000</dimSize>
<dimResol>
<value Sync="TRUE" uom="m">0.080000</value>
</dimResol>
</axisDimension>
<axisDimension type="003">
<dimSize>1</dimSize>
</axisDimension>
<cellGeo>
<CellGeoCd Sync="TRUE" value="002"/>
</cellGeo>
<tranParaAv Sync="TRUE">1</tranParaAv>
<chkPtAv Sync="TRUE">0</chkPtAv>
<cornerPts>
<pos Sync="TRUE">389400.000000 124200.000000</pos>
</cornerPts>
<cornerPts>
<pos Sync="TRUE">389400.000000 148200.000000</pos>
</cornerPts>
<cornerPts>
<pos Sync="TRUE">408600.000000 148200.000000</pos>
</cornerPts>
<cornerPts>
<pos Sync="TRUE">408600.000000 124200.000000</pos>
</cornerPts>
<centerPt>
<pos Sync="TRUE">399000.000000 136200.000000</pos>
</centerPt>
<ptInPixel>
<PixOrientCd Sync="TRUE" value="001"/>
</ptInPixel>
</Georect>
</spatRepInfo>
<mdLang>
<languageCode Sync="TRUE" value="eng"/>
<countryCode Sync="TRUE" value="USA"/>
</mdLang>
<refSysInfo>
<RefSystem>
<refSysID>
<identCode Sync="TRUE" code="26985"/>
<idCodeSpace Sync="TRUE">EPSG</idCodeSpace>
<idVersion Sync="TRUE">4.5(3.0.1)</idVersion>
</refSysID>
</RefSystem>
</refSysInfo>
<contInfo>
<ImgDesc>
<contentTyp>
<ContentTypCd Sync="TRUE" value="001"/>
</contentTyp>
<covDim>
<Band>
<dimDescrp Sync="TRUE">Band_1</dimDescrp>
<maxVal Sync="TRUE">255.000000</maxVal>
<minVal Sync="TRUE">0.000000</minVal>
<bitsPerVal Sync="TRUE">8</bitsPerVal>
<valUnit>
<UOM type="length"/>
</valUnit>
</Band>
<Band>
<dimDescrp Sync="TRUE">Band_2</dimDescrp>
<maxVal Sync="TRUE">255.000000</maxVal>
<minVal Sync="TRUE">0.000000</minVal>
<bitsPerVal Sync="TRUE">8</bitsPerVal>
<valUnit>
<UOM type="length"/>
</valUnit>
</Band>
<Band>
<dimDescrp Sync="TRUE">Band_3</dimDescrp>
<maxVal Sync="TRUE">255.000000</maxVal>
<minVal Sync="TRUE">0.000000</minVal>
<bitsPerVal Sync="TRUE">8</bitsPerVal>
<valUnit>
<UOM type="length"/>
</valUnit>
</Band>
<Band>
<dimDescrp Sync="TRUE">Band_4</dimDescrp>
<maxVal Sync="TRUE">254.000000</maxVal>
<minVal Sync="TRUE">0.000000</minVal>
