<?xml version="1.0" encoding="UTF-8" standalone="no"?>
<metadata xml:lang="en">
<Esri>
<CreaDate>20261015</CreaDate>
<CreaTime>16144900</CreaTime>
<ArcGISFormat>1.0</ArcGISFormat>
<SyncOnce>FALSE</SyncOnce>
<DataProperties>
<itemProps>
<imsContentType Sync="TRUE">002</imsContentType>
<itemName Sync="TRUE">Ortho_2009</itemName>
<nativeExtBox>
<westBL Sync="TRUE">389481.534155</westBL>
<eastBL Sync="TRUE">408923.545864</eastBL>
<southBL Sync="TRUE">124899.060167</southBL>
<northBL Sync="TRUE">149037.744475</northBL>
<exTypeCode Sync="TRUE">1</exTypeCode>
</nativeExtBox>
</itemProps>
<coordRef>
<type Sync="TRUE">Projected</type>
<geogcsn Sync="TRUE">GCS_North_American_1983</geogcsn>
<csUnits Sync="TRUE">Linear Unit: Meter (1.000000)</csUnits>
<projcsn Sync="TRUE">NAD_1983_StatePlane_Maryland_FIPS_1900</projcsn>
<peXml Sync="TRUE">&lt;ProjectedCoordinateSystem xsi:type='typens:ProjectedCoordinateSystem' xmlns:xsi='http://www.w3.org/2001/XMLSchema-instance' xmlns:xs='http://www.w3.org/2001/XMLSchema' xmlns:typens='http://www.esri.com/schemas/ArcGIS/3.5.0'&gt;&lt;WKT&gt;PROJCS[&amp;quot;NAD_1983_StatePlane_Maryland_FIPS_1900&amp;quot;,GEOGCS[&amp;quot;GCS_North_American_1983&amp;quot;,DATUM[&amp;quot;D_North_American_1983&amp;quot;,SPHEROID[&amp;quot;GRS_1980&amp;quot;,6378137.0,298.257222101]],PRIMEM[&amp;quot;Greenwich&amp;quot;,0.0],UNIT[&amp;quot;Degree&amp;quot;,0.0174532925199433]],PROJECTION[&amp;quot;Lambert_Conformal_Conic&amp;quot;],PARAMETER[&amp;quot;False_Easting&amp;quot;,400000.0],PARAMETER[&amp;quot;False_Northing&amp;quot;,0.0],PARAMETER[&amp;quot;Central_Meridian&amp;quot;,-77.0],PARAMETER[&amp;quot;Standard_Parallel_1&amp;quot;,38.3],PARAMETER[&amp;quot;Standard_Parallel_2&amp;quot;,39.45],PARAMETER[&amp;quot;Latitude_Of_Origin&amp;quot;,37.66666666666666],UNIT[&amp;quot;Meter&amp;quot;,1.0],AUTHORITY[&amp;quot;EPSG&amp;quot;,26985]]&lt;/WKT&gt;&lt;XOrigin&gt;-36747100&lt;/XOrigin&gt;&lt;YOrigin&gt;-29091500&lt;/YOrigin&gt;&lt;XYScale&gt;121236910.21292362&lt;/XYScale&gt;&lt;ZOrigin&gt;-100000&lt;/ZOrigin&gt;&lt;ZScale&gt;10000&lt;/ZScale&gt;&lt;MOrigin&gt;-100000&lt;/MOrigin&gt;&lt;MScale&gt;10000&lt;/MScale&gt;&lt;XYTolerance&gt;0.001&lt;/XYTolerance&gt;&lt;ZTolerance&gt;0.001&lt;/ZTolerance&gt;&lt;MTolerance&gt;0.001&lt;/MTolerance&gt;&lt;HighPrecision&gt;true&lt;/HighPrecision&gt;&lt;WKID&gt;26985&lt;/WKID&gt;&lt;LatestWKID&gt;26985&lt;/LatestWKID&gt;&lt;/ProjectedCoordinateSystem&gt;</peXml>
</coordRef>
<RasterProperties>
<General>
<PixelDepth Sync="TRUE">8</PixelDepth>
<HasColormap Sync="TRUE">FALSE</HasColormap>
<CompressionType Sync="TRUE">None</CompressionType>
<NumBands Sync="TRUE">3</NumBands>
<Format Sync="TRUE">AMD</Format>
<HasPyramids Sync="TRUE">TRUE</HasPyramids>
<SourceType Sync="TRUE">continuous</SourceType>
<PixelType Sync="TRUE">unsigned integer</PixelType>
<NoDataValue Sync="TRUE">
</NoDataValue>
</General>
<Properties>
<MaxImageHeight Sync="TRUE">4100</MaxImageHeight>
<MaxImageWidth Sync="TRUE">15000</MaxImageWidth>
<MaxRecordCount Sync="TRUE">1000</MaxRecordCount>
<MaxDownloadImageCount Sync="TRUE">20</MaxDownloadImageCount>
<MaxDownloadSizeLimit Sync="TRUE">2048</MaxDownloadSizeLimit>
<MaxMosaicImageCount Sync="TRUE">20</MaxMosaicImageCount>
<DefaultCompressionQuality Sync="TRUE">75</DefaultCompressionQuality>
<DefaultCompressionTolerance Sync="TRUE">0.01</DefaultCompressionTolerance>
<BlendWidth Sync="TRUE">10</BlendWidth>
<ViewpointSpacingX Sync="TRUE">600</ViewpointSpacingX>
<ViewpointSpacingY Sync="TRUE">300</ViewpointSpacingY>
<AllowedItemMetadata Sync="TRUE">Basic</AllowedItemMetadata>
<DefaultResamplingMethod Sync="TRUE">1</DefaultResamplingMethod>
<AllowedMosaicMethods Sync="TRUE">NorthWest,Center,LockRaster,ByAttribute,Nadir,Viewpoint,Seamline,None</AllowedMosaicMethods>
<AllowedCompressions Sync="TRUE">None,JPEG,LZ77,LERC</AllowedCompressions>
<AllowedMensurationCapabilities Sync="TRUE">Basic</AllowedMensurationCapabilities>
<AvailableMensurationCapabilities Sync="TRUE">None,Basic,Base-Top Height,Top-Top Shadow Height,Base-Top Shadow Height,3D</AvailableMensurationCapabilities>
<ClipToBoundary Sync="TRUE">-1</ClipToBoundary>
<FootprintMayContainNoData Sync="TRUE">-1</FootprintMayContainNoData>
<CellSizeTolerance Sync="TRUE">0.8</CellSizeTolerance>
<MinimumPixelContribution Sync="TRUE">1</MinimumPixelContribution>
<AvailableMosaicMethods Sync="TRUE">NorthWest,Center,LockRaster,ByAttribute,Nadir,Viewpoint,Seamline,None</AvailableMosaicMethods>
<AvailableCompressionMethods Sync="TRUE">None,JPEG,LZ77,LERC</AvailableCompressionMethods>
<AvailableItemMetadataLevels Sync="TRUE">None,Basic,Full</AvailableItemMetadataLevels>
<BandDefinitionKeyword Sync="TRUE">NONE</BandDefinitionKeyword>
<_docversion_ Sync="TRUE">10</_docversion_>
<AllowedFields Sync="TRUE">Name,MinPS,MaxPS,LowPS,HighPS,Tag,GroupName,ProductName,CenterX,CenterY,ZOrder,Shape_Length,Shape_Area</AllowedFields>
<MaxCellSize Sync="TRUE">4389.128784</MaxCellSize>
<LowCellSize Sync="TRUE">0.30480061</LowCellSize>
<HighCellSize Sync="TRUE">9.75361952</HighCellSize>
<ClipToFootprint Sync="TRUE">-1</ClipToFootprint>
</Properties>
<Functions Sync="TRUE">
<Function Description="Performs on-the-fly mosaic on a raster catalog." Name="Mosaic Function">
</Function>
</Functions>
</RasterProperties>
</DataProperties>
<scaleRange>
<minScale>150000000</minScale>
<maxScale>5000</maxScale>
</scaleRange>
<SyncDate>20261016</SyncDate>
<SyncTime>10083600</SyncTime>
<ModDate>20261016</ModDate>
<ModTime>10083600</ModTime>
</Esri>
<mdLang>
<languageCode value="eng">
</languageCode>
<countryCode Sync="TRUE" value="USA">
</countryCode>
</mdLang>
<mdChar>
<CharSetCd value="004">
</CharSetCd>
</mdChar>
<mdHrLv>
<ScopeCd value="005">
</ScopeCd>
</mdHrLv>
<mdHrLvName Sync="TRUE">dataset</mdHrLvName>
<mdContact>
<rpOrgName>Office of the Chief Technology Officer</rpOrgName>
<rpCntInfo>
<cntPhone>
<voiceNum>(202) 727-2277</voiceNum>
<faxNum>(202) 727-6857</faxNum>
</cntPhone>
<cntAddress addressType="both">
<delPoint>200 I Street SE</delPoint>
<city>Washington</city>
<adminArea>DC</adminArea>
<postCode>20003</postCode>
<country>US</country>
<eMailAdd>dcgis@dc.gov</eMailAdd>
</cntAddress>
<cntHours>8:30 am - 5 pm</cntHours>
</rpCntInfo>
<displayName>GIS Data Coordinator</displayName>
<rpPosName>GIS Data Coordinator</rpPosName>
<displayName>Office of the Chief Technology Officer</displayName>
<displayName>Office of the Chief Technology Officer</displayName>
<role>
<RoleCd value="010">
</RoleCd>
</role>
</mdContact>
<mdDateSt Sync="TRUE">20261016</mdDateSt>
<mdStanName>ArcGIS Metadata</mdStanName>
<mdStanVer>1.0</mdStanVer>
<distInfo>
<distFormat>
<formatName Sync="TRUE">Raster Dataset</formatName>
</distFormat>
<distributor>
<distorCont>
<editorSource>external</editorSource>
<editorDigest>83f4f688699ea26da618314aa1b8dd2446e8d768</editorDigest>
<rpOrgName>Office of the Chief Technology Officer</rpOrgName>
<rpCntInfo>
<cntPhone>
<voiceNum>(202) 727-2277</voiceNum>
<faxNum>(202) 727-6857</faxNum>
</cntPhone>
<cntAddress addressType="both">
<delPoint>200 I Street SE</delPoint>
<city>Washington</city>
<adminArea>DC</adminArea>
<postCode>20003</postCode>
<country>US</country>
<eMailAdd>dcgis@dc.gov</eMailAdd>
</cntAddress>
<cntHours>8:30 am - 5 pm</cntHours>
</rpCntInfo>
<displayName>GIS Data Coordinator</displayName>
<rpPosName>GIS Data Coordinator</rpPosName>
<displayName>Office of the Chief Technology Officer</displayName>
<editorSave>True</editorSave>
<displayName>Office of the Chief Technology Officer</displayName>
<role>
<RoleCd value="005">
</RoleCd>
</role>
</distorCont>
</distributor>
</distInfo>
<dataIdInfo>
<idCitation>
<date>
<pubDate>2009-08-24T00:00:00</pubDate>
</date>
<citRespParty>
<rpOrgName>Pictometry Inc</rpOrgName>
<role>
<RoleCd value="006">
</RoleCd>
</role>
</citRespParty>
<presForm>
<PresFormCd Sync="TRUE" value="005">
</PresFormCd>
</presForm>
<resTitle Sync="FALSE">Ortho_2009</resTitle>
<citRespParty>
<rpOrgName>Office of the Chief Technology Officer</rpOrgName>
<rpCntInfo>
<cntPhone>
<voiceNum>(202) 727-2277</voiceNum>
<faxNum>(202) 727-6857</faxNum>
</cntPhone>
<cntAddress addressType="both">
<delPoint>200 I Street SE</delPoint>
<city>Washington</city>
<adminArea>DC</adminArea>
<postCode>20003</postCode>
<country>US</country>
<eMailAdd>dcgis@dc.gov</eMailAdd>
</cntAddress>
<cntHours>8:30 am - 5 pm</cntHours>
</rpCntInfo>
<displayName>GIS Data Coordinator</displayName>
<rpPosName>GIS Data Coordinator</rpPosName>
<displayName>Office of the Chief Technology Officer</displayName>
<displayName>Office of the Chief Technology Officer</displayName>
<role>
<RoleCd value="010">
</RoleCd>
</role>
</citRespParty>
</idCitation>
<idAbs>&lt;div style='text-align:Left;'&gt;&lt;div&gt;&lt;div&gt;&lt;p&gt;&lt;span&gt;2009 Aerial Photography (1 foot resolution) - Sector Tiles Pictometry provided as part of the 2009 photo capture were exported to tiff and provided as a raster catalog. An Ortho Sector Tile is typically a 1 foot GSD ortho mosaic tile covering a 1-square mile area that is created by deresolving the best available orthogonal images captured. Images are not radiometrically balanced, may have observable cut lines and could consist of imagery taken over a period of several days. Note - Print at your own risk, the images have seamlines between some tiles and the Pictometry logo is in the southeast corner of every tile. All DC GIS data is stored and exported in Maryland State Plane coordinates NAD 83 meters.&lt;/span&gt;&lt;/p&gt;&lt;/div&gt;&lt;/div&gt;&lt;/div&gt;</idAbs>
<idPurp>This data is used for the planning and management of Washington, D.C. by local government agencies.</idPurp>
<idCredit>Office of the Chief of Technology Officer</idCredit>
<idStatus>
<ProgCd value="001">
</ProgCd>
</idStatus>
<resMaint>
<maintFreq>
<MaintFreqCd value="012">
</MaintFreqCd>
</maintFreq>
</resMaint>
<placeKeys>
<thesaName>
<resTitle>Geographic Names Information System</resTitle>
</thesaName>
<keyword>Washington</keyword>
<keyword>D.C.</keyword>
<keyword>D.C.</keyword>
<keyword>United States of America (USA)</keyword>
<keyword>District of Columbia</keyword>
</placeKeys>
<themeKeys>
<keyword>imageryBaseMapsEarthCover</keyword>
<keyword>Orthos</keyword>
<keyword>Orthophotography</keyword>
<keyword>Planning</keyword>
<keyword>Aerial Photography</keyword>
<keyword>Imagery</keyword>
</themeKeys>
<searchKeys>
<keyword>tiff</keyword>
<keyword>aerial photography</keyword>
<keyword>orthophoto</keyword>
<keyword>Washington DC</keyword>
<keyword>District of Columbia</keyword>
<keyword>Orthophoto 2005</keyword>
<keyword>DC</keyword>
<keyword>historic</keyword>
<keyword>imagery</keyword>
</searchKeys>
<resConst>
<LegConsts>
<useLimit>Acknowledgment of the DC Geographic Information Systems Program (DC GIS). The District of Columbia Government makes no claims as to the completeness, accuracy or content of any data contained hereon, and makes no representation of any kind, including, but not limited to, the warranty of the accuracy or fitness for a particular use, nor are any such warranties to be implied or inferred with respect to the information or data furnished herein.</useLimit>
</LegConsts>
</resConst>
<resConst>
<Consts>
<useLimit>&lt;div style='text-align:Left;'&gt;&lt;div&gt;&lt;div&gt;&lt;p&gt;&lt;span&gt;This work is licensed under a &lt;/span&gt;&lt;a href='https://creativecommons.org/licenses/by/4.0' target='_blank' style='text-decoration:underline;'&gt;&lt;span&gt;&lt;span style='text-decoration:underline;'&gt;Creative Commons Attribution 4.0 International License&lt;/span&gt;&lt;/span&gt;&lt;/a&gt;&lt;span&gt;. &lt;/span&gt;&lt;/p&gt;&lt;p&gt;&lt;span&gt;Acknowledgment of the DC Geographic Information Systems Program (DC GIS). The District of Columbia Government makes no claims as to the completeness, accuracy or content of any data contained hereon, and makes no representation of any kind, including, but not limited to, the warranty of the accuracy or fitness for a particular use, nor are any such warranties to be implied or inferred with respect to the information or data furnished herein.&lt;/span&gt;&lt;/p&gt;&lt;/div&gt;&lt;/div&gt;&lt;/div&gt;</useLimit>
</Consts>
</resConst>
<dataLang>
<languageCode value="eng">
</languageCode>
<countryCode Sync="TRUE" value="USA">
</countryCode>
</dataLang>
<dataExt>
<exDesc>ground condition</exDesc>
<tempEle>
<TempExtent>
<exTemp>
<TM_Instant>
<tmPosition>2009-01-11</tmPosition>
</TM_Instant>
</exTemp>
</TempExtent>
</tempEle>
</dataExt>
<suppInfo>GSD: Pixels have a 1 foot GSD. Coverage: Coverage is 1 square mile. Overlap: Zero overlap, tiles have contiguous edges. Feathering: Component images are feathered together using a 20-pixel feather region. Cut-Lines: Cut lines are selected based on distance from nadir and do not take ground features into account. Radiometric Balancing: Images are color balanced, however some radiometric differences may be seen across flat fields such as water or grassy planes. Building Lean: Building lean is minimized by utilizing N5 orthogonal input images when available, however no other building lean corrections are performed. Elevation Data: 1995 1 meter contours.</suppInfo>
<envirDesc Sync="FALSE">Esri ArcGIS 13.5.0.57366</envirDesc>
<spatRpType>
<SpatRepTypCd Sync="TRUE" value="002">
</SpatRepTypCd>
</spatRpType>
<dataExt>
<geoEle>
<GeoBndBox esriExtentType="search">
<exTypeCode Sync="TRUE">1</exTypeCode>
<westBL Sync="TRUE">-77.121445</westBL>
<eastBL Sync="TRUE">-76.896970</eastBL>
<northBL Sync="TRUE">39.009292</northBL>
<southBL Sync="TRUE">38.791780</southBL>
</GeoBndBox>
</geoEle>
<exDesc>Washington DC</exDesc>
</dataExt>
<dataChar>
<CharSetCd value="004">
</CharSetCd>
</dataChar>
<idPoC>
<rpOrgName>Pictometry Inc</rpOrgName>
<role>
<RoleCd value="006">
</RoleCd>
</role>
<displayName>Pictometry Inc</displayName>
</idPoC>
<idPoC>
<rpOrgName>Office of the Chief Technology Officer</rpOrgName>
<rpCntInfo>
<cntPhone>
<voiceNum>(202) 727-2277</voiceNum>
<faxNum>(202) 727-6857</faxNum>
</cntPhone>
<cntAddress addressType="both">
<delPoint>200 I Street SE</delPoint>
<city>Washington</city>
<adminArea>DC</adminArea>
<postCode>20003</postCode>
<country>US</country>
<eMailAdd>dcgis@dc.gov</eMailAdd>
</cntAddress>
<cntHours>8:30 am - 5 pm</cntHours>
</rpCntInfo>
<displayName>GIS Data Coordinator</displayName>
<rpPosName>GIS Data Coordinator</rpPosName>
<displayName>Office of the Chief Technology Officer</displayName>
<displayName>Office of the Chief Technology Officer</displayName>
<role>
<RoleCd value="010">
</RoleCd>
</role>
</idPoC>
<tpCat>
<TopicCatCd value="010">
</TopicCatCd>
</tpCat>
<tpCat>
<TopicCatCd value="015">
</TopicCatCd>
</tpCat>
</dataIdInfo>
<mdMaint>
<maintFreq>
<MaintFreqCd value="012">
</MaintFreqCd>
</maintFreq>
<maintNote>Last metadata review date: 07/24/07</maintNote>
</mdMaint>
<dqInfo>
<dqScope>
<scpLvl>
<ScopeCd value="005">
</ScopeCd>
</scpLvl>
</dqScope>
<report type="DQQuanAttAcc">
<measDesc>N/A</measDesc>
</report>
<report dimension="horizontal" type="DQAbsExtPosAcc">
<measDesc>Pixel placement accuracy is based on the accuracy of the component imagery. N5 orthogonal images are used when available to maximize accuracy, however Pictometry does not warrant any pixel placement accuracy. The most significant source of error is generally the error introduced by the elevation data. Pictometry's orthogonal images provide the coordinate accuracy fulfilling most planemetric requirements, however, Pictometry data is not intended for authoritative definitive mapping or surveying replacement. If there is a need for authoritative mapping products, additional work is required by licensed individuals in order to certify Pictometry's orthogonal imagery. Alternatively, a separate, authoritative orthogonal image capture can be done and those orthogonal images used inside of Pictometry. Our oblique images are unique to Pictometry and are intended to provide data not available elsewhere and lateral views with more visual information, such as building stock analysis. In Pictometry the orthogonal and oblique images are linked for your convenience and additional study. With a few clicks you can find the revealing lateral views, height measurements, and other information afforded by the oblique images while using the coordinate accuracy afforded by the orthogonal images.</measDesc>
</report>
<report dimension="vertical" type="DQAbsExtPosAcc">
<measDesc>N/A</measDesc>
</report>
<dataLineage>
<dataSource>
<srcCitatn>
<resTitle>Aerial Photography of Washington, D.C.</resTitle>
<resAltTitle>Pictometry</resAltTitle>
<date>
<pubDate>2007-04-06</pubDate>
</date>
<citRespParty>
<rpOrgName>Pictometry Inc.</rpOrgName>
<role>
<RoleCd value="006">
</RoleCd>
</role>
</citRespParty>
<presForm>
<PresFormCd value="005">
</PresFormCd>
</presForm>
<presForm>
<fgdcGeoform>remote-sensing image</fgdcGeoform>
</presForm>
<citOnlineRes>
<linkage>http://www.pictometry.com</linkage>
</citOnlineRes>
</srcCitatn>
<srcExt>
<exDesc>ground condition</exDesc>
<tempEle>
<TempExtent>
<exTemp>
<TM_Instant>
<tmPosition>2005-04-04</tmPosition>
</TM_Instant>
</exTemp>
</TempExtent>
</tempEle>
</srcExt>
</dataSource>
<prcStep>
<stepDesc>Sensor Size Pixels: 4008 x 2672 (or 3208 x 2672 for some Community level imagery) in a Landscape orientation. Image Format Industry-standard image format with proprietary image trailer, including JFIF (JPEG), TIFF, and BMP. Image Quality Images will have an unobstructed view of the ground. In controlled airspace around airports, etc., and in areas of rapid elevation changes, the image footprint sizes and resolutions may vary. There may be varying degrees of ground illumination and color variations due to lighting and cloud shadows. Measurement Accuracy 0.5% measurement error, excluding user pixel selection error Pixel Placement Accuracy Pictometry provides a visualization system and therefore does not certify image accuracy. However, some Pictometry customers have done their own certification on the Pictometry data after delivery and have shared their results. On average, customers have been seeing better than 1.0-meter RMS error at a 95% confidence level (NMAS 1:1200) for orthogonal imagery over relatively flat terrain or in areas with accurate elevation data, and 2.0-meter RMS error at a 95% confidence level (NMAS 1:2400) for more varied terrain or in areas with poor elevation data. However, Pictometry does not guarantee these accuracies and your results may vary. Sensor Orientation Pictometry utilizes an IMU (Inertial Measurement Unit), ground station post-corrected differential GPS, and Kalman filtering to achieve a high degree of positional and directional accuracy. Sensor Positional Accuracy mean 15cm absolute Sensor Directional Accuracy 0.015 degrees absolute (roll/pitch) 0.035 degrees absolute (heading) Ortho-Rectification The images are ortho-rectified to back out the optical deviations of the capture system and the variations due to elevation changes (utilizing the best DEM data available, including customer provided DEM data), resulting in geographically square pixels aligned to a rectilinear grid. This grid can be one of any number of coordinate systems, including Latitude/Longitude, State Plane, UTM, and more. The desired coordinate system should be specified in the contract, or a default coordinate system will be used. Image Export J FIF (JPEG), TIFF, BMP EFS software can be utilized to export the images into any of the above industry-standard formats. The orthogonal images can optionally be re-projected during this export process, and an associated geography file can be created as well for use in importing the images into GIS mapping software. Image Tiling Individual orthogonal images are edge-feathered and mosaiced to produce orthogonal image tiles with tile sizes selected to balance single image coverage as well as manageability of open images. These orthogonal tiles provide continuous coverage across the area of interest. While some color balancing is done, these orthogonal tiles are not fully radiometrically balanced or edge-matched.</stepDesc>
<stepDateTm>2007-04-06</stepDateTm>
<stepProc>
<rpOrgName>Pictometry Inc</rpOrgName>
<rpCntInfo>
<cntPhone>
<voiceNum>888-771-9714</voiceNum>
<faxNum>585-486-0098</faxNum>
</cntPhone>
<cntAddress addressType="both">
<delPoint>100 Town Centre Drive, Suite A</delPoint>
<city>Rochester</city>
<adminArea>NY</adminArea>
<postCode>14623-4260</postCode>
<country>US</country>
<eMailAdd>info@pictometry.com</eMailAdd>
</cntAddress>
<cntHours>8:30 Am - 5:00 p,</cntHours>
</rpCntInfo>
<role>
<RoleCd value="009">
</RoleCd>
</role>
</stepProc>
<stepSrc type="produced">
<srcCitatn>
<resAltTitle>Analytical Aerotriangulation</resAltTitle>
</srcCitatn>
</stepSrc>
</prcStep>
</dataLineage>
</dqInfo>
<spatRepInfo>
<Georect>
<cellGeo>
<CellGeoCd Sync="TRUE" value="002">
</CellGeoCd>
</cellGeo>
<numDims Sync="TRUE">2</numDims>
<tranParaAv Sync="TRUE">1</tranParaAv>
<chkPtAv Sync="TRUE">0</chkPtAv>
<cornerPts>
<pos Sync="TRUE">389481.534155 124899.060167</pos>
</cornerPts>
<cornerPts>
<pos Sync="TRUE">389481.534155 149037.744475</pos>
</cornerPts>
<cornerPts>
<pos Sync="TRUE">408923.545864 149037.744475</pos>
</cornerPts>
<cornerPts>
<pos Sync="TRUE">408923.545864 124899.060167</pos>
</cornerPts>
<centerPt>
<pos Sync="TRUE">399202.540009 136968.402321</pos>
</centerPt>
<axisDimension type="002">
<dimSize Sync="TRUE">63786</dimSize>
<dimResol>
<value Sync="TRUE" uom="m">0.304801</value>
</dimResol>
</axisDimension>
<axisDimension type="001">
<dimSize Sync="TRUE">79195</dimSize>
<dimResol>
<value Sync="TRUE" uom="m">0.304801</value>
</dimResol>
</axisDimension>
<ptInPixel>
<PixOrientCd Sync="TRUE" value="001">
</PixOrientCd>
</ptInPixel>
</Georect>
</spatRepInfo>
<refSysInfo>
<RefSystem>
<refSysID>
<identCode Sync="TRUE" code="26985">
</identCode>
<idCodeSpace Sync="TRUE">EPSG</idCodeSpace>
<idVersion Sync="TRUE">4.5(3.0.1)</idVersion>
</refSysID>
</RefSystem>
</refSysInfo>
<contInfo>
<ImgDesc>
<contentTyp>
<ContentTypCd Sync="TRUE" value="001">
</ContentTypCd>
</contentTyp>
<covDim>
<Band>
<dimDescrp Sync="TRUE">Band_1</dimDescrp>
<bitsPerVal Sync="TRUE">8</bitsPerVal>
<valUnit>
<UOM type="length">
</UOM>
</valUnit>
<maxVal Sync="TRUE">255.000000</maxVal>
<minVal Sync="TRUE">0.000000</minVal>
</Band>
<Band>
<dimDescrp Sync="TRUE">Band_2</dimDescrp>
<bitsPerVal Sync="TRUE">8</bitsPerVal>
<valUnit>
<UOM type="length">
</UOM>
</valUnit>
<maxVal Sync="TRUE">255.000000</maxVal>
<minVal Sync="TRUE">0.000000</minVal>
</Band>
<Band>
<dimDescrp Sync="TRUE">Band_3</dimDescrp>
<bitsPerVal Sync="TRUE">8</bitsPerVal>
<valUnit>
<UOM type="length">
</UOM>
</valUnit>
<maxVal Sync="TRUE">255.000000</maxVal>
<minVal Sync="TRUE">0.000000</minVal>
</Band>
</covDim>
</ImgDesc>
</contInfo>
<eainfo>
<detailed Name="IMAGE.Ortho2009">
<attr>
<attrlabl Sync="TRUE">ObjectID</attrlabl>
<attalias Sync="TRUE">ObjectID</attalias>
<attrtype Sync="TRUE">OID</attrtype>
<attwidth Sync="TRUE">4</attwidth>
<atprecis Sync="TRUE">0</atprecis>
<attscale Sync="TRUE">0</attscale>
<attrdef Sync="TRUE">Internal feature number.</attrdef>
<attrdefs Sync="TRUE">ESRI</attrdefs>
<attrdomv>
<udom Sync="TRUE">Sequential unique whole numbers that are automatically generated.</udom>
</attrdomv>
</attr>
<attr>
<attrlabl Sync="TRUE">OBJECTID</attrlabl>
<attalias Sync="TRUE">OBJECTID</attalias>
<attrtype Sync="TRUE">OID</attrtype>
<attwidth Sync="TRUE">4</attwidth>
