<?xml version="1.0" encoding="UTF-8" standalone="no"?>
<metadata xml:lang="en">
<Esri>
<CreaDate>20230831</CreaDate>
<CreaTime>16063700</CreaTime>
<ArcGISFormat>1.0</ArcGISFormat>
<SyncOnce>FALSE</SyncOnce>
<DataProperties>
<lineage>
<Process Date="20230831" Time="160637" ToolSource="c:\program files\arcgis\pro\Resources\ArcToolbox\toolboxes\Data Management Tools.tbx\CreateMosaicDataset">CreateMosaicDataset E:\ProductionFiles\Lidar_2018\Lidar_2018.gdb nDSM PROJCS["NAD_1983_StatePlane_Maryland_FIPS_1900",GEOGCS["GCS_North_American_1983",DATUM["D_North_American_1983",SPHEROID["GRS_1980",6378137.0,298.257222101]],PRIMEM["Greenwich",0.0],UNIT["Degree",0.0174532925199433]],PROJECTION["Lambert_Conformal_Conic"],PARAMETER["False_Easting",400000.0],PARAMETER["False_Northing",0.0],PARAMETER["Central_Meridian",-77.0],PARAMETER["Standard_Parallel_1",38.3],PARAMETER["Standard_Parallel_2",39.45],PARAMETER["Latitude_Of_Origin",37.66666666666666],UNIT["Meter",1.0]],VERTCS["NAVD_1988_Geoid_12B",VDATUM["North_American_Vertical_Datum_1988"],PARAMETER["Vertical_Shift",0.0],PARAMETER["Direction",1.0],UNIT["Meter",1.0]] # # None #</Process>
<Process Date="20230831" Time="161127" ToolSource="c:\program files\arcgis\pro\Resources\ArcToolbox\toolboxes\Data Management Tools.tbx\AddRastersToMosaicDataset">AddRastersToMosaicDataset E:\ProductionFiles\Lidar_2018\Lidar_2018.gdb\nDSM "Raster Dataset" E:\ProductionFiles\Lidar_2018\nDSM UPDATE_CELL_SIZES UPDATE_BOUNDARY NO_OVERVIEWS # 0 1500 # # SUBFOLDERS "Overwrite duplicates" NO_PYRAMIDS NO_STATISTICS NO_THUMBNAILS # NO_FORCE_SPATIAL_REFERENCE NO_STATISTICS # NO_PIXEL_CACHE C:\Users\brian.putz\AppData\Local\ESRI\rasterproxies\nDSM</Process>
</lineage>
<itemProps>
<itemName Sync="TRUE">nDSM</itemName>
<itemLocation>
<linkage Sync="TRUE">file://\\OCTO-5GS23W2\E$\ProductionFiles\Lidar_2018\Lidar_2018.gdb</linkage>
<protocol Sync="TRUE">Local Area Network</protocol>
</itemLocation>
<nativeExtBox>
<westBL Sync="TRUE">389400.000000</westBL>
<eastBL Sync="TRUE">408600.000000</eastBL>
<southBL Sync="TRUE">124200.000000</southBL>
<northBL Sync="TRUE">148200.000000</northBL>
<exTypeCode Sync="TRUE">1</exTypeCode>
</nativeExtBox>
</itemProps>
<coordRef>
<type Sync="TRUE">Projected</type>
<geogcsn Sync="TRUE">GCS_North_American_1983</geogcsn>
<csUnits Sync="TRUE">Linear Unit: Meter (1.000000)</csUnits>
<projcsn Sync="TRUE">NAD_1983_StatePlane_Maryland_FIPS_1900</projcsn>
<peXml Sync="TRUE">&lt;ProjectedCoordinateSystem xsi:type='typens:ProjectedCoordinateSystem' xmlns:xsi='http://www.w3.org/2001/XMLSchema-instance' xmlns:xs='http://www.w3.org/2001/XMLSchema' xmlns:typens='http://www.esri.com/schemas/ArcGIS/3.0.0'&gt;&lt;WKT&gt;PROJCS[&amp;quot;NAD_1983_StatePlane_Maryland_FIPS_1900&amp;quot;,GEOGCS[&amp;quot;GCS_North_American_1983&amp;quot;,DATUM[&amp;quot;D_North_American_1983&amp;quot;,SPHEROID[&amp;quot;GRS_1980&amp;quot;,6378137.0,298.257222101]],PRIMEM[&amp;quot;Greenwich&amp;quot;,0.0],UNIT[&amp;quot;Degree&amp;quot;,0.0174532925199433]],PROJECTION[&amp;quot;Lambert_Conformal_Conic&amp;quot;],PARAMETER[&amp;quot;False_Easting&amp;quot;,400000.0],PARAMETER[&amp;quot;False_Northing&amp;quot;,0.0],PARAMETER[&amp;quot;Central_Meridian&amp;quot;,-77.0],PARAMETER[&amp;quot;Standard_Parallel_1&amp;quot;,38.3],PARAMETER[&amp;quot;Standard_Parallel_2&amp;quot;,39.45],PARAMETER[&amp;quot;Latitude_Of_Origin&amp;quot;,37.66666666666666],UNIT[&amp;quot;Meter&amp;quot;,1.0],AUTHORITY[&amp;quot;EPSG&amp;quot;,26985]],VERTCS[&amp;quot;NAVD_1988_Geoid_12B&amp;quot;,VDATUM[&amp;quot;North_American_Vertical_Datum_1988&amp;quot;],PARAMETER[&amp;quot;Vertical_Shift&amp;quot;,0.0],PARAMETER[&amp;quot;Direction&amp;quot;,1.0],UNIT[&amp;quot;Meter&amp;quot;,1.0]]&lt;/WKT&gt;&lt;XOrigin&gt;-36747100&lt;/XOrigin&gt;&lt;YOrigin&gt;-29091500&lt;/YOrigin&gt;&lt;XYScale&gt;121236910.21292362&lt;/XYScale&gt;&lt;ZOrigin&gt;-100000&lt;/ZOrigin&gt;&lt;ZScale&gt;10000&lt;/ZScale&gt;&lt;MOrigin&gt;-100000&lt;/MOrigin&gt;&lt;MScale&gt;10000&lt;/MScale&gt;&lt;XYTolerance&gt;0.001&lt;/XYTolerance&gt;&lt;ZTolerance&gt;0.001&lt;/ZTolerance&gt;&lt;MTolerance&gt;0.001&lt;/MTolerance&gt;&lt;HighPrecision&gt;true&lt;/HighPrecision&gt;&lt;WKID&gt;26985&lt;/WKID&gt;&lt;LatestWKID&gt;26985&lt;/LatestWKID&gt;&lt;/ProjectedCoordinateSystem&gt;</peXml>
</coordRef>
<RasterProperties>
<General>
<PixelDepth Sync="TRUE">32</PixelDepth>
<HasColormap Sync="TRUE">FALSE</HasColormap>
<CompressionType Sync="TRUE">None</CompressionType>
<NumBands Sync="TRUE">1</NumBands>
<Format Sync="TRUE">AMD</Format>
<HasPyramids Sync="TRUE">TRUE</HasPyramids>
<SourceType Sync="TRUE">continuous</SourceType>
<PixelType Sync="TRUE">floating point</PixelType>
<NoDataValue Sync="TRUE"/>
</General>
<Properties>
<MaxImageHeight Sync="TRUE">4100</MaxImageHeight>
<MaxImageWidth Sync="TRUE">15000</MaxImageWidth>
<MaxRecordCount Sync="TRUE">1000</MaxRecordCount>
<MaxDownloadImageCount Sync="TRUE">20</MaxDownloadImageCount>
<MaxDownloadSizeLimit Sync="TRUE">2048</MaxDownloadSizeLimit>
<MaxMosaicImageCount Sync="TRUE">20</MaxMosaicImageCount>
<DefaultCompressionQuality Sync="TRUE">75</DefaultCompressionQuality>
<DefaultCompressionTolerance Sync="TRUE">0.01</DefaultCompressionTolerance>
<BlendWidth Sync="TRUE">10</BlendWidth>
<ViewpointSpacingX Sync="TRUE">600</ViewpointSpacingX>
<ViewpointSpacingY Sync="TRUE">300</ViewpointSpacingY>
<AllowedItemMetadata Sync="TRUE">Basic</AllowedItemMetadata>
<DefaultResamplingMethod Sync="TRUE">1</DefaultResamplingMethod>
<AllowedMosaicMethods Sync="TRUE">NorthWest,Center,LockRaster,ByAttribute,Nadir,Viewpoint,Seamline,None</AllowedMosaicMethods>
<AllowedCompressions Sync="TRUE">None,JPEG,LZ77,LERC</AllowedCompressions>
<AllowedMensurationCapabilities Sync="TRUE">None</AllowedMensurationCapabilities>
<AvailableMensurationCapabilities Sync="TRUE">None,Basic,Base-Top Height,Top-Top Shadow Height,Base-Top Shadow Height,3D</AvailableMensurationCapabilities>
<ClipToBoundary Sync="TRUE">-1</ClipToBoundary>
<FootprintMayContainNoData Sync="TRUE">-1</FootprintMayContainNoData>
<CellSizeTolerance Sync="TRUE">0.8</CellSizeTolerance>
<MinimumPixelContribution Sync="TRUE">1</MinimumPixelContribution>
<AvailableMosaicMethods Sync="TRUE">NorthWest,Center,LockRaster,ByAttribute,Nadir,Viewpoint,Seamline,None</AvailableMosaicMethods>
<AvailableCompressionMethods Sync="TRUE">None,JPEG,LZ77,LERC</AvailableCompressionMethods>
<AvailableItemMetadataLevels Sync="TRUE">None,Basic,Full</AvailableItemMetadataLevels>
<BandDefinitionKeyword Sync="TRUE">NONE</BandDefinitionKeyword>
<_docversion_ Sync="TRUE">10</_docversion_>
<AllowedFields Sync="TRUE">Name,MinPS,MaxPS,LowPS,HighPS,Tag,GroupName,ProductName,CenterX,CenterY,ZOrder,Shape_Length,Shape_Area</AllowedFields>
<MaxCellSize Sync="TRUE">4050</MaxCellSize>
<LowCellSize Sync="TRUE">1</LowCellSize>
<HighCellSize Sync="TRUE">81</HighCellSize>
<PixelCacheLocation Sync="TRUE">C:\Users\brian.putz\AppData\Local\ESRI\rasterproxies\nDSM</PixelCacheLocation>
</Properties>
<Functions Sync="TRUE">
<Function Description="Performs on-the-fly mosaic on a raster catalog." Name="Mosaic Function"/>
</Functions>
</RasterProperties>
</DataProperties>
<SyncDate>20230901</SyncDate>
<SyncTime>11181800</SyncTime>
<ModDate>20230901</ModDate>
<ModTime>11181800</ModTime>
</Esri>
<mdChar>
<CharSetCd value="004"/>
</mdChar>
<mdHrLv>
<ScopeCd value="005"/>
</mdHrLv>
<mdContact>
<rpIndName>GIS Data Coordinator</rpIndName>
<rpOrgName>D.C. Office of the Chief Technology Officer</rpOrgName>
<rpCntInfo>
<cntPhone>
<faxNum>(202) 727-5660</faxNum>
</cntPhone>
<cntAddress addressType="both">
<delPoint>200 I Street SE, 5th Floor</delPoint>
<city>Washington</city>
<adminArea>DC</adminArea>
<postCode>20003</postCode>
<country>US</country>
<eMailAdd>dcgis@dc.gov</eMailAdd>
</cntAddress>
<cntHours>8:30 am - 5 pm</cntHours>
</rpCntInfo>
<role>
<RoleCd value="007"/>
</role>
</mdContact>
<mdDateSt>20181109</mdDateSt>
<mdStanName>ArcGIS Metadata</mdStanName>
<mdStanVer>1.0</mdStanVer>
<distInfo>
<distributor>
<distorCont>
<rpIndName>GIS Data Coordinator</rpIndName>
<rpOrgName>D.C. Office of the Chief Technology Officer</rpOrgName>
<rpCntInfo>
<cntPhone>
<faxNum>(202) 727-5660</faxNum>
</cntPhone>
<cntAddress addressType="both">
<delPoint>200 I Street SE, 5th Floor</delPoint>
<city>Washington</city>
<adminArea>DC</adminArea>
<postCode>20003</postCode>
<country>US</country>
<eMailAdd>dcgis@dc.gov</eMailAdd>
</cntAddress>
<cntHours>8:30 am - 5 pm</cntHours>
</rpCntInfo>
<role>
<RoleCd value="005"/>
</role>
</distorCont>
<distorOrdPrc>
<ordInstr>DC datasets can be downloaded from "http://opendata.dc.gov".</ordInstr>
</distorOrdPrc>
</distributor>
</distInfo>
<dataIdInfo>
<idCitation>
<resTitle>nDSM_2018</resTitle>
<date>
<pubDate>2018-11-02</pubDate>
</date>
<presForm>
<PresFormCd value="005"/>
</presForm>
<presForm>
<fgdcGeoform>remote-sensing image</fgdcGeoform>
</presForm>
</idCitation>
<idAbs>Normalised Digital Surface Model - 1m resolution. The dataset contains the Normalised Digital Surface Model for the Washington Area.Voids exist in the data due to data redaction conducted under the guidance of the United States Secret Service. All lidar data returns and collected data were removed from the dataset based on the redaction footprint shapefile generated in 2017.</idAbs>
<idPurp>1 m resolution nDSM from lidar flown on April 5, 2018.This data is used for the planning and management of Washington, D.C. by local government agencies.</idPurp>
<idPoC>
<rpIndName>GIS Data Coordinator</rpIndName>
<rpOrgName>D.C. Office of the Chief Technology Officer</rpOrgName>
<rpCntInfo>
<cntPhone>
<faxNum>(202) 727-5660</faxNum>
</cntPhone>
<cntAddress addressType="both">
<delPoint>200 I Street SE, 5th Floor</delPoint>
<city>Washington</city>
<adminArea>DC</adminArea>
<postCode>20003</postCode>
<country>US</country>
<eMailAdd>dcgis@dc.gov</eMailAdd>
</cntAddress>
<cntHours>8:30 am - 5 pm</cntHours>
</rpCntInfo>
<role>
<RoleCd value="007"/>
</role>
</idPoC>
<placeKeys>
<keyword>Washington D.C., DC, District of Columbia</keyword>
</placeKeys>
<themeKeys>
<keyword>lidar, 2018, ndsm, topography, bare earth, elevation, Digital Surface Model, DC GIS, DCGIS</keyword>
</themeKeys>
<themeKeys>
<keyword>elevation</keyword>
<thesaName>
<resTitle>ISO 19115 Topic Categories</resTitle>
</thesaName>
</themeKeys>
<searchKeys>
<keyword>lidar</keyword>
<keyword>2018</keyword>
<keyword>ndsm</keyword>
<keyword>topography</keyword>
<keyword>bare earth</keyword>
<keyword>elevation</keyword>
<keyword>Digital Surface Model</keyword>
<keyword>DC GIS</keyword>
<keyword>DCGIS</keyword>
<keyword>elevation</keyword>
<keyword>Washington D.C.</keyword>
<keyword>DC</keyword>
<keyword>District of Columbia</keyword>
</searchKeys>
<resConst>
<Consts>
<useLimit>This work is licensed under a Creative Commons Attribution 4.0 International License.</useLimit>
</Consts>
</resConst>
<resConst>
<LegConsts>
<useLimit>See access and use constraints information.</useLimit>
</LegConsts>
</resConst>
<spatRpType>
<SpatRepTypCd value="002"/>
</spatRpType>
<tpCat>
<TopicCatCd value="006"/>
</tpCat>
<envirDesc>Esri ArcGIS 10.5.0.6491</envirDesc>
<dataExt>
<geoEle>
<GeoBndBox>
<exTypeCode>true</exTypeCode>
<westBL>-77.119916</westBL>
<eastBL>-76.909035</eastBL>
<northBL>38.995971</northBL>
<southBL>38.791510</southBL>
</GeoBndBox>
</geoEle>
</dataExt>
<dataLang>
<languageCode Sync="TRUE" value="eng"/>
<countryCode Sync="TRUE" value="USA"/>
</dataLang>
<dataExt>
<geoEle>
<GeoBndBox esriExtentType="search">
<exTypeCode Sync="TRUE">1</exTypeCode>
<westBL Sync="TRUE">-77.122373</westBL>
<eastBL Sync="TRUE">-76.900716</eastBL>
<northBL Sync="TRUE">39.001746</northBL>
<southBL Sync="TRUE">38.785481</southBL>
</GeoBndBox>
</geoEle>
</dataExt>
<idCredit/>
</dataIdInfo>
<dqInfo>
<dqScope>
<scpLvl>
<ScopeCd value="005"/>
</scpLvl>
</dqScope>
<dataLineage>
<prcStep>
<stepDesc>The nDSM used all point returns, except for the noise class, to create a model of all features collected by the data. The nDSM did not undergo hydro-flattening but to improve the appearance and remove artefacts in the water, the hydro shapefile was used to set all water bodies to -5 m, an arbitrary, consistent value to ensure the water is blow the surrounding land to keep low lying features such as docks from appearing underwater. The bridges were masked out of the water polygons before applying the -5 m elevation to ensure they remain in the dataset. The nDSM then went through a visual QC to make sure all noise points have been correctly classified out of the data and that the water elevation was properly applied and free of artefacts. Following the final QC the nDSM was converted to Geotiff and packaged for delivery.</stepDesc>
<stepProc>
<rpOrgName>Fugro Geospatial, Inc.</rpOrgName>
<rpCntInfo>
<cntPhone>
<voiceNum>(301) 948-8550</voiceNum>
</cntPhone>
<cntAddress addressType="unknown">
<delPoint>7320 Executive Way # 107</delPoint>
<city>Frederick</city>
<adminArea>MD</adminArea>
<postCode>21704</postCode>
</cntAddress>
</rpCntInfo>
<role>
<RoleCd value="009"/>
</role>
</stepProc>
</prcStep>
<dataSource>
<srcDesc>The lidar acquisition was flown in a single lift on April 5, 2018, at an altitude of 9,700 feet above mean sea level and composed of 24 flight lines, 22 primary lines and two cross ties. All lidar data was collected with a Piper Navajo PA31-50 and a Leica ALS80 lidar sensor, #133. Due to the known difficulties flying over DC, the ALS80 sensor was selected to take advantage of its flight altitude and speed, minimizing the number of lifts for the various flight restrictions. All lidar was collected in conjunction with airborne GPS.</srcDesc>
<srcMedName>
<MedNameCd value="none"/>
</srcMedName>
<srcExt>
<exDesc>ground condition</exDesc>
<tempEle>
<TempExtent>
<exTemp>
<TM_Instant>
<tmPosition>2018-04-05</tmPosition>
</TM_Instant>
</exTemp>
</TempExtent>
</tempEle>
</srcExt>
</dataSource>
</dataLineage>
</dqInfo>
<spatRepInfo>
<Georect>
<numDims>2</numDims>
<axisDimension type="001">
<dimSize>22690</dimSize>
<dimResol>
<value Sync="TRUE" uom="m">1.000000</value>
</dimResol>
</axisDimension>
<axisDimension type="002">
<dimSize>18268</dimSize>
<dimResol>
<value Sync="TRUE" uom="m">1.000000</value>
</dimResol>
</axisDimension>
<cellGeo>
<CellGeoCd Sync="TRUE" value="002"/>
</cellGeo>
<tranParaAv Sync="TRUE">1</tranParaAv>
<chkPtAv Sync="TRUE">0</chkPtAv>
<cornerPts>
<pos Sync="TRUE">389400.000000 124200.000000</pos>
</cornerPts>
<cornerPts>
<pos Sync="TRUE">389400.000000 148200.000000</pos>
</cornerPts>
<cornerPts>
<pos Sync="TRUE">408600.000000 148200.000000</pos>
</cornerPts>
<cornerPts>
<pos Sync="TRUE">408600.000000 124200.000000</pos>
</cornerPts>
<centerPt>
<pos Sync="TRUE">399000.000000 136200.000000</pos>
</centerPt>
<ptInPixel>
<PixOrientCd Sync="TRUE" value="001"/>
</ptInPixel>
</Georect>
</spatRepInfo>
<mdLang>
<languageCode Sync="TRUE" value="eng"/>
<countryCode Sync="TRUE" value="USA"/>
</mdLang>
<refSysInfo>
<RefSystem>
<refSysID>
<identCode Sync="TRUE" code="26985"/>
<idCodeSpace Sync="TRUE">EPSG</idCodeSpace>
<idVersion Sync="TRUE">4.5(3.0.1)</idVersion>
</refSysID>
</RefSystem>
</refSysInfo>
<contInfo>
<ImgDesc>
<contentTyp>
<ContentTypCd Sync="TRUE" value="001"/>
</contentTyp>
<covDim>
<Band>
<dimDescrp Sync="TRUE">Band_1</dimDescrp>
<maxVal Sync="TRUE">120.343460</maxVal>
<minVal Sync="TRUE">-12.817854</minVal>
<bitsPerVal Sync="TRUE">32</bitsPerVal>
<valUnit>
<UOM type="length"/>
</valUnit>
</Band>
</covDim>
</ImgDesc>
</contInfo>
</metadata>
