<?xml version="1.0" encoding="UTF-8" standalone="no"?>
<metadata xml:lang="en">
<Esri>
<CreaDate>20230816</CreaDate>
<CreaTime>13201800</CreaTime>
<ArcGISFormat>1.0</ArcGISFormat>
<SyncOnce>FALSE</SyncOnce>
<DataProperties>
<lineage>
<Process Date="20230816" Time="132018" ToolSource="c:\program files\arcgis\pro\Resources\ArcToolbox\toolboxes\Data Management Tools.tbx\CreateMosaicDataset">CreateMosaicDataset E:\ProductionFiles\Lidar_2022\Lidar_2022.gdb Classified_LAS PROJCS["NAD_1983_StatePlane_Maryland_FIPS_1900",GEOGCS["GCS_North_American_1983",DATUM["D_North_American_1983",SPHEROID["GRS_1980",6378137.0,298.257222101]],PRIMEM["Greenwich",0.0],UNIT["Degree",0.0174532925199433]],PROJECTION["Lambert_Conformal_Conic"],PARAMETER["False_Easting",400000.0],PARAMETER["False_Northing",0.0],PARAMETER["Central_Meridian",-77.0],PARAMETER["Standard_Parallel_1",38.3],PARAMETER["Standard_Parallel_2",39.45],PARAMETER["Latitude_Of_Origin",37.66666666666666],UNIT["Meter",1.0]],VERTCS["NAVD88 height - Geoid12B (metre)",VDATUM["North American Vertical Datum 1988"],PARAMETER["Vertical_Shift",0.0],PARAMETER["Direction",1.0],UNIT["metre",1.0]] # # None #</Process>
<Process Date="20230816" Time="132732" ToolSource="c:\program files\arcgis\pro\Resources\ArcToolbox\toolboxes\Data Management Tools.tbx\AddRastersToMosaicDataset">AddRastersToMosaicDataset E:\ProductionFiles\Lidar_2022\Lidar_2022.gdb\Classified_LAS "LAS @ E:\ProductionFiles\Lidar_2022\Lidar_2022.gdb\Classified_LAS\RasterType.OBJECTID=1" E:\ProductionFiles\Lidar_2022\LAS_Point_Cloud UPDATE_CELL_SIZES UPDATE_BOUNDARY NO_OVERVIEWS # 0 1500 # # SUBFOLDERS "Allow duplicates" NO_PYRAMIDS NO_STATISTICS NO_THUMBNAILS # NO_FORCE_SPATIAL_REFERENCE NO_STATISTICS # NO_PIXEL_CACHE C:\Users\brian.putz\AppData\Local\ESRI\rasterproxies\Classified_LAS</Process>
<Process Date="20230816" Time="133236" ToolSource="c:\program files\arcgis\pro\Resources\ArcToolbox\toolboxes\Data Management Tools.tbx\CalculateStatistics">CalculateStatistics E:\ProductionFiles\Lidar_2022\Lidar_2022.gdb\Classified_LAS 1 1 # OVERWRITE "Feature Set"</Process>
</lineage>
<itemProps>
<itemName Sync="TRUE">Classified_LAS</itemName>
<itemLocation>
<linkage Sync="TRUE">file://\\OCTO-5GS23W2\E$\ProductionFiles\Lidar_2022\Lidar_2022.gdb</linkage>
<protocol Sync="TRUE">Local Area Network</protocol>
</itemLocation>
<nativeExtBox>
<westBL Sync="TRUE">389400.000000</westBL>
<eastBL Sync="TRUE">408600.000000</eastBL>
<southBL Sync="TRUE">124200.000000</southBL>
<northBL Sync="TRUE">148200.000000</northBL>
<exTypeCode Sync="TRUE">1</exTypeCode>
</nativeExtBox>
</itemProps>
<coordRef>
<type Sync="TRUE">Projected</type>
<geogcsn Sync="TRUE">GCS_North_American_1983</geogcsn>
<csUnits Sync="TRUE">Linear Unit: Meter (1.000000)</csUnits>
<projcsn Sync="TRUE">NAD_1983_StatePlane_Maryland_FIPS_1900</projcsn>
<peXml Sync="TRUE">&lt;ProjectedCoordinateSystem xsi:type='typens:ProjectedCoordinateSystem' xmlns:xsi='http://www.w3.org/2001/XMLSchema-instance' xmlns:xs='http://www.w3.org/2001/XMLSchema' xmlns:typens='http://www.esri.com/schemas/ArcGIS/3.0.0'&gt;&lt;WKT&gt;PROJCS[&amp;quot;NAD_1983_StatePlane_Maryland_FIPS_1900&amp;quot;,GEOGCS[&amp;quot;GCS_North_American_1983&amp;quot;,DATUM[&amp;quot;D_North_American_1983&amp;quot;,SPHEROID[&amp;quot;GRS_1980&amp;quot;,6378137.0,298.257222101]],PRIMEM[&amp;quot;Greenwich&amp;quot;,0.0],UNIT[&amp;quot;Degree&amp;quot;,0.0174532925199433]],PROJECTION[&amp;quot;Lambert_Conformal_Conic&amp;quot;],PARAMETER[&amp;quot;False_Easting&amp;quot;,400000.0],PARAMETER[&amp;quot;False_Northing&amp;quot;,0.0],PARAMETER[&amp;quot;Central_Meridian&amp;quot;,-77.0],PARAMETER[&amp;quot;Standard_Parallel_1&amp;quot;,38.3],PARAMETER[&amp;quot;Standard_Parallel_2&amp;quot;,39.45],PARAMETER[&amp;quot;Latitude_Of_Origin&amp;quot;,37.66666666666666],UNIT[&amp;quot;Meter&amp;quot;,1.0],AUTHORITY[&amp;quot;EPSG&amp;quot;,26985]],VERTCS[&amp;quot;NAVD88 height - Geoid12B (metre)&amp;quot;,VDATUM[&amp;quot;North American Vertical Datum 1988&amp;quot;],PARAMETER[&amp;quot;Vertical_Shift&amp;quot;,0.0],PARAMETER[&amp;quot;Direction&amp;quot;,1.0],UNIT[&amp;quot;metre&amp;quot;,1.0]]&lt;/WKT&gt;&lt;XOrigin&gt;-36747100&lt;/XOrigin&gt;&lt;YOrigin&gt;-29091500&lt;/YOrigin&gt;&lt;XYScale&gt;121236910.21292362&lt;/XYScale&gt;&lt;ZOrigin&gt;-100000&lt;/ZOrigin&gt;&lt;ZScale&gt;10000&lt;/ZScale&gt;&lt;MOrigin&gt;-100000&lt;/MOrigin&gt;&lt;MScale&gt;10000&lt;/MScale&gt;&lt;XYTolerance&gt;0.001&lt;/XYTolerance&gt;&lt;ZTolerance&gt;0.001&lt;/ZTolerance&gt;&lt;MTolerance&gt;0.001&lt;/MTolerance&gt;&lt;HighPrecision&gt;true&lt;/HighPrecision&gt;&lt;WKID&gt;26985&lt;/WKID&gt;&lt;LatestWKID&gt;26985&lt;/LatestWKID&gt;&lt;/ProjectedCoordinateSystem&gt;</peXml>
</coordRef>
<RasterProperties>
<General>
<PixelDepth Sync="TRUE">32</PixelDepth>
<HasColormap Sync="TRUE">FALSE</HasColormap>
<CompressionType Sync="TRUE">None</CompressionType>
<NumBands Sync="TRUE">1</NumBands>
<Format Sync="TRUE">AMD</Format>
<HasPyramids Sync="TRUE">TRUE</HasPyramids>
<SourceType Sync="TRUE">continuous</SourceType>
<PixelType Sync="TRUE">floating point</PixelType>
<NoDataValue Sync="TRUE"/>
</General>
<Properties>
<MaxImageHeight Sync="TRUE">4100</MaxImageHeight>
<MaxImageWidth Sync="TRUE">15000</MaxImageWidth>
<MaxRecordCount Sync="TRUE">1000</MaxRecordCount>
<MaxDownloadImageCount Sync="TRUE">20</MaxDownloadImageCount>
<MaxDownloadSizeLimit Sync="TRUE">2048</MaxDownloadSizeLimit>
<MaxMosaicImageCount Sync="TRUE">20</MaxMosaicImageCount>
<DefaultCompressionQuality Sync="TRUE">75</DefaultCompressionQuality>
<DefaultCompressionTolerance Sync="TRUE">0.01</DefaultCompressionTolerance>
<BlendWidth Sync="TRUE">10</BlendWidth>
<ViewpointSpacingX Sync="TRUE">600</ViewpointSpacingX>
<ViewpointSpacingY Sync="TRUE">300</ViewpointSpacingY>
<AllowedItemMetadata Sync="TRUE">Basic</AllowedItemMetadata>
<DefaultResamplingMethod Sync="TRUE">1</DefaultResamplingMethod>
<AllowedMosaicMethods Sync="TRUE">NorthWest,Center,LockRaster,ByAttribute,Nadir,Viewpoint,Seamline,None</AllowedMosaicMethods>
<AllowedCompressions Sync="TRUE">None,JPEG,LZ77,LERC</AllowedCompressions>
<AllowedMensurationCapabilities Sync="TRUE">None</AllowedMensurationCapabilities>
<AvailableMensurationCapabilities Sync="TRUE">None,Basic,Base-Top Height,Top-Top Shadow Height,Base-Top Shadow Height,3D</AvailableMensurationCapabilities>
<ClipToBoundary Sync="TRUE">-1</ClipToBoundary>
<FootprintMayContainNoData Sync="TRUE">-1</FootprintMayContainNoData>
<CellSizeTolerance Sync="TRUE">0.8</CellSizeTolerance>
<MinimumPixelContribution Sync="TRUE">1</MinimumPixelContribution>
<AvailableMosaicMethods Sync="TRUE">NorthWest,Center,LockRaster,ByAttribute,Nadir,Viewpoint,Seamline,None</AvailableMosaicMethods>
<AvailableCompressionMethods Sync="TRUE">None,JPEG,LZ77,LERC</AvailableCompressionMethods>
<AvailableItemMetadataLevels Sync="TRUE">None,Basic,Full</AvailableItemMetadataLevels>
<BandDefinitionKeyword Sync="TRUE">NONE</BandDefinitionKeyword>
<_docversion_ Sync="TRUE">10</_docversion_>
<AllowedFields Sync="TRUE">Name,MinPS,MaxPS,LowPS,HighPS,Tag,GroupName,ProductName,CenterX,CenterY,ZOrder,Shape_Length,Shape_Area,Version,PointCount,PointSpacing,ZMin,ZMax</AllowedFields>
<DataType Sync="TRUE">Elevation</DataType>
<MaxCellSize Sync="TRUE">4050</MaxCellSize>
<LowCellSize Sync="TRUE">1</LowCellSize>
<HighCellSize Sync="TRUE">81</HighCellSize>
<PixelCacheLocation Sync="TRUE">C:\Users\brian.putz\AppData\Local\ESRI\rasterproxies\Classified_LAS</PixelCacheLocation>
</Properties>
<Functions Sync="TRUE">
<Function Description="Performs on-the-fly mosaic on a raster catalog." Name="Mosaic Function"/>
</Functions>
</RasterProperties>
</DataProperties>
<SyncDate>20230816</SyncDate>
<SyncTime>13395900</SyncTime>
<ModDate>20230816</ModDate>
<ModTime>13395900</ModTime>
</Esri>
<mdChar>
<CharSetCd value="004"/>
</mdChar>
<mdHrLv>
<ScopeCd value="005"/>
</mdHrLv>
<mdContact>
<rpIndName>GIS Data Coordinator</rpIndName>
<rpOrgName>D.C. Office of the Chief Technology Officer</rpOrgName>
<rpCntInfo>
<cntPhone>
<faxNum>(202) 727-5660</faxNum>
</cntPhone>
<cntAddress addressType="both">
<delPoint>200 I Street SE, 5th Floor</delPoint>
<city>Washington</city>
<adminArea>DC</adminArea>
<postCode>20003</postCode>
<country>US</country>
<eMailAdd>dcgis@dc.gov</eMailAdd>
</cntAddress>
</rpCntInfo>
<role>
<RoleCd value="007"/>
</role>
</mdContact>
<mdDateSt>20220712</mdDateSt>
<mdStanName>ArcGIS Metadata</mdStanName>
<mdStanVer>1.0</mdStanVer>
<distInfo>
<distributor>
<distorCont>
<rpIndName>GIS Data Coordinator</rpIndName>
<rpOrgName>D.C. Office of the Chief Technology Officer</rpOrgName>
<rpCntInfo>
<cntPhone>
<faxNum>(202) 727-5660</faxNum>
</cntPhone>
<cntAddress addressType="both">
<delPoint>200 I Street SE, 5th Floor</delPoint>
<city>Washington</city>
<adminArea>DC</adminArea>
<postCode>20003</postCode>
<country>US</country>
<eMailAdd>dcgis@dc.gov</eMailAdd>
</cntAddress>
</rpCntInfo>
<role>
<RoleCd value="005"/>
</role>
</distorCont>
<distorFormat>
<formatName>Digital Data</formatName>
</distorFormat>
</distributor>
</distInfo>
<dataIdInfo>
<idCitation>
<resTitle>Classified_LAS_2022</resTitle>
<date>
<pubDate>2022-05-24</pubDate>
</date>
<citRespParty>
<rpOrgName>Fugro USA Land, Inc.</rpOrgName>
<role>
<RoleCd value="006"/>
</role>
</citRespParty>
<presForm>
<PresFormCd value="lidar point cloud"/>
</presForm>
<presForm>
<fgdcGeoform>Lidar point cloud</fgdcGeoform>
</presForm>
</idCitation>
<idAbs>These lidar data are processed classified LAS 1.4 files at USGS QL2 covering the District of Columbia. Some areas have limited data. The lidar dataset redaction was conducted under the guidance of the United States Secret Service. All data returns were removed from the dataset within the United States Secret Service redaction boundary except for classified ground points and classified water points.</idAbs>
<idPurp>LiDAR point cloud data acquisition was flown in a single lift on January 24, 2022, and a short reflight on January 26, 2022. This data is used for the planning and management of Washington, D.C. by local government agencies.</idPurp>
<idCredit>There are no credits for this item.</idCredit>
<idStatus>
<ProgCd value="001"/>
</idStatus>
<idPoC>
<rpIndName>GIS Data Coordinator</rpIndName>
<rpOrgName>D.C. Office of the Chief Technology Officer</rpOrgName>
<rpCntInfo>
<cntPhone>
<faxNum>(202) 727-5660</faxNum>
</cntPhone>
<cntAddress addressType="both">
<delPoint>200 I Street SE, 5th Floor</delPoint>
<city>Washington</city>
<adminArea>DC</adminArea>
<postCode>20003</postCode>
<country>US</country>
<eMailAdd>dcgis@dc.gov</eMailAdd>
</cntAddress>
</rpCntInfo>
<role>
<RoleCd value="007"/>
</role>
</idPoC>
<resMaint>
<maintFreq>
<MaintFreqCd value="011"/>
</maintFreq>
</resMaint>
<placeKeys>
<keyword>District of Columbia, Washington DC</keyword>
</placeKeys>
<themeKeys>
<keyword>Elevation</keyword>
<thesaName>
<resTitle>ISO 19115 Topic Category</resTitle>
</thesaName>
</themeKeys>
<themeKeys>
<keyword>2022</keyword>
<keyword>LiDAR</keyword>
<keyword>LAS Point Cloud</keyword>
<keyword>Elevation Data</keyword>
</themeKeys>
<searchKeys>
<keyword>Elevation</keyword>
<keyword>2022</keyword>
<keyword>LiDAR</keyword>
<keyword>LAS Point Cloud</keyword>
<keyword>Elevation Data</keyword>
<keyword>District of Columbia</keyword>
<keyword>Washington DC</keyword>
</searchKeys>
<resConst>
<Consts>
<useLimit>None, However, users should be aware that temporal changes may have occurred since this dataset was collected and that some parts of these data may no longer represent actual surface conditions. Users should not use these data for critical applications without a full awareness of its limitations. This work is licensed under a Creative Commons Attribution 4.0 International License.</useLimit>
</Consts>
</resConst>
<resConst>
<LegConsts>
<useLimit>See access and use constraints information.</useLimit>
<accessConsts>
<RestrictCd value="008"/>
</accessConsts>
<othConsts>No restrictions apply to this data.</othConsts>
</LegConsts>
</resConst>
<spatRpType>
<SpatRepTypCd value="002"/>
</spatRpType>
<tpCat>
<TopicCatCd value="006"/>
</tpCat>
<envirDesc> Version 6.2 (Build 9200) ; Esri ArcGIS 10.8.1.14362</envirDesc>
<dataExt>
<geoEle>
<GeoBndBox>
<exTypeCode>true</exTypeCode>
<westBL>-77.122373</westBL>
<eastBL>-76.900716</eastBL>
<northBL>39.001746</northBL>
<southBL>38.785481</southBL>
</GeoBndBox>
</geoEle>
</dataExt>
<dataExt>
<exDesc>ground condition</exDesc>
<tempEle>
<TempExtent>
<exTemp>
<TM_Period>
<tmBegin>2022-01-24</tmBegin>
<tmEnd>2022-01-26</tmEnd>
</TM_Period>
</exTemp>
</TempExtent>
</tempEle>
<geoEle/>
</dataExt>
<dataLang>
<languageCode Sync="TRUE" value="eng"/>
<countryCode Sync="TRUE" value="USA"/>
</dataLang>
<dataExt>
<geoEle>
<GeoBndBox esriExtentType="search">
<exTypeCode Sync="TRUE">1</exTypeCode>
<westBL Sync="TRUE">-77.122373</westBL>
<eastBL Sync="TRUE">-76.900716</eastBL>
<northBL Sync="TRUE">39.001746</northBL>
<southBL Sync="TRUE">38.785481</southBL>
</GeoBndBox>
</geoEle>
</dataExt>
</dataIdInfo>
<mdConst>
<SecConsts>
<class>
<ClasscationCd value="001"/>
</class>
<classSys>None</classSys>
<handDesc>None</handDesc>
</SecConsts>
</mdConst>
<dqInfo>
<dqScope>
<scpLvl>
<ScopeCd value="005"/>
</scpLvl>
</dqScope>
<report type="DQConcConsis">
<measDesc>Data covers the entire District of Columbia.</measDesc>
</report>
<report type="DQCompOm">
<measDesc>Areas with deleted above-ground features exist in the dataset as directed by the United States Secret Service (USSS).</measDesc>
</report>
<dataLineage>
<prcStep>
<stepDesc>The lidar data acquisition for DC OCTO was flown to support the creation of a 4 ppsm classified lidar point cloud data set, 1m resolution hydro-flattened bare earth DEM, DSM, nDSM, 1 meter resolution intensity images, and .6m contours over the full project area covering the District of Columbia. Due to security requirements in the area, Fugro received waivers to fly in the Flight Restricted Zone (FRZ) and P-56 areas. The lidar acquisition was flown in a single lift on January 24, 2022, and a short reflight on January 26, 2022, at an altitude of 7,950 feet above mean sea level and composed of 22 flight lines, 20 primary lines and two cross ties. All lidar data was collected with a Piper Navajo PA31-50, tail# N62912 and a Leica ALS80 lidar sensor, #130. Due to the known difficulties flying over DC, the ALS80 sensor was selected to take advantage of its flight altitude and speed, minimizing the number of lifts for the various flight restrictions. All lidar was collected in conjunction with airborne GPS.</stepDesc>
<stepDateTm>2022</stepDateTm>
<stepProc>
<rpIndName>Fugro Geospatial. Inc.</rpIndName>
<rpCntInfo>
<cntPhone>
<voiceNum>(301)948-8550</voiceNum>
<faxNum>(301)963-2064</faxNum>
</cntPhone>
<cntAddress addressType="both">
<delPoint>7320 Executive Way</delPoint>
<city>Frederick</city>
<adminArea>MD</adminArea>
<postCode>21794</postCode>
<country>US</country>
</cntAddress>
</rpCntInfo>
<role>
<RoleCd value="009"/>
</role>
</stepProc>
</prcStep>
<prcStep>
<stepDesc>Rice and Associates, under contract to Fugro USA Land, Inc., successfully established ground control for the DC OCTO project area. A total of 31 survey points were visited, 1 ground control point, 25 NVA checkpoints, and 5 VVA checkpoints. Of those 31 surveys, 18 were only visually observed to maintain control integrity and assure that construction had not altered the point. 13 surveys were done for this project to compile with previously surveyed ground control data. The new surveys used GPS to establish the control network. The ground control was delivered in Maryland State Plane (FIPS1900) meters, with the horizontal datum provided in both NAD1983 and NAD83(2011). The vertical datum was the North American Vertical Datum of 1988 (NAVD88) using GEOID12B. The table below shows which points were used as the control, which were used as NVA checkpoints, and which were VVA checkpoints: NVA - NVA-01 NEW SURVEY,NVA-02 NEW SURVEY,NVA-03,NVA-04-2,NVA-05 NEW SURVEY,NVA-06,NVA-07-2,NVA-08,NVA-09,NVA-10 NEW SURVEY,NVA-11,NVA-12-2 NEW SURVEY,NVA-13,NVA-14 NEW SURVEY,NVA-15,NVA-16,NVA-17,NVA-18,NVA-19 NEW SURVEY,NVA-20; VVA - VVA01 NEW SURVEY,VVA02 NEW SURVEY,VVA03 NEW SURVEY,VVA04 NEW SURVEY,VVA05 NEW SURVEY; GCP - GCP-01-2,GCP-02,GCP-03,GCP-04 NEW SURVEY,GCP-05-2,GCP-06-2. During initial processing, QC and accuracy assessments were run the data in NAD83(2011) datum which is the native coordinate system from the sensor. Following boresight the data was re-projected to NAD83 for delivery per the contract specifications and cut to the delivery extent the control was re-run in the final deliverable projection.</stepDesc>
<stepDateTm>2022</stepDateTm>
</prcStep>
<prcStep>
<stepDesc>Pre-Processing and Boresight All lidar data went through a preliminary field review to ensure that complete coverage was obtained and that there were no gaps between flight lines prior to leaving the project site. Once back in the office, the data went through a complete iteration of processing to ensure that it is complete, uncorrupted and that the entire project area was covered without gaps. There were three steps to processing: 1) GPS/IMU processing - airborne GPS and IMU data was processed using the airport GPS base station data; 2) raw lidar data processing - the raw data was processed to LAS format flight lines with full resolution output before performing QC. A starting configuration file is used in this process, which contains the latest calibration parameters for the sensor and outputs the flight line trajectories. 3) Verification of coverage and data quality - the trajectory files were checked to ensure completeness of acquisition for the flight lines, calibration lines and cross flight lines. Intensity images were generated for the entire lift and thoroughly reviewed for data gaps in project area. A sample TIN surface was generated to ensure no anomalies or turbulence were present in the data; if any adverse quality issues were discovered, the flight line was rejected and re-flown. The achieved post spacing confirmed against the project specification of 4 ppsm and checked for clustering in point distribution. The review showed that the lidar data exceeded the 2 ppsm post spacing. The lidar data was boresighted using the following steps: 1) The raw data was processed to LAS format flight lines using the final GPS/IMU solution. This LAS dataset was used as source data for boresighting. 2) Fugro proprietary and commercial software was used to calculate initial boresight adjustment angles based on sample areas within the lift. These areas cover calibration flight lines collected in the lift, cross tie and production flight lines. These areas are well distributed in the lift coverage and cover multiple terrain types that are necessary for boresight angle calculation. The results were analyzed and any additional adjustments were completed in the selected areas. 3) Once the boresight angle calculation was completed, the adjusted settings were applied to the flight lines of the lift and checked for consistency. The technicians utilized commercial and proprietary software packages to analyze the matching between flight line overlaps for the entire lift and adjusted as necessary. 4) Vertical misalignment of all flight lines was checked and corrected, as was the matching between data and ground truth. 5) A final vertical accuracy check of the boresighted flight lines against the surveyed ground control points was conducted. The boresighted lidar data achieved a vertical accuracy of 0.052m RMSE (0.102m at 95% confidence) against the 20 NVA checkpoint control locations.</stepDesc>
<stepDateTm>2022</stepDateTm>
</prcStep>
<prcStep>
<stepDesc>Data Redaction Following the boresight completion, the lidar dataset redaction was conducted under the guidance of the United States Secret Service. All lidar data returns and collected data were removed from the dataset based on the redaction footprint shapefile agreed upon in 2022.</stepDesc>
<stepDateTm>2022</stepDateTm>
</prcStep>
<prcStep>
<stepDesc>Classified Point Cloud The boresighted lidar data underwent an automated classification filter to classify low noise, high noise, and ground points. To obtain optimum results, the parameters used by the automated classification filter are customized for each terrain type and project. Once the automated filtering was completed, the lidar files went through a visual inspection to ensure that an appropriate level of filtering was used. In cases where the filtering was too aggressive and important terrain may have been filtered out, the data is either run through a different filter within localized area or is corrected during the manual filtering process. A second automatic filter is run for the initial classification on buildings. Following the automatic filters, manual editing was completed in Terrascan software to correct any misclassification of the lidar dataset. All tiles then went through a peer review to ensure proper editing and consistency. When the peer review was completed two additional automatic filters were applied. The first filter was used to classify the vegetation - moving the unclassified points to either the low, medium, or high vegetation classes. The second filter was used to re-classify points inside water bodies to water class, and a 1*NPS buffer around water bodies to ignored ground class. Once the manual inspection, QC, and auto filter is complete for the lidar tiles, the LAS point cloud data was converted into the final deliverable format and the accuracy statistics were re-run to confirm the deliverable accuracy. The LAS was then cut to the final delivery layout and in LAS 1.4 format for delivery. The point cloud was delivered with data in the following classifications: Class 1 - Processed but Unclassified; Class 2 - Bare Earth Ground; Class 3 - Low Vegetation; Class 4 - Medium Vegetation; Class 5 - High Vegetation, Class 6 - Buildings; Class 7 - Low Point (Noise); Class 9 - Water; Class 17 - Bridge Decks; Class 18 - High Noise; Class 20 - Ignored Ground.</stepDesc>
<stepDateTm>2022</stepDateTm>
</prcStep>
</dataLineage>
</dqInfo>
<spatRepInfo>
<Georect>
<numDims>2</numDims>
<axisDimension type="001">
<dimSize>24000</dimSize>
<dimResol>
<value Sync="TRUE" uom="m">1.000000</value>
</dimResol>
</axisDimension>
<axisDimension type="002">
<dimSize>19200</dimSize>
<dimResol>
<value Sync="TRUE" uom="m">1.000000</value>
</dimResol>
</axisDimension>
<cellGeo>
<CellGeoCd Sync="TRUE" value="002"/>
</cellGeo>
<tranParaAv Sync="TRUE">1</tranParaAv>
<chkPtAv Sync="TRUE">0</chkPtAv>
<cornerPts>
<pos Sync="TRUE">389400.000000 124200.000000</pos>
</cornerPts>
<cornerPts>
<pos Sync="TRUE">389400.000000 148200.000000</pos>
</cornerPts>
<cornerPts>
<pos Sync="TRUE">408600.000000 148200.000000</pos>
</cornerPts>
<cornerPts>
<pos Sync="TRUE">408600.000000 124200.000000</pos>
</cornerPts>
<centerPt>
<pos Sync="TRUE">399000.000000 136200.000000</pos>
</centerPt>
<ptInPixel>
<PixOrientCd Sync="TRUE" value="001"/>
</ptInPixel>
</Georect>
</spatRepInfo>
<mdLang>
<languageCode Sync="TRUE" value="eng"/>
<countryCode Sync="TRUE" value="USA"/>
</mdLang>
<refSysInfo>
<RefSystem>
<refSysID>
<identCode Sync="TRUE" code="26985"/>
<idCodeSpace Sync="TRUE">EPSG</idCodeSpace>
<idVersion Sync="TRUE">4.5(3.0.1)</idVersion>
</refSysID>
</RefSystem>
</refSysInfo>
<contInfo>
<ImgDesc>
<contentTyp>
<ContentTypCd Sync="TRUE" value="001"/>
</contentTyp>
<covDim>
<Band>
<dimDescrp Sync="TRUE">Band_1</dimDescrp>
<maxVal Sync="TRUE">214.854004</maxVal>
