<?xml version="1.0" encoding="UTF-8" standalone="no"?>
<metadata xml:lang="en">
<Esri>
<CreaDate>20230822</CreaDate>
<CreaTime>14525900</CreaTime>
<ArcGISFormat>1.0</ArcGISFormat>
<SyncOnce>FALSE</SyncOnce>
<DataProperties>
<lineage>
<Process Date="20230822" Time="145259" ToolSource="c:\program files\arcgis\pro\Resources\ArcToolbox\toolboxes\Data Management Tools.tbx\CreateMosaicDataset">CreateMosaicDataset E:\ProductionFiles\Lidar_2020\Lidar_2020.gdb Classified_LAS PROJCS["NAD_1983_StatePlane_Maryland_FIPS_1900",GEOGCS["GCS_North_American_1983",DATUM["D_North_American_1983",SPHEROID["GRS_1980",6378137.0,298.257222101]],PRIMEM["Greenwich",0.0],UNIT["Degree",0.0174532925199433]],PROJECTION["Lambert_Conformal_Conic"],PARAMETER["False_Easting",400000.0],PARAMETER["False_Northing",0.0],PARAMETER["Central_Meridian",-77.0],PARAMETER["Standard_Parallel_1",38.3],PARAMETER["Standard_Parallel_2",39.45],PARAMETER["Latitude_Of_Origin",37.66666666666666],UNIT["Meter",1.0]],VERTCS["NAVD88 height - Geoid12B (metre)",VDATUM["North American Vertical Datum 1988"],PARAMETER["Vertical_Shift",0.0],PARAMETER["Direction",1.0],UNIT["metre",1.0]] # # None #</Process>
<Process Date="20230822" Time="150116" ToolSource="c:\program files\arcgis\pro\Resources\ArcToolbox\toolboxes\Data Management Tools.tbx\AddRastersToMosaicDataset">AddRastersToMosaicDataset E:\ProductionFiles\Lidar_2020\Lidar_2020.gdb\Classified_LAS "LAS @ E:\ProductionFiles\Lidar_2020\Lidar_2020.gdb\Classified_LAS\RasterType.OBJECTID=1" E:\ProductionFiles\Lidar_2020\LAS_Point_Cloud UPDATE_CELL_SIZES UPDATE_BOUNDARY UPDATE_OVERVIEWS # 0 1500 # # SUBFOLDERS "Allow duplicates" NO_PYRAMIDS CALCULATE_STATISTICS NO_THUMBNAILS # NO_FORCE_SPATIAL_REFERENCE ESTIMATE_STATISTICS # NO_PIXEL_CACHE C:\Users\brian.putz\AppData\Local\ESRI\rasterproxies\Classified_LAS</Process>
</lineage>
<itemProps>
<itemName Sync="TRUE">Classified_LAS</itemName>
<itemLocation>
<linkage Sync="TRUE">file://\\OCTO-5GS23W2\E$\ProductionFiles\Lidar_2020\Lidar_2020.gdb</linkage>
<protocol Sync="TRUE">Local Area Network</protocol>
</itemLocation>
<nativeExtBox>
<westBL Sync="TRUE">389400.000000</westBL>
<eastBL Sync="TRUE">408600.000000</eastBL>
<southBL Sync="TRUE">124200.000000</southBL>
<northBL Sync="TRUE">148200.000000</northBL>
<exTypeCode Sync="TRUE">1</exTypeCode>
</nativeExtBox>
</itemProps>
<coordRef>
<type Sync="TRUE">Projected</type>
<geogcsn Sync="TRUE">GCS_North_American_1983</geogcsn>
<csUnits Sync="TRUE">Linear Unit: Meter (1.000000)</csUnits>
<projcsn Sync="TRUE">NAD_1983_StatePlane_Maryland_FIPS_1900</projcsn>
<peXml Sync="TRUE">&lt;ProjectedCoordinateSystem xsi:type='typens:ProjectedCoordinateSystem' xmlns:xsi='http://www.w3.org/2001/XMLSchema-instance' xmlns:xs='http://www.w3.org/2001/XMLSchema' xmlns:typens='http://www.esri.com/schemas/ArcGIS/3.0.0'&gt;&lt;WKT&gt;PROJCS[&amp;quot;NAD_1983_StatePlane_Maryland_FIPS_1900&amp;quot;,GEOGCS[&amp;quot;GCS_North_American_1983&amp;quot;,DATUM[&amp;quot;D_North_American_1983&amp;quot;,SPHEROID[&amp;quot;GRS_1980&amp;quot;,6378137.0,298.257222101]],PRIMEM[&amp;quot;Greenwich&amp;quot;,0.0],UNIT[&amp;quot;Degree&amp;quot;,0.0174532925199433]],PROJECTION[&amp;quot;Lambert_Conformal_Conic&amp;quot;],PARAMETER[&amp;quot;False_Easting&amp;quot;,400000.0],PARAMETER[&amp;quot;False_Northing&amp;quot;,0.0],PARAMETER[&amp;quot;Central_Meridian&amp;quot;,-77.0],PARAMETER[&amp;quot;Standard_Parallel_1&amp;quot;,38.3],PARAMETER[&amp;quot;Standard_Parallel_2&amp;quot;,39.45],PARAMETER[&amp;quot;Latitude_Of_Origin&amp;quot;,37.66666666666666],UNIT[&amp;quot;Meter&amp;quot;,1.0],AUTHORITY[&amp;quot;EPSG&amp;quot;,26985]],VERTCS[&amp;quot;NAVD88 height - Geoid12B (metre)&amp;quot;,VDATUM[&amp;quot;North American Vertical Datum 1988&amp;quot;],PARAMETER[&amp;quot;Vertical_Shift&amp;quot;,0.0],PARAMETER[&amp;quot;Direction&amp;quot;,1.0],UNIT[&amp;quot;metre&amp;quot;,1.0]]&lt;/WKT&gt;&lt;XOrigin&gt;-36747100&lt;/XOrigin&gt;&lt;YOrigin&gt;-29091500&lt;/YOrigin&gt;&lt;XYScale&gt;121236910.21292362&lt;/XYScale&gt;&lt;ZOrigin&gt;-100000&lt;/ZOrigin&gt;&lt;ZScale&gt;10000&lt;/ZScale&gt;&lt;MOrigin&gt;-100000&lt;/MOrigin&gt;&lt;MScale&gt;10000&lt;/MScale&gt;&lt;XYTolerance&gt;0.001&lt;/XYTolerance&gt;&lt;ZTolerance&gt;0.001&lt;/ZTolerance&gt;&lt;MTolerance&gt;0.001&lt;/MTolerance&gt;&lt;HighPrecision&gt;true&lt;/HighPrecision&gt;&lt;WKID&gt;26985&lt;/WKID&gt;&lt;LatestWKID&gt;26985&lt;/LatestWKID&gt;&lt;/ProjectedCoordinateSystem&gt;</peXml>
</coordRef>
<RasterProperties>
<General>
<PixelDepth Sync="TRUE">32</PixelDepth>
<HasColormap Sync="TRUE">FALSE</HasColormap>
<CompressionType Sync="TRUE">None</CompressionType>
<NumBands Sync="TRUE">1</NumBands>
<Format Sync="TRUE">AMD</Format>
<HasPyramids Sync="TRUE">TRUE</HasPyramids>
<SourceType Sync="TRUE">continuous</SourceType>
<PixelType Sync="TRUE">floating point</PixelType>
<NoDataValue Sync="TRUE"/>
</General>
<Properties>
<MaxImageHeight Sync="TRUE">4100</MaxImageHeight>
<MaxImageWidth Sync="TRUE">15000</MaxImageWidth>
<MaxRecordCount Sync="TRUE">1000</MaxRecordCount>
<MaxDownloadImageCount Sync="TRUE">20</MaxDownloadImageCount>
<MaxDownloadSizeLimit Sync="TRUE">2048</MaxDownloadSizeLimit>
<MaxMosaicImageCount Sync="TRUE">20</MaxMosaicImageCount>
<DefaultCompressionQuality Sync="TRUE">75</DefaultCompressionQuality>
<DefaultCompressionTolerance Sync="TRUE">0.01</DefaultCompressionTolerance>
<BlendWidth Sync="TRUE">10</BlendWidth>
<ViewpointSpacingX Sync="TRUE">600</ViewpointSpacingX>
<ViewpointSpacingY Sync="TRUE">300</ViewpointSpacingY>
<AllowedItemMetadata Sync="TRUE">Basic</AllowedItemMetadata>
<DefaultResamplingMethod Sync="TRUE">1</DefaultResamplingMethod>
<AllowedMosaicMethods Sync="TRUE">NorthWest,Center,LockRaster,ByAttribute,Nadir,Viewpoint,Seamline,None</AllowedMosaicMethods>
<AllowedCompressions Sync="TRUE">None,JPEG,LZ77,LERC</AllowedCompressions>
<AllowedMensurationCapabilities Sync="TRUE">Basic</AllowedMensurationCapabilities>
<AvailableMensurationCapabilities Sync="TRUE">None,Basic,Base-Top Height,Top-Top Shadow Height,Base-Top Shadow Height,3D</AvailableMensurationCapabilities>
<ClipToBoundary Sync="TRUE">-1</ClipToBoundary>
<FootprintMayContainNoData Sync="TRUE">-1</FootprintMayContainNoData>
<CellSizeTolerance Sync="TRUE">0.8</CellSizeTolerance>
<MinimumPixelContribution Sync="TRUE">1</MinimumPixelContribution>
<AvailableMosaicMethods Sync="TRUE">NorthWest,Center,LockRaster,ByAttribute,Nadir,Viewpoint,Seamline,None</AvailableMosaicMethods>
<AvailableCompressionMethods Sync="TRUE">None,JPEG,LZ77,LERC</AvailableCompressionMethods>
<AvailableItemMetadataLevels Sync="TRUE">None,Basic,Full</AvailableItemMetadataLevels>
<BandDefinitionKeyword Sync="TRUE">NONE</BandDefinitionKeyword>
<_docversion_ Sync="TRUE">10</_docversion_>
<AllowedFields Sync="TRUE">Name,MinPS,MaxPS,LowPS,HighPS,Tag,GroupName,ProductName,CenterX,CenterY,ZOrder,Shape_Length,Shape_Area,Version,PointCount,PointSpacing,ZMin,ZMax</AllowedFields>
<DataType Sync="TRUE">Elevation</DataType>
<MaxCellSize Sync="TRUE">4050</MaxCellSize>
<LowCellSize Sync="TRUE">1</LowCellSize>
<HighCellSize Sync="TRUE">81</HighCellSize>
<PixelCacheLocation Sync="TRUE">C:\Users\brian.putz\AppData\Local\ESRI\rasterproxies\Classified_LAS</PixelCacheLocation>
</Properties>
<Functions Sync="TRUE">
<Function Description="Performs on-the-fly mosaic on a raster catalog." Name="Mosaic Function"/>
</Functions>
</RasterProperties>
</DataProperties>
<SyncDate>20230822</SyncDate>
<SyncTime>15034700</SyncTime>
<ModDate>20230822</ModDate>
<ModTime>15034700</ModTime>
</Esri>
<mdChar>
<CharSetCd value="004"/>
</mdChar>
<mdHrLv>
<ScopeCd value="005"/>
</mdHrLv>
<mdContact>
<rpIndName>GIS Data Coordinator</rpIndName>
<rpOrgName>D.C. Office of the Chief Technology Officer</rpOrgName>
<rpCntInfo>
<cntPhone>
<voiceNum>Contact_Voice_Telephone</voiceNum>
<faxNum>(202) 727-5660</faxNum>
</cntPhone>
<cntAddress addressType="both">
<delPoint>200 I Street SE, 5th Floor</delPoint>
<city>Washington</city>
<adminArea>DC</adminArea>
<postCode>20003</postCode>
<country>US</country>
<eMailAdd>dcgis@dc.gov</eMailAdd>
</cntAddress>
<cntHours>8:30 AM to 5:00 PM (Eastern Time)</cntHours>
</rpCntInfo>
<role>
<RoleCd value="007"/>
</role>
</mdContact>
<mdDateSt>20210204</mdDateSt>
<mdStanName>ArcGIS Metadata</mdStanName>
<mdStanVer>1.0</mdStanVer>
<dataIdInfo>
<idCitation>
<resTitle>Classified_LAS_2020</resTitle>
<date>
<pubDate>2020-12-21</pubDate>
</date>
<presForm>
<PresFormCd value="lidar point cloud"/>
</presForm>
<presForm>
<fgdcGeoform>Lidar point cloud</fgdcGeoform>
</presForm>
</idCitation>
<idAbs>These lidar data are processed classified LAS 1.4 files at USGS QL2 covering the District of Columbia. Some areas have limited data. The lidar dataset redaction was conducted under the guidance of the United States Secret Service. Except for classified ground points and classified water points, all lidar data returns and collected data were removed from the dataset within the United States Secret Service 1m redaction boundary generated for the 2017 orthophoto flight</idAbs>
<idPurp>LiDAR point cloud data collected from overhead flights on 6/26/2020, 6/29/2020, and 6/30/2020. This data is used for the planning and management of Washington, D.C. by local government agencies.</idPurp>
<idStatus>
<ProgCd value="001"/>
</idStatus>
<idPoC>
<rpIndName>GIS Data Coordinator</rpIndName>
<rpOrgName>D.C. Office of the Chief Technology Officer</rpOrgName>
<rpCntInfo>
<cntPhone>
<faxNum>(202) 727-5660</faxNum>
</cntPhone>
<cntAddress addressType="both">
<delPoint>200 I Street SE, 5th Floor</delPoint>
<city>Washington</city>
<adminArea>DC</adminArea>
<postCode>20003</postCode>
<country>US</country>
<eMailAdd>dcgis@dc.gov</eMailAdd>
</cntAddress>
</rpCntInfo>
<role>
<RoleCd value="007"/>
</role>
</idPoC>
<resMaint>
<maintFreq>
<MaintFreqCd value="011"/>
</maintFreq>
</resMaint>
<placeKeys>
<keyword>District of Columbia</keyword>
<keyword>Washington DC</keyword>
</placeKeys>
<themeKeys>
<keyword>elevation</keyword>
<thesaName>
<resTitle>ISO 19115 Topic Categories</resTitle>
</thesaName>
</themeKeys>
<themeKeys>
<keyword>2020</keyword>
<keyword>LiDAR</keyword>
<keyword>LAS Point Cloud</keyword>
<keyword>Elevation Data</keyword>
</themeKeys>
<searchKeys>
<keyword>elevation</keyword>
<keyword>2020</keyword>
<keyword>LiDAR</keyword>
<keyword>LAS Point Cloud</keyword>
<keyword>Elevation Data</keyword>
<keyword>District of Columbia</keyword>
<keyword>Washington DC</keyword>
</searchKeys>
<resConst>
<Consts>
<useLimit>This work is licensed under a Creative Commons Attribution 4.0 International License.</useLimit>
</Consts>
</resConst>
<resConst>
<LegConsts>
<accessConsts>
<RestrictCd value="008"/>
</accessConsts>
<othConsts>No restrictions apply to this data.</othConsts>
</LegConsts>
</resConst>
<spatRpType>
<SpatRepTypCd value="002"/>
</spatRpType>
<tpCat>
<TopicCatCd value="006"/>
</tpCat>
<envirDesc> Version 6.2 (Build 9200) ; Esri ArcGIS 10.8.1.14362</envirDesc>
<dataExt>
<geoEle>
<GeoBndBox>
<exTypeCode>true</exTypeCode>
<westBL>-77.122373</westBL>
<eastBL>-76.900716</eastBL>
<northBL>39.001746</northBL>
<southBL>38.785481</southBL>
</GeoBndBox>
</geoEle>
</dataExt>
<dataLang>
<languageCode Sync="TRUE" value="eng"/>
<countryCode Sync="TRUE" value="USA"/>
</dataLang>
<dataExt>
<geoEle>
<GeoBndBox esriExtentType="search">
<exTypeCode Sync="TRUE">1</exTypeCode>
<westBL Sync="TRUE">-77.122373</westBL>
<eastBL Sync="TRUE">-76.900716</eastBL>
<northBL Sync="TRUE">39.001746</northBL>
<southBL Sync="TRUE">38.785481</southBL>
</GeoBndBox>
</geoEle>
</dataExt>
<idCredit/>
</dataIdInfo>
<mdConst>
<SecConsts>
<class>
<ClasscationCd value="001"/>
</class>
<classSys>None.</classSys>
<handDesc>None</handDesc>
</SecConsts>
</mdConst>
<dqInfo>
<dqScope>
<scpLvl>
<ScopeCd value="005"/>
</scpLvl>
</dqScope>
<report type="DQConcConsis">
<measDesc>Data covers the entire District of Columbia.</measDesc>
</report>
<report type="DQCompOm">
<measDesc>Voids exist in the dataset as directed by the United States Secret Service (USSS).</measDesc>
</report>
<dataLineage>
<prcStep>
<stepDesc>Acquisition: The lidar data acquisition for DC OCTO was flown to support the creation of a 2 ppsm classified lidar point cloud data set, 1 m resolution hydro-flattened bare earth DEM and nDSM, and .6m contours over the full project area covering the District of Columbia. Due to security requirements in the area, Fugro received waivers to fly in the Flight Restricted Zone (FRZ) and P-56 areas. The lidar acquisition was flown on 6/26/2020, 6/29/2020, and 6/30/2020, at an altitude of 9,022 feet above mean sea level and composed of 28 flight lines, 26 primary lines and two cross ties. All lidar data was collected with a Cessna 441, tail# N93HC and a Leica ALS80 lidar sensor, #130. Due to the known difficulties flying over DC, the ALS80 sensor was selected to take advantage of its flight altitude and speed, minimizing the number of lifts for the various flight restrictions. All lidar was collected in conjunction with airborne GPS.</stepDesc>
<stepProc>
<rpIndName>Fugro Geospatial. Inc.</rpIndName>
<rpCntInfo>
<cntPhone>
<voiceNum>(301) 948-8550</voiceNum>
</cntPhone>
<cntAddress addressType="unknown">
<delPoint>7320 Executive Way # 107</delPoint>
<city>Frederick</city>
<adminArea>MD</adminArea>
<postCode>21704</postCode>
<country>US</country>
</cntAddress>
</rpCntInfo>
<role>
<RoleCd value="009"/>
</role>
</stepProc>
</prcStep>
<prcStep>
<stepDesc>Ground Control and Projection: Rice Associates, under contract to Fugro Geospatial, Inc., successfully established ground control for the DC OCTO project area. A total of 31 survey points were used, 6 ground control points, 20 NVA checkpoints, and 5 VVA checkpoints. GPS was used to establish the control network. The ground control was delivered in Maryland State Plane (FIPS1900) meters, with the horizontal datum provided in both NAD1983 and NAD83(2011). The vertical datum was the North American Vertical Datum of 1988 (NAVD88) using GEOID12B. Control was collected on February 24, 2020. Survey results are included in the Report of Survey 2020 LiDAR Ground Control Washington D.C.pdf During initial processing, QC and accuracy assessments were run the data in NAD83(2011) datum which is the native coordinate system from the sensor. Following boresight the data was re-projected to NAD83 for delivery per the contract specifications and cut to the delivery extent the control was re-run in the final deliverable projection. 2018 Data PatchThe initial QC process determined that a few small areas in the AOI were affected by cloud cover. The data in the affected areas were patched with 2018 data. A data layer of the patched areas is available on opendata.dc.gov</stepDesc>
</prcStep>
<prcStep>
<stepDesc>Pre-Processing and Boresight: All lidar data went through a preliminary field review to ensure that complete coverage was obtained and that there were no gaps between flight lines prior to leaving the project site. Once back in the office, the data went through a complete iteration of processing to ensure that it is complete, uncorrupted and that the entire project area was covered without gaps. There were three steps to processing: 1) GPS/IMU processing - airborne GPS and IMU data was processed using the airport GPS base station data; 2) raw lidar data processing - the raw data was processed to LAS format flight lines with full resolution output before performing QC. A starting configuration file is used in this process, which contains the latest calibration parameters for the sensor and outputs the flight line trajectories. 3) Verification of coverage and data quality - the trajectory files were checked to ensure completeness of acquisition for the flight lines, calibration lines and cross flight lines. Intensity images were generated for the entire lift and thoroughly reviewed for data gaps in project area. A sample TIN surface was generated to ensure no anomalies or turbulence were present in the data; if any adverse quality issues were discovered, the flight line was rejected and re-flown. The achieved post spacing confirmed against the project specification of 2 ppsm and checked for clustering in point distribution. The review showed that the lidar data exceeded the 2 ppsm post spacing. The lidar data was boresighted using the following steps: 1) The raw data was processed to LAS format flight lines using the final GPS/IMU solution. This LAS dataset was used as source data for boresighting. 2) Fugro proprietary and commercial software was used to calculate initial boresight adjustment angles based on sample areas within the lift. These areas cover calibration flight lines collected in the lift, cross tie and production flight lines. These areas are well distributed in the lift coverage and cover multiple terrain types that are necessary for boresight angle calculation. The results were analyzed and any additional adjustments were completed the selected areas. 3) Once the boresight angle calculation was completed, the adjusted settings were applied to the flight lines of the lift and checked for consistency. The technicians utilized commercial and proprietary software packages to analyze the matching between flight line overlaps for the entire lift and adjusted as necessary. 4) Vertical misalignment of all flight lines was checked and corrected, as was the matching between data and ground truth. 5) A final vertical accuracy check of the boresighted flight lines against the surveyed ground control points was conducted. The boresighted lidar data achieved a vertical accuracy of 0.027m RMSE (0.051m at 95% confidence) against the 20 NVA checkpoint control locations (two of which fall outside of the deliverable project boundary).</stepDesc>
</prcStep>
<prcStep>
<stepDesc>Data Redaction: Following the boresight completion, the lidar dataset redaction was conducted under the guidance of the United States Secret Service. Except for classified ground points and classified water points, all lidar data returns and collected data were removed from the dataset using the United States Secret Service 1m redaction boundary generated for the 2017 orthophoto flight.</stepDesc>
</prcStep>
<prcStep>
<stepDesc>Classified Point Cloud: The boresighted lidar data underwent an automated classification filter to classify low noise, high noise, and ground points. To obtain optimum results, the parameters used by the automated classification filter are customized for each terrain type and project. Once the automated ﬁltering was completed, the lidar files went through a visual inspection to ensure that an appropriate level of filtering was used. In cases where the ﬁltering was too aggressive and important terrain may have been ﬁltered out, the data is either run through a different ﬁlter within localized area or is corrected during the manual ﬁltering process. A second automatic filter is run for the initial classification on buildings. Following the automatic filters, manual editing was completed in Terrascan software to correct any misclassification of the lidar dataset. All tiles then went through a peer review to ensure proper editing and consistency. When the peer review was completed two additional rounds of automatic filters were applied. The first filter ran the vegetation classification - moving the unclassified points to either the low, medium, or high vegetation classes. The second filter removed the cars on bridges, previously classified as vegetation, by buffering the bridges by two meters on each side (to maintain tree overhang on road shoulders and sidewalks) and then moving vegetation points over the center of the bridge to unclassified. Once the manual inspection, QC, and auto filter is complete for the lidar tiles, the LAS point cloud data was re-projected into the final deliverable projection and the accuracy statistics were re-run to confirm the deliverable accuracy. The LAS was then cut to the final delivery layout and in LAS 1.4 format for delivery. The point cloud was delivered with data in the following classifications: Class 1 - Processed but Unclassified; Class 2 - Bare Earth Ground; Class 3 - Low Vegetation; Class 4 - Medium Vegetation; Class 5 - High Vegetation, Class 6 - Buildings; Class 7 - Low Point (Noise); Class 9 - Water; Class 17 - Bridge Decks; Class 18 - High Noise; Class 20 - Ignored Ground.</stepDesc>
</prcStep>
</dataLineage>
</dqInfo>
<spatRepInfo>
<Georect>
<numDims>2</numDims>
<axisDimension type="001">
<dimSize>24000</dimSize>
<dimResol>
<value Sync="TRUE" uom="m">1.000000</value>
</dimResol>
</axisDimension>
<axisDimension type="002">
<dimSize>19200</dimSize>
<dimResol>
<value Sync="TRUE" uom="m">1.000000</value>
</dimResol>
</axisDimension>
<cellGeo>
<CellGeoCd Sync="TRUE" value="002"/>
</cellGeo>
<tranParaAv Sync="TRUE">1</tranParaAv>
<chkPtAv Sync="TRUE">0</chkPtAv>
<cornerPts>
<pos Sync="TRUE">389400.000000 124200.000000</pos>
</cornerPts>
<cornerPts>
<pos Sync="TRUE">389400.000000 148200.000000</pos>
</cornerPts>
<cornerPts>
<pos Sync="TRUE">408600.000000 148200.000000</pos>
</cornerPts>
<cornerPts>
<pos Sync="TRUE">408600.000000 124200.000000</pos>
</cornerPts>
<centerPt>
<pos Sync="TRUE">399000.000000 136200.000000</pos>
</centerPt>
<ptInPixel>
<PixOrientCd Sync="TRUE" value="001"/>
</ptInPixel>
</Georect>
</spatRepInfo>
<mdLang>
<languageCode Sync="TRUE" value="eng"/>
<countryCode Sync="TRUE" value="USA"/>
</mdLang>
<refSysInfo>
<RefSystem>
<refSysID>
<identCode Sync="TRUE" code="26985"/>
<idCodeSpace Sync="TRUE">EPSG</idCodeSpace>
<idVersion Sync="TRUE">4.5(3.0.1)</idVersion>
</refSysID>
</RefSystem>
</refSysInfo>
<contInfo>
<ImgDesc>
<contentTyp>
<ContentTypCd Sync="TRUE" value="001"/>
</contentTyp>
<covDim>
<Band>
<dimDescrp Sync="TRUE">Band_1</dimDescrp>
<maxVal Sync="TRUE">110.736235</maxVal>
<minVal Sync="TRUE">0.017096</minVal>
<bitsPerVal Sync="TRUE">32</bitsPerVal>
<valUnit>
<UOM type="length"/>
</valUnit>
</Band>
</covDim>
</ImgDesc>
</contInfo>
</metadata>
