<?xml version="1.0" encoding="UTF-8" standalone="no"?>
<metadata>
<idinfo>
<citation>
<citeinfo>
<origin>Science Applications International Corporation (SAIC)</origin>
<pubdate>200907</pubdate>
<pubtime>Unknown</pubtime>
<title>IMAGE.BARE_EARTH_2008</title>
<geoform>SDE raster digital data</geoform>
<pubinfo>
<pubplace>Chantilly, VA</pubplace>
<publish>Science Applications International Corp. (SAIC)</publish>
</pubinfo>
<othercit>Reflective Surface DEM</othercit>
<onlink>Server=10.1.11.144; Service=5151; User=image; Version=SDE.DEFAULT</onlink>
<ftname>IMAGE.BARE_EARTH_2008</ftname>
</citeinfo>
</citation>
<descript>
<abstract>LIDAR data is remotely sensed high-resolution elevation data collected by an airborne collection platform. Using a combination of laser rangefinding, GPS positioning and inertial measurement technologies; LIDAR instruments are able to make highly detailed Digital Elevation Models (DEMs) of the earth's terrain, man-made structures and vegetation. This data was collected at a resolution of 1 meter and includes reflective surface, last return, bare earth model and intensity data in separate data files.</abstract>
<purpose>LIDAR data is used for 3D visualization, elevation based analysis and for feature extraction.</purpose>
<supplinf>Reflective surface data represents the DEM created by laser energy reflected from the first surface encountered by the laser pulse. Some energy may continue beyond this initial surface to be reflected by a subsequent surface as represented by the Last Return data. Intensity information is captured from the Reflective Surface pulse and indicates the relative energy returned to the sensor as compared to the energy transmitted. The Intensity image is not calibrated or normalized but indicates differences in energy absorption due to the the interaction of the surface materials with laser energy at the wavelength transmitted by the sensor. Bare earth model is created by identifying those returns that fall on the ground surface and interpolating a surface between these points. In this manner buildings and vegetation are removed from Bare Earth Model. This data set does not include bridges and overpasses in the Bare Earth model as the delineation point for these structures is not reliably discernable in the LiDAR data.</supplinf>
<langdata>en</langdata>
</descript>
<timeperd>
<timeinfo>
<sngdate>
<caldate>The year (and optionally month, or month and day) for which the data set corresponds to the ground.</caldate>
</sngdate>
<rngdates>
<begdate>20080312</begdate>
<enddate>20081223</enddate>
</rngdates>
</timeinfo>
<current>ground condition</current>
</timeperd>
<status>
<progress>Complete</progress>
<update>Irregular</update>
</status>
<spdom>
<bounding>
<westbc>-77.125651</westbc>
<eastbc>-76.903273</eastbc>
<northbc>38.999587</northbc>
<southbc>38.787958</southbc>
</bounding>
<lboundng>
<leftbc>389115.783170</leftbc>
<rightbc>408378.783170</rightbc>
<bottombc>124475.365051</bottombc>
<topbc>147960.365051</topbc>
</lboundng>
</spdom>
<keywords>
<theme>
<themekt>Light Distancing And Ranging</themekt>
<themekey>LIDAR</themekey>
</theme>
<theme>
<themekt>Digital Elevation Model</themekt>
<themekey>DEM</themekey>
</theme>
<theme>
<themekt>Average ground sample distance 1m</themekt>
<themekey>1meter resolution elevation model</themekey>
</theme>
<theme>
<themekt>Surface of first measurable laser pulses detected by sensor</themekt>
<themekey>Reflective Surface</themekey>
</theme>
<place>
<placekt>U.S. Department of Commerce, 1995, Countries, Dependencies, Areas of Special Sovereignty, and Their Principal Administrative Divisions (Federal Information Processing Standard (FIPS) 10-4): Washington, D.C., National Institute of Standards and Technology</placekt>
<placekey>US</placekey>
</place>
<place>
<placekt>U.S. Department of Commerce, 1987, Codes for the Indentification of the States, the District of Columbia and the outlying areas of the United States, and associated areas (Federal Information Processing Standards (FIPS) 5-2): Washington, D.C., National Institute of Standards and Technology.</placekt>
<placekey>DC</placekey>
</place>
<place>
<placekt>City</placekt>
<placekey>Washington</placekey>
</place>
</keywords>
<accconst>None</accconst>
<useconst>None. However, users should be aware that temporal changes may have occurred since this data set was collected and some parts of this data may no longer represent actual surface conditions. Users should not use this data for critical applications without a full awareness of it's limitations.</useconst>
<ptcontac>
<cntinfo>
<cntorgp>
<cntorg>National Geospatial-Intelligence Agency</cntorg>
</cntorgp>
</cntinfo>
</ptcontac>
<datacred>n/a</datacred>
<secinfo>
<secsys>US DOD</secsys>
<secclass>Unclassified</secclass>
<sechandl>Information Unclassified - distribution limited by Point of Contact</sechandl>
</secinfo>
<native>Microsoft Windows XP Version 5.1 (Build 2600) Service Pack 3; ESRI ArcCatalog 9.2.6.1500</native>
<natvform>SDE Raster Dataset</natvform>
</idinfo>
<dataqual>
<logic>All IMG formatted image data are validated using commercial GIS software to ensure proper formatting and loading before delivery. This validation procedure ensures that data on delivery media is in correct physical format and is readable.</logic>
<complete>LIDAR raster data is visually inspected for completeness to ensure that any gaps between flight lines or loss of signal represents less than 5% of required collection area. Areas of open water where loss of LIDAR signal is common are corrected to the best estimate of water level at time of collection. Areas of NODATA resulting from differences between required collection area and minimum bounding rectangle and/or areas of missing data are coded -999 to ensure compatibility between ESRI production software and ERDAS delivery format. LIDAR is self-illuminating and has minimal cloud penetration capability. Water vapor in steam plumes or particulates in smoke may cause reflection of LIDAR signals and loss of elevation information beneath these plumes. Glass structures and roofs may appear transparent to the LIDAR signal and therefore may not register on the reflective surface. Some asphalt formulations have been shown to absorb topographic LIDAR wavelength energy resulting in "pitting" of roof surfaces using this material.</complete>
<posacc>
<horizpa>
<horizpar>Horizontal accuracy of the source LIDAR data can be characterized by the rule of thumb of 1/2000th of flying height or roughly 0.5 meters for this collect. Spot checks in the field routinely are measured at 1/4000th of flying height but are not formally characterized.</horizpar>
<qhorizpa>
<horizpav>Better than 1 m</horizpav>
<horizpae>Estimated horizontal accuracy of extracted feature data. Informal assessments indicate that horizontal accuracy is better than 1 m based on comparisons with ortho imagery.</horizpae>
</qhorizpa>
</horizpa>
<vertacc>
<vertaccr>The vertical accuracy was tested following the National Standards for Spatial Data Accuracy. Washington DC:
Based on a total of 45 control points, the average error between the bare earth LiDAR coverage and the control was 0.004m with a root mean square error (RMSE) of 0.107m.
Washington DC Mall Area:
The vertical accuracy was tested following the National Standards for Spatial Data Accuracy. Based on a total of 7 control points, the average error between the bare earth LiDAR coverage and the control was 0.034 m with a root mean square error (RMSE) of 0.095 m.</vertaccr>
<qvertpa>
<vertaccv>0.034 m</vertaccv>
<vertacce>Average error between Bare Earth LiDAR coverage and control</vertacce>
</qvertpa>
<qvertpa>
<vertaccv>0.107 m</vertaccv>
<vertacce>root mean square error (RMSE)</vertacce>
</qvertpa>
</vertacc>
</posacc>
<lineage>
<srcinfo>
<srccite>
<citeinfo>
<origin>Woolpert Inc</origin>
<pubdate>Unpublished Material</pubdate>
<title>LIDAR data collection</title>
<othercit>Washington DC:
- Type of Scanner = Leica Systems ALS50 II
- Data Acquisition Height = 6,500-feet AGL
- Scanner Field of View = 44 degrees
- Scan Frequency = 41.3 Hertz
- Pulse Repetition Rate - 114.6 Kilohertz
- Aircraft Speed = 140 KIAS
- Swath Width = 1600-meters
- Nominal Ground Sample Distance = 3.0-feet
- Number of Returns Per Pulse = 2 (first and last)
- Distance Between Flight Lines = 1165-meters
Washington DC Mall Area:
- Type of Scanner = Leica Systems ALS50 II
- Data Acquisition Height = 4,000-feet AGL
- Scanner Field of View = 40 degrees
- Scan Frequency = 36.5 Hertz
- Pulse Repetition Rate - 72.0 Kilohertz
- Aircraft Speed = 126 KIAS
- Swath Width = 887.6-feet
- Nominal Ground Sample Distance = 3.0-feet
- Number of Returns Per Pulse = 2 (first and last)
- Distance Between Flight Lines = 621-feet</othercit>
</citeinfo>
</srccite>
<srcscale>3000</srcscale>
<typesrc>DVD-ROM</typesrc>
<srctime>
<timeinfo>
<rngdates>
<begdate>20080312</begdate>
<enddate>20081223</enddate>
</rngdates>
</timeinfo>
<srccurr>ground condition</srccurr>
</srctime>
<srccitea>LIDAR</srccitea>
<srccontr>Raw spatial elevation information</srccontr>
</srcinfo>
<srcinfo>
<srccite>
<citeinfo>
<origin>Woolpert LLP</origin>
<pubdate>Unpublished Material</pubdate>
<title>Collection System Calibration</title>
<othercit>The ALS50 calibration and system performance is verified on a periodic basis using Woolpert's calibration range. The calibration range consists of a large building and runway. The edges of the building and control points along the runway have been located using conventional survey methods. Inertial measurement unit (IMU) misalignment angles and horizontal accuracy are calculated by comparing the position of the building edges between opposing flight lines. The scanner scale factor and vertical accuracy is calculated through comparison of LiDAR data against control points along the runway. Field calibration is performed on all flight lines to refine the IMU misalignment angles. IMU misalignment angles are calculated from the relative displacement of features within the overlap region of adjacent (and opposing) flight lines. The raw LiDAR data is reduced using the refined misalignment angles.</othercit>
</citeinfo>
</srccite>
<srctime>
<timeinfo>
<rngdates>
<begdate>20080312</begdate>
<enddate>20081223</enddate>
</rngdates>
</timeinfo>
</srctime>
</srcinfo>
<procstep>
<procdesc>Process Step:
Production Narrative: Using a Leica Systems ALS50 Light Detection And Ranging (LiDAR) system, 259 flight lines of high density (submeter ground sample distance) data were collected over Washington DC (approximately 8,253 square kilometers). Two returns were recorded for each laser pulse along with an intensity value for each return. A total of nine missions were flown over a nine day period: October 31, 2008, November 10, 2008, November 11, 2008, December 6, 2008, December 7, 2008, December 8, 2008, December 13, 2008 and December 23, 2008. One airborne global positioning system (GPS) base station was used to support the LiDAR data acquisition: Woolpert placed base station (Woolpert_Manassas). In addition, 45 control points surveyed through static methods were tied into the Woolpert placed base station.
Another 6 flight lines of high density (submeter ground sample distance) data were collected over Washington DC Mall area (approximately 43.5 square kilometers). Two returns were recorded for each laser pulse along with an intensity value for each return. A total of two missions were flown over a two day period: March 12, 2008 and March 21, 2008. Two airborne global positioning system (GPS) base stations were used to support the LiDAR data acquisition: GAI B (NGS point) and USNO (NGS CORS). In addition, twelve control points were surveyed through static methods tied into NGS control point GAI B and USNO.
Airborne GPS data was differentially processed and integrated with the post processed IMU data to derive a smoothed best estimate of trajectory (SBET). The SBET was used to reduce the LiDAR slant range measurements to a raw reflective surface for each flight line. The coverage was classified to extract a bare earth digital elevation model (DEM) and separate last returns. Four layers of coverage were delivered in the ArcINFO ArcGrid binary format: reflective surface, bare-earth, last return and intensity. System Parameters:
Washington DC:
- Type of Scanner = Leica Systems ALS50 II
- Data Acquisition Height = 6,500-feet AGL
- Scanner Field of View = 44 degrees
- Scan Frequency = 41.3 Hertz
- Pulse Repetition Rate - 114.6 Kilohertz
- Aircraft Speed = 140 KIAS
- Swath Width = 1600-meters
- Nominal Ground Sample Distance = 3.0-feet
- Number of Returns Per Pulse = 2 (first and last)
- Distance Between Flight Lines = 1165-meters
Washington DC Mall Area:
- Type of Scanner = Leica Systems ALS50 II
- Data Acquisition Height = 4,000-feet AGL
- Scanner Field of View = 40 degrees
- Scan Frequency = 36.5 Hertz
- Pulse Repetition Rate - 72.0 Kilohertz
- Aircraft Speed = 126 KIAS
- Swath Width = 887.6-feet
- Nominal Ground Sample Distance = 3.0-feet
- Number of Returns Per Pulse = 2 (first and last)
- Distance Between Flight Lines = 621-feet</procdesc>
<procdate>200803, 200812</procdate>
</procstep>
<procstep>
<procdesc>System Calibration Procedure:
The ALS50 calibration and system performance is verified on a periodic basis using Woolpert's calibration range. The calibration range consists of a large building and runway. The edges of the building and control points along the runway have been located using conventional survey methods. Inertial measurement unit (IMU) misalignment angles and horizontal accuracy are calculated by comparing the position of the building edges between opposing flight lines. The scanner scale factor and vertical accuracy is calculated through comparison of LiDAR data against control points along the runway. Field calibration is performed on all flight lines to refine the IMU misalignment angles. IMU misalignment angles are calculated from the relative displacement of features within the overlap region of adjacent (and opposing) flight lines. The raw LiDAR data is reduced using the refined misalignment angles.</procdesc>
<procdate>200803, 200812</procdate>
</procstep>
<procstep>
<procdesc>Post Processing Procedure:
Airborne GPS is differentially processed using the GrafNAV V4.40 software by Waypoint Consulting of Calgary, Alberta, Canada. The PDOP and distance separation by day is as follows:
March 12, 2008 (GAI B):
Average PDOP = 1.7
Average Distance Separation: 40 km
March 21, 2008 (USNO):
Average PDOP = 1.5
Average Distance Separation: 15 km
October 31, 2008:
Average PDOP = 1.5
Average Distance Separation: 70 km
November 10, 2008:
Average PDOP = 1.5
Average Distance Separation: 45 km
November 11, 2008:
Average PDOP = 1.3
Average Distance Separation: 34 km
December 6, 2008:
Average PDOP = 1.4
Average Distance Separation: 30 km
December 7, 2008:
Average PDOP = 1.4
Average Distance Separation: 30 km
December 8, 2008:
Average PDOP = 1.5
Average Distance Separation: 95 km
December 13, 2008_A:
Average PDOP = 1.3
Average Distance Separation: 45 km
December 13, 2008_B:
Average PDOP = 1.3
Average Distance Separation: 50 km
December 23, 2008:
Average PDOP = 1.5
Average Distance Separation: 60 km
IMU data is processed using the IPAS Pro software by Leica.
The reflective surface is derived using the ALS Post Processor software by Leica Geosystems GIS &amp; Mapping Division of Atlanta, Georgia.
The classification and quality control (QC) of LiDAR data is carried out using a combination of Woolpert proprietary software and TerraScan software by Terrasolid Limited of Helinski, Finland.</procdesc>
<procdate>200803, 200812</procdate>
</procstep>
<procstep>
<procdesc>Data Consolidation and Review: Raw LiDAR data is delivered to contractor by collector. Four layers of coverage were delivered in the ArcINFO ArcGrid binary format: reflective surface, bare-earth, last return and intensity. These tiles are converted &amp; merged into larger ESRI GRID files and reviewed for quality and consistency. Preliminary Bare Earth surface is reviewed and edited as required to remove or add features to bare earth surface as required by cartographic requirements</procdesc>
<procdate>200907</procdate>
</procstep>
<procstep>
<procdesc>Data Conversion: Merged tiles of ESRI GRID formatted data are converted to ERDAS Imagine image format. Areas coded as NODATA in ESRI GRID format are converted to -999 in ERDAS IMG format. IMG files are encoded with projection information for proper zone and datum as part of conversion process. Metadata is added.</procdesc>
<procdate>200907</procdate>
</procstep>
<procstep>
<procdesc>Metadata imported.</procdesc>
<srcused>W:\LIDAR_CITIES\DC_01\metadata\reflective_surface.xml</srcused>
</procstep>
<procstep>
<procdesc>Metadata imported.</procdesc>
<srcused>G:\Washington_DC_2009\reflective_surface_return.xml</srcused>
<date>20091002</date>
<time>14261200</time>
</procstep>
<procstep>
<procdesc>Metadata imported.</procdesc>
<srcused>Z:\Lidar2008_Pilot\DCReflectiveSurface_Project.img.xml</srcused>
<date>20100927</date>
<time>15282400</time>
</procstep>
</lineage>
<cloud>0</cloud>
</dataqual>
<spdoinfo>
<direct>Raster</direct>
<rastinfo>
<rasttype>Pixel</rasttype>
<rowcount>23485</rowcount>
<colcount>19263</colcount>
<vrtcount>1</vrtcount>
<rastxsz>1.000000</rastxsz>
<rastysz>1.000000</rastysz>
<rastbpp>32</rastbpp>
<rastorig>Upper Left</rastorig>
<rastcmap>FALSE</rastcmap>
<rastcomp>LZ77</rastcomp>
<rastband>1</rastband>
<rastdtyp>pixel codes</rastdtyp>
<rastplyr>TRUE</rastplyr>
<rastifor>SDR</rastifor>
</rastinfo>
</spdoinfo>
<spref>
<horizsys>
<planar>
<planci>
<plance>row and column</plance>
<coordrep>
<absres>1.000000</absres>
<ordres>1.000000</ordres>
</coordrep>
<plandu>meters</plandu>
</planci>
</planar>
<geodetic>
<horizdn>North American Datum of 1983</horizdn>
<ellips>Geodetic Reference System 80</ellips>
<semiaxis>6378137.000000</semiaxis>
<denflat>298.257222</denflat>
</geodetic>
<cordsysn>
<geogcsn>GCS_North_American_1983</geogcsn>
<projcsn>NAD_1983_StatePlane_Maryland_FIPS_1900</projcsn>
</cordsysn>
</horizsys>
<vertdef>
<altsys>
<altdatum>North American Vertical Datum of 1988</altdatum>
<altres>.01</altres>
<altunits>meters</altunits>
<altenc>Explicit elevation coordinate included with horizontal coordinates</altenc>
</altsys>
</vertdef>
</spref>
<eainfo>
<detailed>
<enttyp>
<enttypl>
Band_1</enttypl>
<enttypd>Single Band Image - IMAGINE Format</enttypd>
<enttypds>ERDAS</enttypds>
</enttyp>
<attr>
<attrlabl>ObjectID</attrlabl>
<attrdef>Internal feature number.</attrdef>
<attrdefs>ESRI</attrdefs>
<attrdomv>
<udom>Sequential unique whole numbers that are automatically generated.</udom>
</attrdomv>
</attr>
<attr>
<attrlabl>Value</attrlabl>
<attrdef>Elevation value, in meters</attrdef>
<attrdefs>ERDAS</attrdefs>
<attrdomv>
<rdom>
<rdommin>Unknown</rdommin>
<rdommax>Unknown</rdommax>
<attrunit>meters</attrunit>
<attrmres>.01</attrmres>
</rdom>
</attrdomv>
</attr>
<attr>
<attrlabl>Count</attrlabl>
<attrdef>Number of cells with this value</attrdef>
<attrdefs>ERDAS</attrdefs>
<attrdomv>
<udom>Elevation statistics captured internally in IMAGINE data structure</udom>
</attrdomv>
</attr>
</detailed>
</eainfo>
<distinfo>
<distrib>
<cntinfo>
<cntorgp>
<cntorg>National Geospatial-Intelligence Agency</cntorg>
</cntorgp>
</cntinfo>
</distrib>
<resdesc>DVD</resdesc>
<distliab>No warranty expressed or implied is made by provider regarding the utility or the data on any other system, nor shall the act of distribution constitute any such warranty.</distliab>
<stdorder>
<nondig>ERDAS Imagine format on DVD</nondig>
<digform>
<digtinfo>
<transize>0.000</transize>
<dssize>0.000</dssize>
</digtinfo>
</digform>
<fees>None</fees>
<ordering>Upon request from distributor. Data release caveats may apply</ordering>
<turnarnd>Variable</turnarnd>
</stdorder>
</distinfo>
<metainfo>
<metd>20100927</metd>
<metc>
<cntinfo>
<cntorgp>
<cntorg>National Geospatial-Intelligence Agency (NGA)</cntorg>
<cntper>The person responsible for the metadata information.</cntper>
</cntorgp>
<cntaddr>
<addrtype>21300 Sunrise Valley Drive</addrtype>
<city>Reston</city>
<state>VA</state>
<postal>20191</postal>
<country>USA</country>
</cntaddr>
<cntvoice>l.</cntvoice>
</cntinfo>
</metc>
<metstdn>FGDC Content Standards for Digital Geospatial Metadata</metstdn>
<metstdv>FGDC-STD-001-1998</metstdv>
<mettc>local time</mettc>
<metextns>
<onlink>http://www.esri.com/metadata/esriprof80.html</onlink>
<metprof>ESRI Metadata Profile</metprof>
</metextns>
<metextns>
<onlink>http://www.esri.com/metadata/esriprof80.html</onlink>
<metprof>ESRI Metadata Profile</metprof>
</metextns>
<metextns>
<onlink>http://www.esri.com/metadata/esriprof80.html</onlink>
<metprof>ESRI Metadata Profile</metprof>
</metextns>
<metextns>
<onlink>http://www.esri.com/metadata/esriprof80.html</onlink>
<metprof>ESRI Metadata Profile</metprof>
</metextns>
<metextns>
<onlink>http://www.esri.com/metadata/esriprof80.html</onlink>
<metprof>ESRI Metadata Profile</metprof>
</metextns>
<metextns>
<onlink>http://www.esri.com/metadata/esriprof80.html</onlink>
<metprof>ESRI Metadata Profile</metprof>
</metextns>
<langmeta>en</langmeta>
</metainfo>
<Esri>
<CreaDate>20100927</CreaDate>
<CreaTime>15282400</CreaTime>
<SyncOnce>FALSE</SyncOnce>
<SyncDate>20230928</SyncDate>
<SyncTime>10314900</SyncTime>
<ModDate>20230928</ModDate>
<ModTime>10314900</ModTime>
<DataProperties>
<lineage>
<Process Date="20100604" Time="133911" ToolSource="C:\ESRI\ArcGIS\ArcToolbox\Toolboxes\Data Management Tools.tbx\CopyRaster">CopyRaster "E:\Lidar_Data_2009\Reflective Surface\DC_reflective_surface_11.img" C:\Client_Maps\LidarClip\DCClip\DCclip.mdb\DC_reflective_surface_11 # # # NONE NONE #</Process>
<Process Date="20100604" Time="135233" ToolSource="C:\ESRI\ArcGIS\ArcToolbox\Toolboxes\Data Management Tools.tbx\Clip">Clip C:\Client_Maps\LidarClip\DCClip\DCclip.mdb\DC_reflective_surface_11 "315917.796802463 4295382.71283471 334679.028252143 4318459.94418391" C:\Client_Maps\LidarClip\DCClip\DCclip.mdb\DC_reflective_surface_11_Cli C:\Client_Maps\LidarClip\DCClip\DCclip.mdb\DCBndyPly # ClippingGeometry</Process>
<Process Date="20100727" Time="144220" ToolSource="C:\ESRI\ArcGIS\ArcToolbox\Toolboxes\Data Management Tools.tbx\Clip">Clip C:\Client_Maps\LidarClip\DCClip\DCclip.mdb\DC_reflective_surface_11_Cli "324680.258454669 4303680.78504558 326314.972338395 4305315.4989454" P:\Lidar2008_Pilot\DCReflectiveSurface.img C:\Client_Maps\Ortho_Pilot_2010\Tilelayout.shp # NONE</Process>
