{
 "currentVersion": 11.5,
 "serviceDescription": "Lidar/Bare_Earth_2004",
 "name": "Lidar/Bare_Earth_2004",
 "description": "",
 "extent": {
  "xmin": 379640.54471221,
  "ymin": 119613.308450407,
  "xmax": 413084.54471221,
  "ymax": 152889.30845040703,
  "spatialReference": {
   "wkid": 26985,
   "latestWkid": 26985
  }
 },
 "initialExtent": {
  "xmin": 379640.54471221,
  "ymin": 119613.308450407,
  "xmax": 413084.54471221,
  "ymax": 152889.30845040703,
  "spatialReference": {
   "wkid": 26985,
   "latestWkid": 26985
  }
 },
 "fullExtent": {
  "xmin": 379640.54471221,
  "ymin": 119613.308450407,
  "xmax": 413084.54471221,
  "ymax": 152889.30845040703,
  "spatialReference": {
   "wkid": 26985,
   "latestWkid": 26985
  }
 },
 "sortableFields": "",
 "bandCount": 1,
 "pixelType": "F32",
 "minValues": [
  -12
 ],
 "maxValues": [
  158
 ],
 "meanValues": [
  60.616806156238
 ],
 "stdvValues": [
  32.540868992138
 ],
 "serviceProperties": "Center<\/MosaicMethod>First<\/MosaicOperator>true<\/SortAscending><\/LockImageID><\/TileOrderField>0<\/TileOrderBase>0.000000<\/AvgImageSpacingX>0.000000<\/AvgImageSpacingY>0.0<\/ViewPointX>0.0<\/ViewPointY>0.0<\/ViewPointDefShiftX>0.0<\/ViewPointDefShiftY>None<\/CompressionMethod>75<\/CompressionQuality>0.010000<\/CompressionTolerance>Bilinear<\/SamplingMethod><\/ImageServiceProperties><\/ImageServer>",
 "allowedFields": "",
 "hasMultidimensions": false,
 "pixelSizeX": 3,
 "pixelSizeY": 3.0000000000000027,
 "meanPixelSize": 3.0000000000000013,
 "datasetFormat": "TIFF",
 "uncompressedSize": 494614464,
 "blockWidth": 128,
 "blockHeight": 128,
 "compressionType": "LZW",
 "bandNames": [
  "Band_1"
 ],
 "allowCopy": true,
 "allowAnalysis": true,
 "itemAccess": false,
 "inspectionCapabilities": "",
 "noDataValue": -3.4028230607370965E38,
 "noDataValues": [
  -3.4028230607370965E38
 ],
 "minPixelSize": 0,
 "maxPixelSize": 0,
 "copyrightText": "",
 "serviceDataType": "esriImageServiceDataTypeGeneric",
 "serviceSourceType": "esriImageServiceSourceTypeDataset",
 "objectIdField": "",
 "fields": [],
 "capabilities": "Image,Metadata,Mensuration",
 "defaultMosaicMethod": "Center",
 "allowedMosaicMethods": "",
 "sortField": "",
 "sortValue": null,
 "sortAscending": true,
 "mosaicOperator": "First",
 "defaultCompressionQuality": 75,
 "defaultResamplingMethod": "Bilinear",
 "maxImageHeight": 4100,
 "maxImageWidth": 15000,
 "allowRasterFunction": true,
 "rasterFunctionInfos": [
  {
   "name": "None",
   "description": "",
   "help": ""
  }
 ],
 "rasterTypeInfos": [
  {
   "name": "Raster Dataset",
   "description": "Supports all ArcGIS Raster Datasets",
   "help": ""
  }
 ],
 "mensurationCapabilities": "Basic",
 "hasHistograms": true,
 "hasColormap": false,
 "hasRasterAttributeTable": false,
 "minScale": 0,
 "maxScale": 0,
 "exportTilesAllowed": false,
 "supportsStatistics": false,
 "supportsAdvancedQueries": false,
 "editFieldsInfo": null,
 "ownershipBasedAccessControlForRasters": null,
 "allowComputeTiePoints": false,
 "useStandardizedQueries": true,
 "advancedQueryCapabilities": {
  "useStandardizedQueries": true,
  "supportsStatistics": false,
  "supportsOrderBy": false,
  "supportsDistinct": false,
  "supportsPagination": false
 },
 "spatialReference": {
  "wkid": 26985,
  "latestWkid": 26985
 }
}
