<?xml version="1.0" encoding="UTF-8" standalone="no"?>
<metadata>
<idinfo>
<citation>
<citeinfo>
<origin>DC Office of the Chief Technology Officer</origin>
<pubdate>20041001</pubdate>
<title>IMAGE.DEM_2004_3M</title>
<geoform>SDE raster digital data</geoform>
<onlink>Server=10.1.11.144; Service=5151; User=image; Version=SDE.DEFAULT</onlink>
<lworkcit>
<citeinfo>
<origin>DC GIS</origin>
<title>DC Geographic Information System</title>
<geoform>vector digital data</geoform>
</citeinfo>
</lworkcit>
<ftname>IMAGE.DEM_2004_3M</ftname>
<pubinfo>
<publish>DC GIS</publish>
</pubinfo>
</citeinfo>
</citation>
<descript>
<abstract>Digital Elevation Model - 3m resolution. The dataset contains the 3m pixel digital elevation model for the Washington Area. LIDAR data provided by the Joint Precision Strike Demonstration Project Office of the US Army contained bare earth rasters used to create the 3m basemap. The buildings and tree canopies have been removed, but the bridges and other less noticeable features that affect bare earth elevations remain.
All DC GIS data is stored and exported in Maryland State Plane coordinates NAD 83 meters.
METADATA CONTENT IS IN PROCESS OF VALIDATION AND SUBJECT TO CHANGE.</abstract>
<purpose>This data is used for the planning and management of Washington, D.C. by local government agencies.</purpose>
<langdata>en</langdata>
</descript>
<timeperd>
<timeinfo>
<sngdate>
<caldate>20041001</caldate>
</sngdate>
</timeinfo>
<current>ground condition</current>
</timeperd>
<status>
<progress>Complete</progress>
<update>As needed</update>
</status>
<spdom>
<bounding>
<westbc>-77.235182</westbc>
<eastbc>-76.848854</eastbc>
<northbc>39.043988</northbc>
<southbc>38.743990</southbc>
</bounding>
<lboundng>
<leftbc>379640.544712</leftbc>
<rightbc>413084.544712</rightbc>
<bottombc>119613.308450</bottombc>
<topbc>152889.308450</topbc>
</lboundng>
</spdom>
<keywords>
<theme>
<themekt>none</themekt>
<themekey>LIDAR</themekey>
<themekey>Topography</themekey>
<themekey>Elevation</themekey>
<themekey>Bare Earth</themekey>
<themekey>imageryBaseMapsEarthCover</themekey>
</theme>
<place>
<placekey>Washington, D.C.</placekey>
<placekey>District of Columbia</placekey>
<placekey>DC</placekey>
<placekey>DC GIS</placekey>
<placekey>DCGIS</placekey>
</place>
</keywords>
<ptcontac>
<cntinfo>
<cntaddr>
<addrtype>mailing and physical address</addrtype>
<address>441 4th St NW, Suite 930 South</address>
<city>Washington</city>
<state>DC</state>
<postal>20001</postal>
<country>USA</country>
</cntaddr>
<cntemail>dcgis@dc.gov</cntemail>
<hours>8:30am - 5:30pm</hours>
<cntorgp>
<cntorg>Office of the Chief Technology Officer</cntorg>
<cntper>GIS Data Coordinator</cntper>
</cntorgp>
<cntfax>202-727-5660</cntfax>
</cntinfo>
</ptcontac>
<datacred>DC Office of the Chief Technology Officer</datacred>
<native>Microsoft Windows XP Version 5.1 (Build 2600) Service Pack 3; ESRI ArcCatalog 9.2.6.1500</native>
<natvform>SDE Raster Dataset</natvform>
<useconst>Acknowledgment of the DC Geographic Information Systems Program (DC GIS). The District of Columbia Government makes no claims as to the completeness, accuracy or content of any data contained hereon, and makes no representation of any kind, including, but not limited to, the warranty of the accuracy or fitness for a particular use, nor are any such warranties to be implied or inferred with respect to the information or data furnished herein.</useconst>
</idinfo>
<dataqual>
<attracc>
<attraccr>Validated by source/responsible agency. The 3 Meter Cartographic Base Map is an aggregate of the 1m source LIDAR to 3m pixels using the average of the input cells to determine the output z value used to compute the hillshade value. The buildings and tree canopies have been removed from the origianl LIDAR. However, bridges and other less noticeable features that affect bare earth elevations remain. More importantly, the source bare earth was processed with automated routines ONLY that remove about 85% of all the verticle features.</attraccr>
</attracc>
<logic>In process of validation by source and/or responsible agency. The source bare earth LIDAR was processed using automated methods only, so not all of the verticle features were removed from the LIDAR. Also, the source bare earth was corrected for vegetation and buildings, but still contains bridges and several small areas of single pixel lines containing zero values. Although aggregating the 1m LIDAR to 3m pixels will remove some off these edges, some verticle feature "anomolies" will still occur in appear in the basemap.</logic>
<complete>In process of validation by source and/or responsible agency.</complete>
<posacc>
<horizpa>
<horizpar>Unknown</horizpar>
</horizpa>
<vertacc>
<vertaccr>N/A</vertaccr>
</vertacc>
</posacc>
<lineage>
<srcinfo>
<srccite>
<citeinfo>
<origin>US Army - Joint Precision Strike Demonstration Project Office</origin>
<pubdate>10/2004</pubdate>
<title>Light Detection and Ranging (LIDAR) Data</title>
<othercit>Entire LIDAR data product includes:
- Digital Elevation Model (dem) - 32-bit floating point gridded matrix
- First Return DEM - designated by a1
- Last Return DEM - designated by a2
- Intensity Image (int) - 8-bit
- Color Coded Shaded Relief Image (clr) - 24-bit
- Merged Intensity-Color Coded Shaded Relief Image (mrg) - 24-bit</othercit>
</citeinfo>
</srccite>
<typesrc>raster</typesrc>
<srccitea>LIDAR data</srccitea>
<srccontr>location and attribution</srccontr>
</srcinfo>
<procstep>
<procdesc>Staff mosaiced the 1m LIDAR rasters at a 3 meter cell size using "Mosaic to New Raster" tool, with the following settings
Projection: MD State Plane 1983
Pixel Type: 32 bit signed
Cell size: 3 m
Number of bands: 1, First, last.
Staff aggregated the source bare earth 1m cells to 3m using the average of the input cells to determine the output cell value.</procdesc>
<srcused>E:\DCGISDATA_WORKSPACE\Metadata\TemplateDCGIS.shp.xml</srcused>
<procdate>3/16/06</procdate>
<proccont>
<cntinfo>
<cntorgp>
<cntorg>Office of the Chief Technology Officer</cntorg>
<cntper>GIS Data Coordinator</cntper>
</cntorgp>
<cntaddr>
<addrtype>mailing and physical address</addrtype>
<address>441 4th St NW, Suite 930 South</address>
<city>Washington</city>
<state>DC</state>
<postal>20001</postal>
<country>USA</country>
</cntaddr>
<cntfax>202-727-5660</cntfax>
<cntemail>dcgis@dc.gov</cntemail>
<hours>8:30am - 5:30pm</hours>
</cntinfo>
</proccont>
</procstep>
<procstep>
<procdesc>Metadata imported.</procdesc>
<srcused>E:\DCGISDATA_OTHER\CartographicBasemap\CartoBkGrnd_5m.sid.xml</srcused>
<date>20060316</date>
<time>12442800</time>
</procstep>
<procstep>
<procdesc>Metadata imported.</procdesc>
<srcused>E:\DCGISDATA_OTHER\CartographicBasemap\CartoBkGrnd_3m_DC.tif.xml</srcused>
<date>20061005</date>
<time>14433100</time>
</procstep>
<procstep>
<procdesc>Metadata imported.</procdesc>
<srcused>W:\DCGISDATA_OTHER\DEM2004\DEM2004_3m.img.xml</srcused>
<date>20070807</date>
<time>11383200</time>
</procstep>
</lineage>
</dataqual>
<spdoinfo>
<direct>Raster</direct>
<ptvctinf>
<sdtsterm>
<sdtstype>Entity point</sdtstype>
<ptvctcnt>1486</ptvctcnt>
</sdtsterm>
</ptvctinf>
<rastinfo>
<rasttype>Pixel</rasttype>
<rowcount>11092</rowcount>
<colcount>11148</colcount>
<rastxsz>3.000000</rastxsz>
<rastysz>3.000000</rastysz>
<rastbpp>32</rastbpp>
<vrtcount>1</vrtcount>
<rastorig>Upper Left</rastorig>
<rastcmap>FALSE</rastcmap>
<rastcomp>LZ77</rastcomp>
<rastband>1</rastband>
<rastdtyp>pixel codes</rastdtyp>
<rastifor>SDR</rastifor>
<rastplyr>TRUE</rastplyr>
</rastinfo>
</spdoinfo>
<spref>
<horizsys>
<planar>
<planci>
<plance>row and column</plance>
<coordrep>
<absres>3.000000</absres>
<ordres>3.000000</ordres>
</coordrep>
<plandu>meters</plandu>
</planci>
</planar>
<geodetic>
<horizdn>North American Datum of 1983</horizdn>
<ellips>Geodetic Reference System 80</ellips>
<semiaxis>6378137.000000</semiaxis>
<denflat>298.257222</denflat>
</geodetic>
<cordsysn>
<geogcsn>GCS_North_American_1983</geogcsn>
<projcsn>NAD_1983_StatePlane_Maryland_FIPS_1900</projcsn>
</cordsysn>
</horizsys>
<vertdef>
<altsys>
<altres>1.000000</altres>
<altenc>Explicit elevation coordinate included with horizontal coordinates</altenc>
</altsys>
</vertdef>
</spref>
<eainfo>
<detailed Name="Band_1">
<enttyp>
<enttypl Sync="TRUE">Band_1</enttypl>
<enttypt Sync="TRUE">Table</enttypt>
<enttypc Sync="TRUE">256</enttypc>
</enttyp>
<attr>
<attrlabl Sync="TRUE">ObjectID</attrlabl>
<attalias Sync="TRUE">ObjectID</attalias>
<attrtype Sync="TRUE">OID</attrtype>
<attwidth Sync="TRUE">4</attwidth>
<atprecis Sync="TRUE">0</atprecis>
<attscale Sync="TRUE">0</attscale>
<attrdef Sync="TRUE">Internal feature number.</attrdef>
<attrdefs Sync="TRUE">ESRI</attrdefs>
<attrdomv>
<udom Sync="TRUE">Sequential unique whole numbers that are automatically generated.</udom>
</attrdomv>
</attr>
<attr>
<attrlabl Sync="TRUE">Value</attrlabl>
<attalias Sync="TRUE">Value</attalias>
<attrtype Sync="TRUE">Integer</attrtype>
<attwidth Sync="TRUE">0</attwidth>
<atprecis Sync="TRUE">0</atprecis>
<attscale Sync="TRUE">0</attscale>
</attr>
<attr>
<attrlabl Sync="TRUE">Count</attrlabl>
<attalias Sync="TRUE">Count</attalias>
<attrtype Sync="TRUE">Integer</attrtype>
<attwidth Sync="TRUE">0</attwidth>
<atprecis Sync="TRUE">0</atprecis>
<attscale Sync="TRUE">0</attscale>
</attr>
</detailed>
<detailed Name="Band_2">
<enttyp>
<enttypl Sync="TRUE">Band_2</enttypl>
<enttypt Sync="TRUE">Table</enttypt>
<enttypc Sync="TRUE">256</enttypc>
</enttyp>
<attr>
<attrlabl Sync="TRUE">ObjectID</attrlabl>
<attalias Sync="TRUE">ObjectID</attalias>
<attrtype Sync="TRUE">OID</attrtype>
<attwidth Sync="TRUE">4</attwidth>
<atprecis Sync="TRUE">0</atprecis>
<attscale Sync="TRUE">0</attscale>
<attrdef Sync="TRUE">Internal feature number.</attrdef>
<attrdefs Sync="TRUE">ESRI</attrdefs>
<attrdomv>
<udom Sync="TRUE">Sequential unique whole numbers that are automatically generated.</udom>
</attrdomv>
</attr>
<attr>
<attrlabl Sync="TRUE">Value</attrlabl>
<attalias Sync="TRUE">Value</attalias>
<attrtype Sync="TRUE">Integer</attrtype>
<attwidth Sync="TRUE">0</attwidth>
<atprecis Sync="TRUE">0</atprecis>
<attscale Sync="TRUE">0</attscale>
</attr>
<attr>
<attrlabl Sync="TRUE">Count</attrlabl>
<attalias Sync="TRUE">Count</attalias>
<attrtype Sync="TRUE">Integer</attrtype>
<attwidth Sync="TRUE">0</attwidth>
<atprecis Sync="TRUE">0</atprecis>
<attscale Sync="TRUE">0</attscale>
</attr>
</detailed>
<detailed Name="Band_3">
<enttyp>
<enttypl Sync="TRUE">Band_3</enttypl>
<enttypt Sync="TRUE">Table</enttypt>
<enttypc Sync="TRUE">222</enttypc>
</enttyp>
<attr>
<attrlabl Sync="TRUE">ObjectID</attrlabl>
<attalias Sync="TRUE">ObjectID</attalias>
<attrtype Sync="TRUE">OID</attrtype>
<attwidth Sync="TRUE">4</attwidth>
<atprecis Sync="TRUE">0</atprecis>
<attscale Sync="TRUE">0</attscale>
<attrdef Sync="TRUE">Internal feature number.</attrdef>
<attrdefs Sync="TRUE">ESRI</attrdefs>
<attrdomv>
<udom Sync="TRUE">Sequential unique whole numbers that are automatically generated.</udom>
</attrdomv>
</attr>
<attr>
<attrlabl Sync="TRUE">Value</attrlabl>
<attalias Sync="TRUE">Value</attalias>
<attrtype Sync="TRUE">Integer</attrtype>
<attwidth Sync="TRUE">0</attwidth>
<atprecis Sync="TRUE">0</atprecis>
<attscale Sync="TRUE">0</attscale>
</attr>
<attr>
<attrlabl Sync="TRUE">Count</attrlabl>
<attalias Sync="TRUE">Count</attalias>
<attrtype Sync="TRUE">Integer</attrtype>
<attwidth Sync="TRUE">0</attwidth>
<atprecis Sync="TRUE">0</atprecis>
<attscale Sync="TRUE">0</attscale>
</attr>
</detailed>
</eainfo>
<distinfo>
<distrib>
<cntinfo>
<cntorgp>
<cntorg>DC Office of the Chief Technology Officer</cntorg>
<cntper>GIS Data Coordinator</cntper>
</cntorgp>
<cntaddr>
<addrtype>mailing and physical address</addrtype>
<address>441 4th St NW, Suite 930 South</address>
<city>Washington</city>
<state>DC</state>
<postal>20001</postal>
<country>USA</country>
</cntaddr>
<cntfax>(202) 727-5660</cntfax>
<cntemail>dcgis@dc.gov</cntemail>
<hours>8:30 am - 5:30 pm</hours>
</cntinfo>
</distrib>
<resdesc>Offline Data</resdesc>
<stdorder>
<digform>
<digtinfo>
<transize>0.000</transize>
<dssize>0.000</dssize>
</digtinfo>
</digform>
<ordering>Contact OCTO GIS.</ordering>
</stdorder>
<distliab>Acknowledgment of the DC Geographic Information Systems Program (DC GIS). The District of Columbia Government makes no claims as to the completeness, accuracy or content of any data contained hereon, and makes no representation of any kind, including, but not limited to, the warranty of the accuracy or fitness for a particular use, nor are any such warranties to be implied or inferred with respect to the information or data furnished herein.</distliab>
</distinfo>
<metainfo>
<metd>20090903</metd>
<metrd>12/16/05</metrd>
<metc>
<cntinfo>
<cntorgp>
<cntorg>D.C. Office of the Chief Technology Officer</cntorg>
<cntper>GIS Data Coordinator</cntper>
</cntorgp>
<cntaddr>
<addrtype>mailing and physical address</addrtype>
<address>441 4th St NW, Suite 930 South</address>
<city>Washington</city>
<state>DC</state>
<postal>20001</postal>
<country>USA</country>
</cntaddr>
<cntfax>(202) 727-5660</cntfax>
<cntemail>dcgis@dc.gov</cntemail>
<hours>8:30 am - 5 pm</hours>
<cntvoice>The telephone number by which individuals can speak to the organization or individual.</cntvoice>
</cntinfo>
</metc>
<metstdn>FGDC Content Standards for Digital Geospatial Metadata</metstdn>
<metstdv>FGDC-STD-001-1998</metstdv>
<mettc>local time</mettc>
<langmeta>en</langmeta>
</metainfo>
<Esri>
<CreaDate>20070807</CreaDate>
<CreaTime>11383200</CreaTime>
<SyncOnce>FALSE</SyncOnce>
<SyncDate>20230928</SyncDate>
<SyncTime>11005100</SyncTime>
<ModDate>20230928</ModDate>
<ModTime>11005100</ModTime>
<DataProperties>
<itemProps>
<itemName>DEM_2004_3M.tif</itemName>
<itemLocation>
<linkage>file://\\Gisimgprd1\e\Productionfiles\Lidar_2004\DEM_2004_3M.tif</linkage>
<protocol>Local Area Network</protocol>
</itemLocation>
<nativeExtBox>
<westBL>379640.544712</westBL>
<eastBL>413084.544712</eastBL>
<southBL>119613.308450</southBL>
<northBL>152889.308450</northBL>
<exTypeCode>1</exTypeCode>
</nativeExtBox>
<imsContentType>003</imsContentType>
</itemProps>
<coordRef>
<type>Projected</type>
<geogcsn>GCS_North_American_1983</geogcsn>
<csUnits>Linear Unit: Meter (1.000000)</csUnits>
<projcsn>NAD_1983_StatePlane_Maryland_FIPS_1900</projcsn>
<peXml>&lt;ProjectedCoordinateSystem xsi:type='typens:ProjectedCoordinateSystem' xmlns:xsi='http://www.w3.org/2001/XMLSchema-instance' xmlns:xs='http://www.w3.org/2001/XMLSchema' xmlns:typens='http://www.esri.com/schemas/ArcGIS/10.6'&gt;&lt;WKT&gt;PROJCS[&amp;quot;NAD_1983_StatePlane_Maryland_FIPS_1900&amp;quot;,GEOGCS[&amp;quot;GCS_North_American_1983&amp;quot;,DATUM[&amp;quot;D_North_American_1983&amp;quot;,SPHEROID[&amp;quot;GRS_1980&amp;quot;,6378137.0,298.257222101]],PRIMEM[&amp;quot;Greenwich&amp;quot;,0.0],UNIT[&amp;quot;Degree&amp;quot;,0.0174532925199433]],PROJECTION[&amp;quot;Lambert_Conformal_Conic&amp;quot;],PARAMETER[&amp;quot;False_Easting&amp;quot;,400000.0],PARAMETER[&amp;quot;False_Northing&amp;quot;,0.0],PARAMETER[&amp;quot;Central_Meridian&amp;quot;,-77.0],PARAMETER[&amp;quot;Standard_Parallel_1&amp;quot;,38.3],PARAMETER[&amp;quot;Standard_Parallel_2&amp;quot;,39.45],PARAMETER[&amp;quot;Latitude_Of_Origin&amp;quot;,37.66666666666666],UNIT[&amp;quot;Meter&amp;quot;,1.0],AUTHORITY[&amp;quot;EPSG&amp;quot;,26985]]&lt;/WKT&gt;&lt;XOrigin&gt;-36747100&lt;/XOrigin&gt;&lt;YOrigin&gt;-29091500&lt;/YOrigin&gt;&lt;XYScale&gt;121236910.21292362&lt;/XYScale&gt;&lt;ZOrigin&gt;-100000&lt;/ZOrigin&gt;&lt;ZScale&gt;10000&lt;/ZScale&gt;&lt;MOrigin&gt;-100000&lt;/MOrigin&gt;&lt;MScale&gt;10000&lt;/MScale&gt;&lt;XYTolerance&gt;0.001&lt;/XYTolerance&gt;&lt;ZTolerance&gt;0.001&lt;/ZTolerance&gt;&lt;MTolerance&gt;0.001&lt;/MTolerance&gt;&lt;HighPrecision&gt;true&lt;/HighPrecision&gt;&lt;WKID&gt;26985&lt;/WKID&gt;&lt;LatestWKID&gt;26985&lt;/LatestWKID&gt;&lt;/ProjectedCoordinateSystem&gt;</peXml>
</coordRef>
<RasterProperties>
<General>
<PixelDepth>32</PixelDepth>
<HasColormap>FALSE</HasColormap>
<CompressionType>LZW</CompressionType>
<NumBands>1</NumBands>
<Format>TIFF</Format>
<HasPyramids>TRUE</HasPyramids>
<SourceType>continuous</SourceType>
<PixelType>floating point</PixelType>
<NoDataValue>-3.4028231e+38</NoDataValue>
</General>
</RasterProperties>
<lineage>
<Process Date="20210227" Time="234118" ToolSource="c:\program files (x86)\arcgis\desktop10.7\ArcToolbox\Toolboxes\Data Management Tools.tbx\CopyRaster">CopyRaster "Database Connections\Connection to dcgisprd_raster.sde\IMAGE.DEM_2004_3M" T:\DataTeam\LIDAR2004\DEM_2004_3M.tif # # -3.402823e+38 NONE NONE # NONE NONE TIFF NONE</Process>
</lineage>
</DataProperties>
<ArcGISFormat>1.0</ArcGISFormat>
</Esri>
<mdLang>
<languageCode value="eng">
</languageCode>
<countryCode Sync="TRUE" value="USA"/>
</mdLang>
<mdChar>
<CharSetCd value="004"/>
</mdChar>
<mdHrLv>
<ScopeCd value="005"/>
</mdHrLv>
<mdContact>
<rpIndName>GIS Data Coordinator</rpIndName>
<rpOrgName>D.C. Office of the Chief Technology Officer</rpOrgName>
<rpCntInfo>
<cntPhone>
<voiceNum>The telephone number by which individuals can speak to the organization or individual.</voiceNum>
<faxNum>(202) 727-5660</faxNum>
</cntPhone>
<cntAddress addressType="both">
<delPoint>441 4th St NW, Suite 930 South</delPoint>
<city>Washington</city>
<adminArea>DC</adminArea>
<postCode>20001</postCode>
<country>US</country>
<eMailAdd>dcgis@dc.gov</eMailAdd>
</cntAddress>
<cntHours>8:30 am - 5 pm</cntHours>
</rpCntInfo>
<role>
<RoleCd value="007"/>
</role>
</mdContact>
<mdDateSt>20090903</mdDateSt>
<mdStanName>ArcGIS Metadata</mdStanName>
<mdStanVer>1.0</mdStanVer>
<distInfo>
<distributor>
<distorCont>
<rpIndName>GIS Data Coordinator</rpIndName>
<rpOrgName>DC Office of the Chief Technology Officer</rpOrgName>
<rpCntInfo>
<cntPhone>
<faxNum>(202) 727-5660</faxNum>
</cntPhone>
<cntAddress addressType="both">
<delPoint>441 4th St NW, Suite 930 South</delPoint>
<city>Washington</city>
<adminArea>DC</adminArea>
<postCode>20001</postCode>
<country>US</country>
<eMailAdd>dcgis@dc.gov</eMailAdd>
</cntAddress>
<cntHours>8:30 am - 5:30 pm</cntHours>
</rpCntInfo>
<role>
<RoleCd value="005"/>
</role>
</distorCont>
<distorOrdPrc>
<ordInstr>Contact OCTO GIS.</ordInstr>
</distorOrdPrc>
<distorFormat>
</distorFormat>
</distributor>
<distTranOps>
<onLineSrc>
<linkage>Server=10.1.11.144; Service=5151; User=image; Version=SDE.DEFAULT</linkage>
</onLineSrc>
</distTranOps>
<distFormat>
<formatName Sync="TRUE">Raster Dataset</formatName>
</distFormat>
</distInfo>
<dataIdInfo>
<idCitation>
<resTitle>Bare_Earth_2004</resTitle>
<date>
<pubDate>2004-10-01</pubDate>
</date>
<citRespParty>
<rpOrgName>DC Office of the Chief Technology Officer</rpOrgName>
<role>
<RoleCd value="006"/>
</role>
</citRespParty>
<citRespParty>
<rpOrgName>DC GIS</rpOrgName>
<role>
<RoleCd value="010"/>
</role>
</citRespParty>
<presForm>
<PresFormCd value="sde raster digital data"/>
</presForm>
<presForm>
<fgdcGeoform>SDE raster digital data</fgdcGeoform>
</presForm>
<collTitle>DC Geographic Information System</collTitle>
</idCitation>
<idAbs>Digital Elevation Model - 3m resolution. The dataset contains the 3m pixel digital elevation model for the Washington Area. LIDAR data provided by the Joint Precision Strike Demonstration Project Office of the US Army contained bare earth rasters used to create the 3m basemap. The buildings and tree canopies have been removed, but the bridges and other less noticeable features that affect bare earth elevations remain.
All DC GIS data is stored and exported in Maryland State Plane coordinates NAD 83 meters.
METADATA CONTENT IS IN PROCESS OF VALIDATION AND SUBJECT TO CHANGE.</idAbs>
<idPurp>This data is used for the planning and management of Washington, D.C. by local government agencies.</idPurp>
<idCredit>DC Office of the Chief Technology Officer</idCredit>
<idStatus>
<ProgCd value="001"/>
</idStatus>
<idPoC>
<rpIndName>GIS Data Coordinator</rpIndName>
<rpOrgName>Office of the Chief Technology Officer</rpOrgName>
<rpCntInfo>
<cntPhone>
<faxNum>202-727-5660</faxNum>
</cntPhone>
<cntAddress addressType="both">
<delPoint>441 4th St NW, Suite 930 South</delPoint>
<city>Washington</city>
<adminArea>DC</adminArea>
<postCode>20001</postCode>
<country>US</country>
<eMailAdd>dcgis@dc.gov</eMailAdd>
</cntAddress>
<cntHours>8:30am - 5:30pm</cntHours>
</rpCntInfo>
<role>
<RoleCd value="007"/>
</role>
</idPoC>
<resMaint>
<maintFreq>
<MaintFreqCd value="009"/>
</maintFreq>
</resMaint>
<placeKeys>
<keyword>Washington</keyword>
<keyword>D.C.</keyword>
<keyword>District of Columbia</keyword>
<keyword>DC</keyword>
<keyword>DC GIS</keyword>
<keyword>DCGIS</keyword>
</placeKeys>
<themeKeys>
<keyword>LIDAR</keyword>
<keyword>Topography</keyword>
<keyword>Elevation</keyword>
<keyword>Bare Earth</keyword>
<keyword>imageryBaseMapsEarthCover</keyword>
</themeKeys>
<searchKeys>
<keyword>LIDAR</keyword>
<keyword>Topography</keyword>
<keyword>Elevation</keyword>
<keyword>Bare Earth</keyword>
<keyword>imageryBaseMapsEarthCover</keyword>
<keyword>Washington</keyword>
<keyword>D.C.</keyword>
<keyword>District of Columbia</keyword>
<keyword>DC</keyword>
<keyword>DC GIS</keyword>
<keyword>DCGIS</keyword>
</searchKeys>
<resConst>
<Consts>
<useLimit>Acknowledgment of the DC Geographic Information Systems Program (DC GIS). The District of Columbia Government makes no claims as to the completeness, accuracy or content of any data contained hereon, and makes no representation of any kind, including, but not limited to, the warranty of the accuracy or fitness for a particular use, nor are any such warranties to be implied or inferred with respect to the information or data furnished herein.</useLimit>
</Consts>
</resConst>
<resConst>
<LegConsts>
<useLimit>Acknowledgment of the DC Geographic Information Systems Program (DC GIS). The District of Columbia Government makes no claims as to the completeness, accuracy or content of any data contained hereon, and makes no representation of any kind, including, but not limited to, the warranty of the accuracy or fitness for a particular use, nor are any such warranties to be implied or inferred with respect to the information or data furnished herein.</useLimit>
</LegConsts>
</resConst>
<aggrInfo>
<aggrDSName>
<resTitle>DC Geographic Information System</resTitle>
<citRespParty>
<rpOrgName>DC GIS</rpOrgName>
<role>
<RoleCd value="006"/>
</role>
</citRespParty>
<presForm>
<PresFormCd value="005"/>
</presForm>
<presForm>
<fgdcGeoform>vector digital data</fgdcGeoform>
</presForm>
</aggrDSName>
<assocType>
<AscTypeCd value="002"/>
</assocType>
</aggrInfo>
<spatRpType>
<SpatRepTypCd value="002"/>
</spatRpType>
<dataLang>
<languageCode value="eng"/>
<countryCode Sync="TRUE" value="USA"/>
</dataLang>
<tpCat>
<TopicCatCd value="006"/>
</tpCat>
<tpCat>
<TopicCatCd value="010"/>
</tpCat>
<envirDesc>Microsoft Windows XP Version 5.1 (Build 2600) Service Pack 3; ESRI ArcCatalog 9.2.6.1500</envirDesc>
<dataExt>
<geoEle>
<GeoBndBox>
<exTypeCode>true</exTypeCode>
<westBL>-77.235182</westBL>
<eastBL>-76.848854</eastBL>
<northBL>39.043988</northBL>
<southBL>38.743990</southBL>
</GeoBndBox>
</geoEle>
</dataExt>
<dataExt>
<exDesc>ground condition</exDesc>
<tempEle>
<TempExtent>
<exTemp>
<TM_Instant>
<tmPosition>2004-10-01</tmPosition>
</TM_Instant>
</exTemp>
</TempExtent>
